BEGIN:VCALENDAR
VERSION:2.0
PRODID:-//Cevi Region Basel - ECPv6.15.20//NONSGML v1.0//EN
CALSCALE:GREGORIAN
METHOD:PUBLISH
X-ORIGINAL-URL:https://cevibasel.ch
X-WR-CALDESC:Events for Cevi Region Basel
REFRESH-INTERVAL;VALUE=DURATION:PT1H
X-Robots-Tag:noindex
X-PUBLISHED-TTL:PT1H
BEGIN:VTIMEZONE
TZID:Europe/Zurich
BEGIN:DAYLIGHT
TZOFFSETFROM:+0100
TZOFFSETTO:+0200
TZNAME:CEST
DTSTART:20190331T010000
END:DAYLIGHT
BEGIN:STANDARD
TZOFFSETFROM:+0200
TZOFFSETTO:+0100
TZNAME:CET
DTSTART:20191027T010000
END:STANDARD
BEGIN:DAYLIGHT
TZOFFSETFROM:+0100
TZOFFSETTO:+0200
TZNAME:CEST
DTSTART:20200329T010000
END:DAYLIGHT
BEGIN:STANDARD
TZOFFSETFROM:+0200
TZOFFSETTO:+0100
TZNAME:CET
DTSTART:20201025T010000
END:STANDARD
BEGIN:DAYLIGHT
TZOFFSETFROM:+0100
TZOFFSETTO:+0200
TZNAME:CEST
DTSTART:20210328T010000
END:DAYLIGHT
BEGIN:STANDARD
TZOFFSETFROM:+0200
TZOFFSETTO:+0100
TZNAME:CET
DTSTART:20211031T010000
END:STANDARD
END:VTIMEZONE
BEGIN:VTIMEZONE
TZID:Europe/Paris
BEGIN:DAYLIGHT
TZOFFSETFROM:+0100
TZOFFSETTO:+0200
TZNAME:CEST
DTSTART:20190331T010000
END:DAYLIGHT
BEGIN:STANDARD
TZOFFSETFROM:+0200
TZOFFSETTO:+0100
TZNAME:CET
DTSTART:20191027T010000
END:STANDARD
BEGIN:DAYLIGHT
TZOFFSETFROM:+0100
TZOFFSETTO:+0200
TZNAME:CEST
DTSTART:20200329T010000
END:DAYLIGHT
BEGIN:STANDARD
TZOFFSETFROM:+0200
TZOFFSETTO:+0100
TZNAME:CET
DTSTART:20201025T010000
END:STANDARD
BEGIN:DAYLIGHT
TZOFFSETFROM:+0100
TZOFFSETTO:+0200
TZNAME:CEST
DTSTART:20210328T010000
END:DAYLIGHT
BEGIN:STANDARD
TZOFFSETFROM:+0200
TZOFFSETTO:+0100
TZNAME:CET
DTSTART:20211031T010000
END:STANDARD
END:VTIMEZONE
BEGIN:VEVENT
DTSTART;VALUE=DATE:20200818
DTEND;VALUE=DATE:20200819
DTSTAMP:20260423T123359
CREATED:20191224T130216Z
LAST-MODIFIED:20200818T235113Z
UID:78000-1597708800-1597795199@cevibasel.ch
SUMMARY:Sommernachtsfest
DESCRIPTION:
URL:https://cevibasel.ch/veranstaltung/sommernachtsfest-2/
END:VEVENT
BEGIN:VEVENT
DTSTART;TZID=Europe/Paris:20200818T183000
DTEND;TZID=Europe/Paris:20200818T223000
DTSTAMP:20260423T123359
CREATED:20190726T125020Z
LAST-MODIFIED:20200703T100650Z
UID:75475-1597775400-1597789800@cevibasel.ch
SUMMARY:Sommernachtsfest
DESCRIPTION:MIT DIESEM FEST BEDANKEN WIR UNS BEI DIR FÜR DEIN ENGAGEMENT IM CEVI REGION BASEL. \nWir freuen uns auf einen gemütlichen Abend mit feinem Essen\, Musik\, Unterhaltung und tollen Begegnungen. \nEingeladen sind alle YMCA Members und sonstige Mitarbeitende des Cevi Region Basel ab 17 Jahren. \nWir treffen uns am Dienstag\, 18. August 2020 um 18:30 Uhr beim Spittelmatthof in Riehen (Tramhaltestelle «Eglisee»). \n  \nAnmeldung bis Montag\, 10. August 2020 an nicole.leuenberger@cevibasel.ch oder mit unterstehendem Formular. Dieses Mal muss jede Person einzeln angemeldet werden\, um so die Vorgaben des Contact Tracing zu erfüllen. \n\nDas Sommernachtsfest findet bei jedem Wetter statt.\nWer mit dem Auto kommt\, soll das Auto bitte beim Eglisee abstellen. Beim Hof darf nicht parkiert werden.\n\n  \nWird geladen…
URL:https://cevibasel.ch/veranstaltung/sommernachtsfest/
LOCATION:Spittelmatthof\, Spittelmattweg 31\, Riehen\, 4125\, Switzerland
END:VEVENT
END:VCALENDAR