BEGIN:VCALENDAR
VERSION:2.0
PRODID:-//Cevi Region Basel - ECPv6.15.20//NONSGML v1.0//EN
CALSCALE:GREGORIAN
METHOD:PUBLISH
X-WR-CALNAME:Cevi Region Basel
X-ORIGINAL-URL:https://cevibasel.ch
X-WR-CALDESC:Events for Cevi Region Basel
REFRESH-INTERVAL;VALUE=DURATION:PT1H
X-Robots-Tag:noindex
X-PUBLISHED-TTL:PT1H
BEGIN:VTIMEZONE
TZID:Europe/Zurich
BEGIN:DAYLIGHT
TZOFFSETFROM:+0100
TZOFFSETTO:+0200
TZNAME:CEST
DTSTART:20190331T010000
END:DAYLIGHT
BEGIN:STANDARD
TZOFFSETFROM:+0200
TZOFFSETTO:+0100
TZNAME:CET
DTSTART:20191027T010000
END:STANDARD
BEGIN:DAYLIGHT
TZOFFSETFROM:+0100
TZOFFSETTO:+0200
TZNAME:CEST
DTSTART:20200329T010000
END:DAYLIGHT
BEGIN:STANDARD
TZOFFSETFROM:+0200
TZOFFSETTO:+0100
TZNAME:CET
DTSTART:20201025T010000
END:STANDARD
BEGIN:DAYLIGHT
TZOFFSETFROM:+0100
TZOFFSETTO:+0200
TZNAME:CEST
DTSTART:20210328T010000
END:DAYLIGHT
BEGIN:STANDARD
TZOFFSETFROM:+0200
TZOFFSETTO:+0100
TZNAME:CET
DTSTART:20211031T010000
END:STANDARD
END:VTIMEZONE
BEGIN:VEVENT
DTSTART;TZID=Europe/Zurich:20200824T180000
DTEND;TZID=Europe/Zurich:20200824T233000
DTSTAMP:20260423T123226
CREATED:20200616T160624Z
LAST-MODIFIED:20200824T085327Z
UID:81728-1598292000-1598311800@cevibasel.ch
SUMMARY:Jubiläumsfest zu 20 Jahren Ten Sing Basel
DESCRIPTION:HerzlicheEinladung  zumJubiläumsfest zu 20 Jahren Ten Sing Basel a m Mittwoch\, 24. Juni2020 ab 18.00 Uhr in der Orangerie in den Meriangärten  \nDas Fest soll ehemalige und aktuelle Ten Singer*innenvereinen und den langjährigen Bestand dieser erfolgreichen Jugendarbeit feiern.Ten Sing Basel ist so viel mehr als die Show\, die wir am Ende des Jahrespräsentieren. Dahinter stehen nicht nur die Teilnehmenden und das Leitungsteam\,sondern auch eine umfassende Unterstützung des Cevi Basel\, unsererPassivmitglieder\, vieler kleinen und grossen Helfern\, Unterstützern\, Freundenund Familie\, zahlreichen Personen und Gruppen die uns im Gebet Rückendeckung gebenund in Gedanken begleiten. Dafür möchten wir uns von ganzem Herzen bedanken!  \nAm Fest wird es ein süsses Buffet von Leslie’sCupcakes geben sowie eine Sirup-Bar und lokales Bier. Zwei Baristi verwöhnen unsmit frisch gebrühtem Kaffee und die Vito Pizza Bros. schauen mit ihrem Pizza Bike vorbei. Zudem steht Gaspard von Druckbus mit seiner mobilen Siebdruckstation bereit (#supportyourlocals). Ein vomDesign-Workshop entwickeltes Motiv kann somit auf alle – vorzugsweise hellen –Textilien gedruckt werden. Taschen liegen bereit\, alles andere darf man selbstmitbringen und bedrucken. Weitere Aktionen und Programmpunkte tragen dazu bei\,die Entstehung und Entwicklung des Ten Sing Basel in lebhafter Erinnerung zubehalten.  \nWir freuen uns auf ein buntes und liebevollesFest! 
URL:https://cevibasel.ch/veranstaltung/jubilaeumsfest-zu-20-jahren-ten-sing-basel/
LOCATION:Orangerie in den Meriangärten
END:VEVENT
END:VCALENDAR