BEGIN:VCALENDAR
VERSION:2.0
PRODID:-//Cevi Region Basel - ECPv6.15.20//NONSGML v1.0//EN
CALSCALE:GREGORIAN
METHOD:PUBLISH
X-ORIGINAL-URL:https://cevibasel.ch
X-WR-CALDESC:Events for Cevi Region Basel
REFRESH-INTERVAL;VALUE=DURATION:PT1H
X-Robots-Tag:noindex
X-PUBLISHED-TTL:PT1H
BEGIN:VTIMEZONE
TZID:Europe/Zurich
BEGIN:DAYLIGHT
TZOFFSETFROM:+0100
TZOFFSETTO:+0200
TZNAME:CEST
DTSTART:20220327T010000
END:DAYLIGHT
BEGIN:STANDARD
TZOFFSETFROM:+0200
TZOFFSETTO:+0100
TZNAME:CET
DTSTART:20221030T010000
END:STANDARD
BEGIN:DAYLIGHT
TZOFFSETFROM:+0100
TZOFFSETTO:+0200
TZNAME:CEST
DTSTART:20230326T010000
END:DAYLIGHT
BEGIN:STANDARD
TZOFFSETFROM:+0200
TZOFFSETTO:+0100
TZNAME:CET
DTSTART:20231029T010000
END:STANDARD
BEGIN:DAYLIGHT
TZOFFSETFROM:+0100
TZOFFSETTO:+0200
TZNAME:CEST
DTSTART:20240331T010000
END:DAYLIGHT
BEGIN:STANDARD
TZOFFSETFROM:+0200
TZOFFSETTO:+0100
TZNAME:CET
DTSTART:20241027T010000
END:STANDARD
END:VTIMEZONE
BEGIN:VEVENT
DTSTART;VALUE=DATE:20230524
DTEND;VALUE=DATE:20230525
DTSTAMP:20260426T022308
CREATED:20230505T103552Z
LAST-MODIFIED:20230517T100751Z
UID:109161-1684886400-1684972799@cevibasel.ch
SUMMARY:Spielgruppe\, 8.30-11.30 Uhr
DESCRIPTION:
URL:https://cevibasel.ch/veranstaltung/spielgruppe-8-30-11-30-uhr-6/
END:VEVENT
BEGIN:VEVENT
DTSTART;VALUE=DATE:20230524
DTEND;VALUE=DATE:20230525
DTSTAMP:20260426T022308
CREATED:20230505T103552Z
LAST-MODIFIED:20230517T100751Z
UID:109163-1684886400-1684972799@cevibasel.ch
SUMMARY:Mütterngruppe\, 9.00-11.30 Uhr
DESCRIPTION:
URL:https://cevibasel.ch/veranstaltung/muetterngruppe-9-00-11-30-uhr-2/
END:VEVENT
BEGIN:VEVENT
DTSTART;VALUE=DATE:20230524
DTEND;VALUE=DATE:20230525
DTSTAMP:20260426T022308
CREATED:20230508T085258Z
LAST-MODIFIED:20230517T100744Z
UID:110464-1684886400-1684972799@cevibasel.ch
SUMMARY:Beachvolleyball 16.00-18.00 Uhr\, im Rankhof
DESCRIPTION:
URL:https://cevibasel.ch/veranstaltung/beachvolleyball-16-00-18-00-uhr-im-rankhof-3/
END:VEVENT
BEGIN:VEVENT
DTSTART;VALUE=DATE:20230524
DTEND;VALUE=DATE:20230525
DTSTAMP:20260426T022308
CREATED:20230516T091130Z
LAST-MODIFIED:20230524T173645Z
UID:111051-1684886400-1684972799@cevibasel.ch
SUMMARY:Limitless Parkour & Freerunning
DESCRIPTION:
URL:https://cevibasel.ch/veranstaltung/limitless-18-00-19-45/
LOCATION:Turnhalle Sekundarschule St. Alban
END:VEVENT
BEGIN:VEVENT
DTSTART;TZID=Europe/Zurich:20230524T083000
DTEND;TZID=Europe/Zurich:20230524T113000
DTSTAMP:20260426T022308
CREATED:20230517T102537Z
LAST-MODIFIED:20230524T092218Z
UID:111820-1684917000-1684927800@cevibasel.ch
SUMMARY:Spielgruppe
DESCRIPTION:
URL:https://cevibasel.ch/veranstaltung/spielgruppe-2/
LOCATION:Cevi Seki
END:VEVENT
BEGIN:VEVENT
DTSTART;TZID=Europe/Zurich:20230524T090000
DTEND;TZID=Europe/Zurich:20230524T113000
DTSTAMP:20260426T022308
CREATED:20230517T102537Z
LAST-MODIFIED:20230524T092218Z
UID:111819-1684918800-1684927800@cevibasel.ch
SUMMARY:Mütterngruppe
DESCRIPTION:
URL:https://cevibasel.ch/veranstaltung/muetterngruppe-2/
LOCATION:Cevi Seki
END:VEVENT
BEGIN:VEVENT
DTSTART;TZID=Europe/Zurich:20230524T160000
DTEND;TZID=Europe/Zurich:20230524T180000
DTSTAMP:20260426T022308
CREATED:20230517T102556Z
LAST-MODIFIED:20230524T155229Z
UID:111823-1684944000-1684951200@cevibasel.ch
SUMMARY:Beachvolleyballtraining
DESCRIPTION:
URL:https://cevibasel.ch/veranstaltung/beachvolleyballtraining-15/
LOCATION:Beachfelder Rankhof
END:VEVENT
BEGIN:VEVENT
DTSTART;TZID=Europe/Zurich:20230524T183000
DTEND;TZID=Europe/Zurich:20230524T210000
DTSTAMP:20260426T022308
CREATED:20230516T091444Z
LAST-MODIFIED:20230524T185632Z
UID:111052-1684953000-1684962000@cevibasel.ch
SUMMARY:Ten Sing
DESCRIPTION:
URL:https://cevibasel.ch/veranstaltung/ten-sing-18-30-21-00/
LOCATION:CVJM Haus Kleinbasel
END:VEVENT
END:VCALENDAR