BEGIN:VCALENDAR
VERSION:2.0
PRODID:-//Cevi Region Basel - ECPv6.15.20//NONSGML v1.0//EN
CALSCALE:GREGORIAN
METHOD:PUBLISH
X-ORIGINAL-URL:https://cevibasel.ch
X-WR-CALDESC:Events for Cevi Region Basel
REFRESH-INTERVAL;VALUE=DURATION:PT1H
X-Robots-Tag:noindex
X-PUBLISHED-TTL:PT1H
BEGIN:VTIMEZONE
TZID:Europe/Zurich
BEGIN:DAYLIGHT
TZOFFSETFROM:+0100
TZOFFSETTO:+0200
TZNAME:CEST
DTSTART:20220327T010000
END:DAYLIGHT
BEGIN:STANDARD
TZOFFSETFROM:+0200
TZOFFSETTO:+0100
TZNAME:CET
DTSTART:20221030T010000
END:STANDARD
BEGIN:DAYLIGHT
TZOFFSETFROM:+0100
TZOFFSETTO:+0200
TZNAME:CEST
DTSTART:20230326T010000
END:DAYLIGHT
BEGIN:STANDARD
TZOFFSETFROM:+0200
TZOFFSETTO:+0100
TZNAME:CET
DTSTART:20231029T010000
END:STANDARD
BEGIN:DAYLIGHT
TZOFFSETFROM:+0100
TZOFFSETTO:+0200
TZNAME:CEST
DTSTART:20240331T010000
END:DAYLIGHT
BEGIN:STANDARD
TZOFFSETFROM:+0200
TZOFFSETTO:+0100
TZNAME:CET
DTSTART:20241027T010000
END:STANDARD
END:VTIMEZONE
BEGIN:VEVENT
DTSTART;VALUE=DATE:20230609
DTEND;VALUE=DATE:20230610
DTSTAMP:20260426T035944
CREATED:20230505T103601Z
LAST-MODIFIED:20230517T101055Z
UID:109172-1686268800-1686355199@cevibasel.ch
SUMMARY:Spielgruppe\, 8.30-11.30 Uhr
DESCRIPTION:
URL:https://cevibasel.ch/veranstaltung/spielgruppe-8-30-11-30-uhr-11/
END:VEVENT
BEGIN:VEVENT
DTSTART;VALUE=DATE:20230609
DTEND;VALUE=DATE:20230610
DTSTAMP:20260426T035944
CREATED:20230505T120731Z
LAST-MODIFIED:20230517T101052Z
UID:109286-1686268800-1686355199@cevibasel.ch
SUMMARY:Café Emma\, 9.30-11.30 Uhr
DESCRIPTION:
URL:https://cevibasel.ch/veranstaltung/cafe-emma-9-30-11-30-uhr-9/
END:VEVENT
BEGIN:VEVENT
DTSTART;VALUE=DATE:20230609
DTEND;VALUE=DATE:20230610
DTSTAMP:20260426T035944
CREATED:20230508T085434Z
LAST-MODIFIED:20230517T101055Z
UID:110473-1686268800-1686355199@cevibasel.ch
SUMMARY:Beachvolleyball 19.00-21.00 Uhr\, im Joggeli
DESCRIPTION:
URL:https://cevibasel.ch/veranstaltung/beachvolleyball-19-00-21-00-uhr-im-joggeli-4/
END:VEVENT
BEGIN:VEVENT
DTSTART;VALUE=DATE:20230609
DTEND;VALUE=DATE:20230610
DTSTAMP:20260426T035944
CREATED:20230516T091951Z
LAST-MODIFIED:20230517T101052Z
UID:111070-1686268800-1686355199@cevibasel.ch
SUMMARY:Hattrick Riehen (4. bis 5. Klasse)\, 17.30-19.00
DESCRIPTION:
URL:https://cevibasel.ch/veranstaltung/hattrick-riehen-4-bis-5-klasse-17-30-19-00-4/
END:VEVENT
BEGIN:VEVENT
DTSTART;VALUE=DATE:20230609
DTEND;VALUE=DATE:20230610
DTSTAMP:20260426T035944
CREATED:20230516T095649Z
LAST-MODIFIED:20230517T101052Z
UID:111125-1686268800-1686355199@cevibasel.ch
SUMMARY:Hattrick Basel West (7-15 Jahre)\, 17.30-19.00
DESCRIPTION:
URL:https://cevibasel.ch/veranstaltung/hattrick-basel-west-7-15-jahre-17-30-19-00-4/
END:VEVENT
BEGIN:VEVENT
DTSTART;VALUE=DATE:20230609
DTEND;VALUE=DATE:20230610
DTSTAMP:20260426T035944
CREATED:20230516T095649Z
LAST-MODIFIED:20230517T101055Z
UID:111124-1686268800-1686355199@cevibasel.ch
SUMMARY:Hattrick Basel West (16-18 Jahre)\, 19.00-20.30
DESCRIPTION:
URL:https://cevibasel.ch/veranstaltung/hattrick-basel-west-16-18-jahre-19-00-20-30-4/
END:VEVENT
BEGIN:VEVENT
DTSTART;TZID=Europe/Zurich:20230609T083000
DTEND;TZID=Europe/Zurich:20230609T113000
DTSTAMP:20260426T035944
CREATED:20230517T102949Z
LAST-MODIFIED:20230609T092123Z
UID:111873-1686299400-1686310200@cevibasel.ch
SUMMARY:Spielgruppe
DESCRIPTION:
URL:https://cevibasel.ch/veranstaltung/spielgruppe-7/
LOCATION:Cevi Seki
END:VEVENT
BEGIN:VEVENT
DTSTART;TZID=Europe/Zurich:20230609T093000
DTEND;TZID=Europe/Zurich:20230609T113000
DTSTAMP:20260426T035944
CREATED:20230517T102949Z
LAST-MODIFIED:20230609T092122Z
UID:111874-1686303000-1686310200@cevibasel.ch
SUMMARY:Café Emma
DESCRIPTION:
URL:https://cevibasel.ch/veranstaltung/cafe-emma-4/
LOCATION:hyve Hotel
END:VEVENT
BEGIN:VEVENT
DTSTART;TZID=Europe/Zurich:20230609T173000
DTEND;TZID=Europe/Zurich:20230609T190000
DTSTAMP:20260426T035944
CREATED:20230517T102949Z
LAST-MODIFIED:20230609T165345Z
UID:111877-1686331800-1686337200@cevibasel.ch
SUMMARY:Hattrick Riehen (4. bis 5. Klasse)
DESCRIPTION:
URL:https://cevibasel.ch/veranstaltung/hattrick-riehen-4-bis-5-klasse-3/
LOCATION:Andreasmatte
END:VEVENT
BEGIN:VEVENT
DTSTART;TZID=Europe/Zurich:20230609T173000
DTEND;TZID=Europe/Zurich:20230609T190000
DTSTAMP:20260426T035944
CREATED:20230517T103002Z
LAST-MODIFIED:20230609T165345Z
UID:111878-1686331800-1686337200@cevibasel.ch
SUMMARY:Hattrick Basel West (7-15 Jahre)
DESCRIPTION:
URL:https://cevibasel.ch/veranstaltung/hattrick-basel-west-7-15-jahre-3/
END:VEVENT
BEGIN:VEVENT
DTSTART;TZID=Europe/Zurich:20230609T190000
DTEND;TZID=Europe/Zurich:20230609T203000
DTSTAMP:20260426T035944
CREATED:20230517T102949Z
LAST-MODIFIED:20230609T182259Z
UID:111876-1686337200-1686342600@cevibasel.ch
SUMMARY:Hattrick Basel West (16-18 Jahre)
DESCRIPTION:
URL:https://cevibasel.ch/veranstaltung/hattrick-basel-west-16-18-jahre-3/
LOCATION:Fussballfelder Pfaffenholz
END:VEVENT
BEGIN:VEVENT
DTSTART;TZID=Europe/Zurich:20230609T190000
DTEND;TZID=Europe/Zurich:20230609T210000
DTSTAMP:20260426T035944
CREATED:20230517T102949Z
LAST-MODIFIED:20230609T185123Z
UID:111875-1686337200-1686344400@cevibasel.ch
SUMMARY:Beachvolleyballtraining
DESCRIPTION:
URL:https://cevibasel.ch/veranstaltung/beachvolleyballtraining-23/
LOCATION:Beachfelder St. Jakob
END:VEVENT
END:VCALENDAR