BEGIN:VCALENDAR
VERSION:2.0
PRODID:-//Cevi Region Basel - ECPv6.15.20//NONSGML v1.0//EN
CALSCALE:GREGORIAN
METHOD:PUBLISH
X-ORIGINAL-URL:https://cevibasel.ch
X-WR-CALDESC:Events for Cevi Region Basel
REFRESH-INTERVAL;VALUE=DURATION:PT1H
X-Robots-Tag:noindex
X-PUBLISHED-TTL:PT1H
BEGIN:VTIMEZONE
TZID:Europe/Zurich
BEGIN:DAYLIGHT
TZOFFSETFROM:+0100
TZOFFSETTO:+0200
TZNAME:CEST
DTSTART:20220327T010000
END:DAYLIGHT
BEGIN:STANDARD
TZOFFSETFROM:+0200
TZOFFSETTO:+0100
TZNAME:CET
DTSTART:20221030T010000
END:STANDARD
BEGIN:DAYLIGHT
TZOFFSETFROM:+0100
TZOFFSETTO:+0200
TZNAME:CEST
DTSTART:20230326T010000
END:DAYLIGHT
BEGIN:STANDARD
TZOFFSETFROM:+0200
TZOFFSETTO:+0100
TZNAME:CET
DTSTART:20231029T010000
END:STANDARD
BEGIN:DAYLIGHT
TZOFFSETFROM:+0100
TZOFFSETTO:+0200
TZNAME:CEST
DTSTART:20240331T010000
END:DAYLIGHT
BEGIN:STANDARD
TZOFFSETFROM:+0200
TZOFFSETTO:+0100
TZNAME:CET
DTSTART:20241027T010000
END:STANDARD
END:VTIMEZONE
BEGIN:VEVENT
DTSTART;VALUE=DATE:20230613
DTEND;VALUE=DATE:20230614
DTSTAMP:20260426T035849
CREATED:20230505T103601Z
LAST-MODIFIED:20230517T095732Z
UID:109173-1686614400-1686700799@cevibasel.ch
SUMMARY:Spaghettizistig\, 12.00-14.00 Uhr
DESCRIPTION:
URL:https://cevibasel.ch/veranstaltung/spaghettizistig-12-00-14-00-uhr-6/
END:VEVENT
BEGIN:VEVENT
DTSTART;VALUE=DATE:20230613
DTEND;VALUE=DATE:20230614
DTSTAMP:20260426T035849
CREATED:20230516T091959Z
LAST-MODIFIED:20230517T095739Z
UID:111071-1686614400-1686700799@cevibasel.ch
SUMMARY:Hattrick Gellert (7-12 Jahre)\, 18.00-19.30
DESCRIPTION:
URL:https://cevibasel.ch/veranstaltung/hattrick-gellert-7-12-jahre-18-00-19-30-5/
END:VEVENT
BEGIN:VEVENT
DTSTART;VALUE=DATE:20230613
DTEND;VALUE=DATE:20230614
DTSTAMP:20260426T035849
CREATED:20230516T092004Z
LAST-MODIFIED:20230517T095732Z
UID:111074-1686614400-1686700799@cevibasel.ch
SUMMARY:Hattrick Riehen (1. bis 3. Klasse)\, 17.30-19.00
DESCRIPTION:
URL:https://cevibasel.ch/veranstaltung/hattrick-riehen-1-bis-3-klasse-17-30-19-00-5/
END:VEVENT
BEGIN:VEVENT
DTSTART;VALUE=DATE:20230613
DTEND;VALUE=DATE:20230614
DTSTAMP:20260426T035849
CREATED:20230516T095707Z
LAST-MODIFIED:20230517T101248Z
UID:111131-1686614400-1686700799@cevibasel.ch
SUMMARY:Hattrick Riehen (6. bis 7. Klasse)\, 19.00-20.30
DESCRIPTION:
URL:https://cevibasel.ch/veranstaltung/hattrick-riehen-6-bis-7-klasse-19-00-20-30-5/
END:VEVENT
BEGIN:VEVENT
DTSTART;TZID=Europe/Zurich:20230613T120000
DTEND;TZID=Europe/Zurich:20230613T140000
DTSTAMP:20260426T035849
CREATED:20230517T101057Z
LAST-MODIFIED:20230613T115112Z
UID:111753-1686657600-1686664800@cevibasel.ch
SUMMARY:Spaghettizistig
DESCRIPTION:
URL:https://cevibasel.ch/veranstaltung/spaghettizistig-4/
LOCATION:Cevi Seki
END:VEVENT
BEGIN:VEVENT
DTSTART;TZID=Europe/Zurich:20230613T173000
DTEND;TZID=Europe/Zurich:20230613T190000
DTSTAMP:20260426T035849
CREATED:20230517T101230Z
LAST-MODIFIED:20230613T165007Z
UID:111754-1686677400-1686682800@cevibasel.ch
SUMMARY:Hattrick Riehen (1. bis 3. Klasse)
DESCRIPTION:
URL:https://cevibasel.ch/veranstaltung/hattrick-riehen-1-bis-3-klasse-4/
LOCATION:Fussballplatz Andreasmatte
END:VEVENT
BEGIN:VEVENT
DTSTART;TZID=Europe/Zurich:20230613T180000
DTEND;TZID=Europe/Zurich:20230613T193000
DTSTAMP:20260426T035849
CREATED:20230517T101230Z
LAST-MODIFIED:20230613T172743Z
UID:111755-1686679200-1686684600@cevibasel.ch
SUMMARY:Hattrick Gellert (7-12 Jahre)
DESCRIPTION:
URL:https://cevibasel.ch/veranstaltung/hattrick-gellert-7-12-jahre-4/
LOCATION:Fussballplatz Luftmatt
END:VEVENT
BEGIN:VEVENT
DTSTART;TZID=Europe/Zurich:20230613T190000
DTEND;TZID=Europe/Zurich:20230613T203000
DTSTAMP:20260426T035849
CREATED:20230517T103038Z
LAST-MODIFIED:20230613T182114Z
UID:111886-1686682800-1686688200@cevibasel.ch
SUMMARY:Hattrick Riehen (6. bis 7. Klasse)
DESCRIPTION:
URL:https://cevibasel.ch/veranstaltung/hattrick-riehen-6-bis-7-klasse-4/
LOCATION:Fussballplatz Andreasmatte
END:VEVENT
END:VCALENDAR