BEGIN:VCALENDAR
VERSION:2.0
PRODID:-//Cevi Region Basel - ECPv6.15.20//NONSGML v1.0//EN
CALSCALE:GREGORIAN
METHOD:PUBLISH
X-ORIGINAL-URL:https://cevibasel.ch
X-WR-CALDESC:Events for Cevi Region Basel
REFRESH-INTERVAL;VALUE=DURATION:PT1H
X-Robots-Tag:noindex
X-PUBLISHED-TTL:PT1H
BEGIN:VTIMEZONE
TZID:Europe/Zurich
BEGIN:DAYLIGHT
TZOFFSETFROM:+0100
TZOFFSETTO:+0200
TZNAME:CEST
DTSTART:20220327T010000
END:DAYLIGHT
BEGIN:STANDARD
TZOFFSETFROM:+0200
TZOFFSETTO:+0100
TZNAME:CET
DTSTART:20221030T010000
END:STANDARD
BEGIN:DAYLIGHT
TZOFFSETFROM:+0100
TZOFFSETTO:+0200
TZNAME:CEST
DTSTART:20230326T010000
END:DAYLIGHT
BEGIN:STANDARD
TZOFFSETFROM:+0200
TZOFFSETTO:+0100
TZNAME:CET
DTSTART:20231029T010000
END:STANDARD
BEGIN:DAYLIGHT
TZOFFSETFROM:+0100
TZOFFSETTO:+0200
TZNAME:CEST
DTSTART:20240331T010000
END:DAYLIGHT
BEGIN:STANDARD
TZOFFSETFROM:+0200
TZOFFSETTO:+0100
TZNAME:CET
DTSTART:20241027T010000
END:STANDARD
END:VTIMEZONE
BEGIN:VEVENT
DTSTART;VALUE=DATE:20230622
DTEND;VALUE=DATE:20230623
DTSTAMP:20260426T054146
CREATED:20230505T103655Z
LAST-MODIFIED:20230517T101428Z
UID:109178-1687392000-1687478399@cevibasel.ch
SUMMARY:Mütterngruppe\, 8.00-10.30 Uhr
DESCRIPTION:
URL:https://cevibasel.ch/veranstaltung/muetterngruppe-8-00-10-30-uhr-3/
END:VEVENT
BEGIN:VEVENT
DTSTART;VALUE=DATE:20230622
DTEND;VALUE=DATE:20230623
DTSTAMP:20260426T054146
CREATED:20230505T121005Z
LAST-MODIFIED:20230517T101652Z
UID:109290-1687392000-1687478399@cevibasel.ch
SUMMARY:Café Emma\, 9.30-11.30 Uhr
DESCRIPTION:
URL:https://cevibasel.ch/veranstaltung/cafe-emma-9-30-11-30-uhr-13/
END:VEVENT
BEGIN:VEVENT
DTSTART;VALUE=DATE:20230622
DTEND;VALUE=DATE:20230623
DTSTAMP:20260426T054146
CREATED:20230508T085616Z
LAST-MODIFIED:20230517T101652Z
UID:110480-1687392000-1687478399@cevibasel.ch
SUMMARY:Beachvolleyball 20.00-22.00 Uhr\, im Rankhof
DESCRIPTION:
URL:https://cevibasel.ch/veranstaltung/beachvolleyball-20-00-22-00-uhr-im-rankhof-6/
END:VEVENT
BEGIN:VEVENT
DTSTART;TZID=Europe/Zurich:20230622T093000
DTEND;TZID=Europe/Zurich:20230622T113000
DTSTAMP:20260426T054146
CREATED:20230517T103232Z
LAST-MODIFIED:20230622T092322Z
UID:111915-1687426200-1687433400@cevibasel.ch
SUMMARY:Café Emma\, 9.30-11.30 Uhr
DESCRIPTION:
URL:https://cevibasel.ch/veranstaltung/cafe-emma-9-30-11-30-uhr-213/
LOCATION:hyve Hotel
END:VEVENT
BEGIN:VEVENT
DTSTART;TZID=Europe/Zurich:20230622T190000
DTEND;TZID=Europe/Zurich:20230622T220000
DTSTAMP:20260426T054146
CREATED:20230125T102138Z
LAST-MODIFIED:20230622T195159Z
UID:106318-1687460400-1687471200@cevibasel.ch
SUMMARY:Konfestival Teamsitzungen A+B+C
DESCRIPTION:
URL:https://cevibasel.ch/veranstaltung/konfestival-teamsitzungen-abc/
END:VEVENT
BEGIN:VEVENT
DTSTART;TZID=Europe/Zurich:20230622T200000
DTEND;TZID=Europe/Zurich:20230622T220000
DTSTAMP:20260426T054146
CREATED:20230517T103232Z
LAST-MODIFIED:20230622T195159Z
UID:111916-1687464000-1687471200@cevibasel.ch
SUMMARY:Beachvolleyballtraining
DESCRIPTION:
URL:https://cevibasel.ch/veranstaltung/beachvolleyballtraining-28/
LOCATION:Beachfelder Rankhof
END:VEVENT
END:VCALENDAR