BEGIN:VCALENDAR
VERSION:2.0
PRODID:-//Cevi Region Basel - ECPv6.15.20//NONSGML v1.0//EN
CALSCALE:GREGORIAN
METHOD:PUBLISH
X-WR-CALNAME:Cevi Region Basel
X-ORIGINAL-URL:https://cevibasel.ch
X-WR-CALDESC:Events for Cevi Region Basel
REFRESH-INTERVAL;VALUE=DURATION:PT1H
X-Robots-Tag:noindex
X-PUBLISHED-TTL:PT1H
BEGIN:VTIMEZONE
TZID:Europe/Zurich
BEGIN:DAYLIGHT
TZOFFSETFROM:+0100
TZOFFSETTO:+0200
TZNAME:CEST
DTSTART:20220327T010000
END:DAYLIGHT
BEGIN:STANDARD
TZOFFSETFROM:+0200
TZOFFSETTO:+0100
TZNAME:CET
DTSTART:20221030T010000
END:STANDARD
BEGIN:DAYLIGHT
TZOFFSETFROM:+0100
TZOFFSETTO:+0200
TZNAME:CEST
DTSTART:20230326T010000
END:DAYLIGHT
BEGIN:STANDARD
TZOFFSETFROM:+0200
TZOFFSETTO:+0100
TZNAME:CET
DTSTART:20231029T010000
END:STANDARD
BEGIN:DAYLIGHT
TZOFFSETFROM:+0100
TZOFFSETTO:+0200
TZNAME:CEST
DTSTART:20240331T010000
END:DAYLIGHT
BEGIN:STANDARD
TZOFFSETFROM:+0200
TZOFFSETTO:+0100
TZNAME:CET
DTSTART:20241027T010000
END:STANDARD
END:VTIMEZONE
BEGIN:VEVENT
DTSTART;VALUE=DATE:20230624
DTEND;VALUE=DATE:20230625
DTSTAMP:20260426T035742
CREATED:20230516T095806Z
LAST-MODIFIED:20230517T101656Z
UID:111146-1687564800-1687651199@cevibasel.ch
SUMMARY:Hattrick Gundeli (6-11 Jahre)\, 13.30-15.30
DESCRIPTION:
URL:https://cevibasel.ch/veranstaltung/hattrick-gundeli-6-11-jahre-13-30-15-30-6/
END:VEVENT
BEGIN:VEVENT
DTSTART;VALUE=DATE:20230624
DTEND;VALUE=DATE:20230625
DTSTAMP:20260426T035742
CREATED:20230516T095811Z
LAST-MODIFIED:20230517T101656Z
UID:111149-1687564800-1687651199@cevibasel.ch
SUMMARY:Div. Jungscharprogramme\, ca. 14.00-17.00
DESCRIPTION:
URL:https://cevibasel.ch/veranstaltung/div-jungscharprogramme-ca-14-00-17-00-2/
END:VEVENT
BEGIN:VEVENT
DTSTART;VALUE=DATE:20230624
DTEND;VALUE=DATE:20230625
DTSTAMP:20260426T035742
CREATED:20221117T093624Z
LAST-MODIFIED:20230624T235608Z
UID:104218-1687564800-1687651199@cevibasel.ch
SUMMARY:JUNE Gottesdienst
DESCRIPTION:
URL:https://cevibasel.ch/veranstaltung/june-2/
LOCATION:Gellertkirche
END:VEVENT
BEGIN:VEVENT
DTSTART;TZID=Europe/Zurich:20230624T133000
DTEND;TZID=Europe/Zurich:20230624T153000
DTSTAMP:20260426T035742
CREATED:20230517T103238Z
LAST-MODIFIED:20230624T132430Z
UID:111923-1687613400-1687620600@cevibasel.ch
SUMMARY:Hattrick Gundeli (6-11 Jahre)
DESCRIPTION:
URL:https://cevibasel.ch/veranstaltung/hattrick-gundeli-6-11-jahre-5/
LOCATION:Margarethenpark
END:VEVENT
BEGIN:VEVENT
DTSTART;TZID=Europe/Zurich:20230624T140000
DTEND;TZID=Europe/Zurich:20230624T170000
DTSTAMP:20260426T035742
CREATED:20230517T103238Z
LAST-MODIFIED:20230624T145353Z
UID:111924-1687615200-1687626000@cevibasel.ch
SUMMARY:Jungschi Allschwil
DESCRIPTION:
URL:https://cevibasel.ch/veranstaltung/jungschi-allschwil-5/
LOCATION:Calvinhaus
END:VEVENT
BEGIN:VEVENT
DTSTART;TZID=Europe/Zurich:20230624T140000
DTEND;TZID=Europe/Zurich:20230624T170000
DTSTAMP:20260426T035742
CREATED:20230517T104709Z
LAST-MODIFIED:20230624T145353Z
UID:112156-1687615200-1687626000@cevibasel.ch
SUMMARY:Jungschi Muttenz
DESCRIPTION:
URL:https://cevibasel.ch/veranstaltung/jungschi-muttenz-5/
END:VEVENT
BEGIN:VEVENT
DTSTART;TZID=Europe/Zurich:20230624T140000
DTEND;TZID=Europe/Zurich:20230624T170000
DTSTAMP:20260426T035742
CREATED:20230517T104709Z
LAST-MODIFIED:20230624T145353Z
UID:112157-1687615200-1687626000@cevibasel.ch
SUMMARY:Jungschi Ettigen & Therwil
DESCRIPTION:
URL:https://cevibasel.ch/veranstaltung/jungschi-ettigen-therwil-5/
END:VEVENT
BEGIN:VEVENT
DTSTART;TZID=Europe/Zurich:20230624T140000
DTEND;TZID=Europe/Zurich:20230624T170000
DTSTAMP:20260426T035742
CREATED:20230517T104709Z
LAST-MODIFIED:20230624T145342Z
UID:112158-1687615200-1687626000@cevibasel.ch
SUMMARY:Jungschi Bubendorf
DESCRIPTION:
URL:https://cevibasel.ch/veranstaltung/jungschi-bubendorf-5/
END:VEVENT
BEGIN:VEVENT
DTSTART;TZID=Europe/Zurich:20230624T140000
DTEND;TZID=Europe/Zurich:20230624T170000
DTSTAMP:20260426T035742
CREATED:20230517T104710Z
LAST-MODIFIED:20230624T145342Z
UID:112159-1687615200-1687626000@cevibasel.ch
SUMMARY:Jungschi Gotthelf-Neubad
DESCRIPTION:
URL:https://cevibasel.ch/veranstaltung/jungschi-gotthelf-neubad-5/
END:VEVENT
BEGIN:VEVENT
DTSTART;TZID=Europe/Zurich:20230624T140000
DTEND;TZID=Europe/Zurich:20230624T170000
DTSTAMP:20260426T035742
CREATED:20230517T105009Z
LAST-MODIFIED:20230624T145353Z
UID:112164-1687615200-1687626000@cevibasel.ch
SUMMARY:Jungschi Thomas
DESCRIPTION:
URL:https://cevibasel.ch/veranstaltung/jungschi-thomas-5/
END:VEVENT
BEGIN:VEVENT
DTSTART;TZID=Europe/Zurich:20230624T140000
DTEND;TZID=Europe/Zurich:20230624T170000
DTSTAMP:20260426T035742
CREATED:20230517T105009Z
LAST-MODIFIED:20230624T145342Z
UID:112160-1687615200-1687626000@cevibasel.ch
SUMMARY:Jungschi Binningen
DESCRIPTION:
URL:https://cevibasel.ch/veranstaltung/jungschi-binningen-5/
END:VEVENT
BEGIN:VEVENT
DTSTART;TZID=Europe/Zurich:20230624T140000
DTEND;TZID=Europe/Zurich:20230624T170000
DTSTAMP:20260426T035742
CREATED:20230517T105009Z
LAST-MODIFIED:20230624T145353Z
UID:112162-1687615200-1687626000@cevibasel.ch
SUMMARY:Jungschi Reinach
DESCRIPTION:
URL:https://cevibasel.ch/veranstaltung/jungschi-reinach-5/
END:VEVENT
BEGIN:VEVENT
DTSTART;TZID=Europe/Zurich:20230624T140000
DTEND;TZID=Europe/Zurich:20230624T170000
DTSTAMP:20260426T035742
CREATED:20230517T133129Z
LAST-MODIFIED:20230624T145342Z
UID:112206-1687615200-1687626000@cevibasel.ch
SUMMARY:Jungschi Titus
DESCRIPTION:
URL:https://cevibasel.ch/veranstaltung/jungschi-titus-5/
END:VEVENT
END:VCALENDAR