BEGIN:VCALENDAR
VERSION:2.0
PRODID:-//Cevi Region Basel - ECPv6.15.20//NONSGML v1.0//EN
CALSCALE:GREGORIAN
METHOD:PUBLISH
X-ORIGINAL-URL:https://cevibasel.ch
X-WR-CALDESC:Events for Cevi Region Basel
REFRESH-INTERVAL;VALUE=DURATION:PT1H
X-Robots-Tag:noindex
X-PUBLISHED-TTL:PT1H
BEGIN:VTIMEZONE
TZID:Europe/Zurich
BEGIN:DAYLIGHT
TZOFFSETFROM:+0100
TZOFFSETTO:+0200
TZNAME:CEST
DTSTART:20240331T010000
END:DAYLIGHT
BEGIN:STANDARD
TZOFFSETFROM:+0200
TZOFFSETTO:+0100
TZNAME:CET
DTSTART:20241027T010000
END:STANDARD
BEGIN:DAYLIGHT
TZOFFSETFROM:+0100
TZOFFSETTO:+0200
TZNAME:CEST
DTSTART:20250330T010000
END:DAYLIGHT
BEGIN:STANDARD
TZOFFSETFROM:+0200
TZOFFSETTO:+0100
TZNAME:CET
DTSTART:20251026T010000
END:STANDARD
BEGIN:DAYLIGHT
TZOFFSETFROM:+0100
TZOFFSETTO:+0200
TZNAME:CEST
DTSTART:20260329T010000
END:DAYLIGHT
BEGIN:STANDARD
TZOFFSETFROM:+0200
TZOFFSETTO:+0100
TZNAME:CET
DTSTART:20261025T010000
END:STANDARD
END:VTIMEZONE
BEGIN:VEVENT
DTSTART;TZID=Europe/Zurich:20250628T133000
DTEND;TZID=Europe/Zurich:20250628T153000
DTSTAMP:20260426T052417
CREATED:20240625T134504Z
LAST-MODIFIED:20250628T131953Z
UID:121514-1751117400-1751124600@cevibasel.ch
SUMMARY:Hattrick Gundeli (6-11 Jahre)
DESCRIPTION:
URL:https://cevibasel.ch/veranstaltung/hattrick-gundeli-6-11-jahre-110/
LOCATION:Margarethenpark
END:VEVENT
BEGIN:VEVENT
DTSTART;TZID=Europe/Zurich:20250628T140000
DTEND;TZID=Europe/Zurich:20250628T170000
DTSTAMP:20260426T052417
CREATED:20240625T134508Z
LAST-MODIFIED:20241105T105920Z
UID:121519-1751119200-1751130000@cevibasel.ch
SUMMARY:Jungschi Muttenz
DESCRIPTION:
URL:https://cevibasel.ch/veranstaltung/jungschi-muttenz-110/
END:VEVENT
BEGIN:VEVENT
DTSTART;TZID=Europe/Zurich:20250628T140000
DTEND;TZID=Europe/Zurich:20250628T170000
DTSTAMP:20260426T052417
CREATED:20240625T134508Z
LAST-MODIFIED:20250628T145011Z
UID:121515-1751119200-1751130000@cevibasel.ch
SUMMARY:Jungschi Binningen
DESCRIPTION:
URL:https://cevibasel.ch/veranstaltung/jungschi-binningen-110/
END:VEVENT
BEGIN:VEVENT
DTSTART;TZID=Europe/Zurich:20250628T140000
DTEND;TZID=Europe/Zurich:20250628T170000
DTSTAMP:20260426T052417
CREATED:20240625T134508Z
LAST-MODIFIED:20250628T145011Z
UID:121516-1751119200-1751130000@cevibasel.ch
SUMMARY:Jungschi Bubendorf
DESCRIPTION:
URL:https://cevibasel.ch/veranstaltung/jungschi-bubendorf-110/
END:VEVENT
BEGIN:VEVENT
DTSTART;TZID=Europe/Zurich:20250628T140000
DTEND;TZID=Europe/Zurich:20250628T170000
DTSTAMP:20260426T052417
CREATED:20240625T134508Z
LAST-MODIFIED:20250628T145012Z
UID:121517-1751119200-1751130000@cevibasel.ch
SUMMARY:Jungschi Thomas
DESCRIPTION:
URL:https://cevibasel.ch/veranstaltung/jungschi-thomas-110/
END:VEVENT
BEGIN:VEVENT
DTSTART;TZID=Europe/Zurich:20250628T140000
DTEND;TZID=Europe/Zurich:20250628T170000
DTSTAMP:20260426T052417
CREATED:20240625T134508Z
LAST-MODIFIED:20241105T105919Z
UID:121518-1751119200-1751130000@cevibasel.ch
SUMMARY:Jungschi Reinach
DESCRIPTION:
URL:https://cevibasel.ch/veranstaltung/jungschi-reinach-110/
END:VEVENT
BEGIN:VEVENT
DTSTART;TZID=Europe/Zurich:20250628T140000
DTEND;TZID=Europe/Zurich:20250628T170000
DTSTAMP:20260426T052417
CREATED:20240625T134511Z
LAST-MODIFIED:20250628T145011Z
UID:121520-1751119200-1751130000@cevibasel.ch
SUMMARY:Jungschi Allschwil
DESCRIPTION:
URL:https://cevibasel.ch/veranstaltung/jungschi-allschwil-110/
END:VEVENT
BEGIN:VEVENT
DTSTART;TZID=Europe/Zurich:20250628T140000
DTEND;TZID=Europe/Zurich:20250628T170000
DTSTAMP:20260426T052417
CREATED:20240625T134511Z
LAST-MODIFIED:20250628T145012Z
UID:121521-1751119200-1751130000@cevibasel.ch
SUMMARY:Jungschi Titus
DESCRIPTION:
URL:https://cevibasel.ch/veranstaltung/jungschi-titus-110/
END:VEVENT
BEGIN:VEVENT
DTSTART;TZID=Europe/Zurich:20250628T140000
DTEND;TZID=Europe/Zurich:20250628T170000
DTSTAMP:20260426T052417
CREATED:20240625T134511Z
LAST-MODIFIED:20250628T145011Z
UID:121522-1751119200-1751130000@cevibasel.ch
SUMMARY:Jungschi Gotthelf-Neubad
DESCRIPTION:
URL:https://cevibasel.ch/veranstaltung/jungschi-gotthelf-neubad-110/
END:VEVENT
BEGIN:VEVENT
DTSTART;TZID=Europe/Zurich:20250628T140000
DTEND;TZID=Europe/Zurich:20250628T170000
DTSTAMP:20260426T052417
CREATED:20240625T134511Z
LAST-MODIFIED:20250628T145011Z
UID:121523-1751119200-1751130000@cevibasel.ch
SUMMARY:Jungschi Ettigen & Therwil
DESCRIPTION:
URL:https://cevibasel.ch/veranstaltung/jungschi-ettigen-therwil-110/
END:VEVENT
END:VCALENDAR