BEGIN:VCALENDAR
VERSION:2.0
PRODID:-//Cevi Region Basel - ECPv6.15.20//NONSGML v1.0//EN
CALSCALE:GREGORIAN
METHOD:PUBLISH
X-WR-CALNAME:Cevi Region Basel
X-ORIGINAL-URL:https://cevibasel.ch
X-WR-CALDESC:Events for Cevi Region Basel
REFRESH-INTERVAL;VALUE=DURATION:PT1H
X-Robots-Tag:noindex
X-PUBLISHED-TTL:PT1H
BEGIN:VTIMEZONE
TZID:Europe/Zurich
BEGIN:DAYLIGHT
TZOFFSETFROM:+0100
TZOFFSETTO:+0200
TZNAME:CEST
DTSTART:20240331T010000
END:DAYLIGHT
BEGIN:STANDARD
TZOFFSETFROM:+0200
TZOFFSETTO:+0100
TZNAME:CET
DTSTART:20241027T010000
END:STANDARD
BEGIN:DAYLIGHT
TZOFFSETFROM:+0100
TZOFFSETTO:+0200
TZNAME:CEST
DTSTART:20250330T010000
END:DAYLIGHT
BEGIN:STANDARD
TZOFFSETFROM:+0200
TZOFFSETTO:+0100
TZNAME:CET
DTSTART:20251026T010000
END:STANDARD
BEGIN:DAYLIGHT
TZOFFSETFROM:+0100
TZOFFSETTO:+0200
TZNAME:CEST
DTSTART:20260329T010000
END:DAYLIGHT
BEGIN:STANDARD
TZOFFSETFROM:+0200
TZOFFSETTO:+0100
TZNAME:CET
DTSTART:20261025T010000
END:STANDARD
END:VTIMEZONE
BEGIN:VEVENT
DTSTART;TZID=Europe/Zurich:20250703T083000
DTEND;TZID=Europe/Zurich:20250703T113000
DTSTAMP:20260426T033911
CREATED:20240812T101528Z
LAST-MODIFIED:20241227T021809Z
UID:127535-1751531400-1751542200@cevibasel.ch
SUMMARY:Mütterngruppe
DESCRIPTION:
URL:https://cevibasel.ch/veranstaltung/mutterngruppe-193/
LOCATION:Cevi Seki
END:VEVENT
BEGIN:VEVENT
DTSTART;TZID=Europe/Zurich:20250703T083000
DTEND;TZID=Europe/Zurich:20250703T113000
DTSTAMP:20260426T033911
CREATED:20240812T101528Z
LAST-MODIFIED:20241227T021808Z
UID:127536-1751531400-1751542200@cevibasel.ch
SUMMARY:Mütterngruppe
DESCRIPTION:
URL:https://cevibasel.ch/veranstaltung/mutterngruppe-194/
LOCATION:Cevi Seki
END:VEVENT
BEGIN:VEVENT
DTSTART;TZID=Europe/Zurich:20250703T083000
DTEND;TZID=Europe/Zurich:20250703T113000
DTSTAMP:20260426T033911
CREATED:20240812T101528Z
LAST-MODIFIED:20241227T021806Z
UID:127537-1751531400-1751542200@cevibasel.ch
SUMMARY:Mütterngruppe
DESCRIPTION:
URL:https://cevibasel.ch/veranstaltung/mutterngruppe-195/
LOCATION:Cevi Seki
END:VEVENT
BEGIN:VEVENT
DTSTART;TZID=Europe/Zurich:20250703T083000
DTEND;TZID=Europe/Zurich:20250703T113000
DTSTAMP:20260426T033911
CREATED:20240812T101530Z
LAST-MODIFIED:20250113T113410Z
UID:127540-1751531400-1751542200@cevibasel.ch
SUMMARY:Mütterngruppe
DESCRIPTION:
URL:https://cevibasel.ch/veranstaltung/mutterngruppe-198/
LOCATION:Cevi Seki
END:VEVENT
BEGIN:VEVENT
DTSTART;TZID=Europe/Zurich:20250703T083000
DTEND;TZID=Europe/Zurich:20250703T113000
DTSTAMP:20260426T033911
CREATED:20240812T101530Z
LAST-MODIFIED:20250703T092013Z
UID:127541-1751531400-1751542200@cevibasel.ch
SUMMARY:Mütterngruppe
DESCRIPTION:
URL:https://cevibasel.ch/veranstaltung/mutterngruppe-199/
LOCATION:Cevi Seki
END:VEVENT
BEGIN:VEVENT
DTSTART;TZID=Europe/Zurich:20250703T083000
DTEND;TZID=Europe/Zurich:20250703T113000
DTSTAMP:20260426T033911
CREATED:20240812T101530Z
LAST-MODIFIED:20241227T021808Z
UID:127542-1751531400-1751542200@cevibasel.ch
SUMMARY:Mütterngruppe
DESCRIPTION:
URL:https://cevibasel.ch/veranstaltung/mutterngruppe-200/
LOCATION:Cevi Seki
END:VEVENT
BEGIN:VEVENT
DTSTART;TZID=Europe/Zurich:20250703T083000
DTEND;TZID=Europe/Zurich:20250703T113000
DTSTAMP:20260426T033911
CREATED:20240812T101530Z
LAST-MODIFIED:20241227T021808Z
UID:127538-1751531400-1751542200@cevibasel.ch
SUMMARY:Mütterngruppe
DESCRIPTION:
URL:https://cevibasel.ch/veranstaltung/mutterngruppe-196/
LOCATION:Cevi Seki
END:VEVENT
BEGIN:VEVENT
DTSTART;TZID=Europe/Zurich:20250703T083000
DTEND;TZID=Europe/Zurich:20250703T113000
DTSTAMP:20260426T033911
CREATED:20240812T101530Z
LAST-MODIFIED:20241227T021808Z
UID:127539-1751531400-1751542200@cevibasel.ch
SUMMARY:Mütterngruppe
DESCRIPTION:
URL:https://cevibasel.ch/veranstaltung/mutterngruppe-197/
LOCATION:Cevi Seki
END:VEVENT
BEGIN:VEVENT
DTSTART;TZID=Europe/Zurich:20250703T083000
DTEND;TZID=Europe/Zurich:20250703T113000
DTSTAMP:20260426T033911
CREATED:20240812T101645Z
LAST-MODIFIED:20250113T113410Z
UID:127543-1751531400-1751542200@cevibasel.ch
SUMMARY:Mütterngruppe
DESCRIPTION:
URL:https://cevibasel.ch/veranstaltung/mutterngruppe-201/
LOCATION:Cevi Seki
END:VEVENT
BEGIN:VEVENT
DTSTART;TZID=Europe/Zurich:20250703T090000
DTEND;TZID=Europe/Zurich:20250703T160000
DTSTAMP:20260426T033911
CREATED:20250408T093020Z
LAST-MODIFIED:20250703T135209Z
UID:154209-1751533200-1751558400@cevibasel.ch
SUMMARY:Tageslager
DESCRIPTION:
URL:https://cevibasel.ch/veranstaltung/tageslager-4/
END:VEVENT
END:VCALENDAR