BEGIN:VCALENDAR
VERSION:2.0
PRODID:-//Cevi Region Basel - ECPv6.15.20//NONSGML v1.0//EN
CALSCALE:GREGORIAN
METHOD:PUBLISH
X-WR-CALNAME:Cevi Region Basel
X-ORIGINAL-URL:https://cevibasel.ch
X-WR-CALDESC:Events for Cevi Region Basel
REFRESH-INTERVAL;VALUE=DURATION:PT1H
X-Robots-Tag:noindex
X-PUBLISHED-TTL:PT1H
BEGIN:VTIMEZONE
TZID:Europe/Zurich
BEGIN:DAYLIGHT
TZOFFSETFROM:+0100
TZOFFSETTO:+0200
TZNAME:CEST
DTSTART:20240331T010000
END:DAYLIGHT
BEGIN:STANDARD
TZOFFSETFROM:+0200
TZOFFSETTO:+0100
TZNAME:CET
DTSTART:20241027T010000
END:STANDARD
BEGIN:DAYLIGHT
TZOFFSETFROM:+0100
TZOFFSETTO:+0200
TZNAME:CEST
DTSTART:20250330T010000
END:DAYLIGHT
BEGIN:STANDARD
TZOFFSETFROM:+0200
TZOFFSETTO:+0100
TZNAME:CET
DTSTART:20251026T010000
END:STANDARD
BEGIN:DAYLIGHT
TZOFFSETFROM:+0100
TZOFFSETTO:+0200
TZNAME:CEST
DTSTART:20260329T010000
END:DAYLIGHT
BEGIN:STANDARD
TZOFFSETFROM:+0200
TZOFFSETTO:+0100
TZNAME:CET
DTSTART:20261025T010000
END:STANDARD
END:VTIMEZONE
BEGIN:VEVENT
DTSTART;TZID=Europe/Zurich:20250712T133000
DTEND;TZID=Europe/Zurich:20250712T153000
DTSTAMP:20260426T033902
CREATED:20240625T134531Z
LAST-MODIFIED:20250712T132114Z
UID:121558-1752327000-1752334200@cevibasel.ch
SUMMARY:Hattrick Gundeli (6-11 Jahre)
DESCRIPTION:
URL:https://cevibasel.ch/veranstaltung/hattrick-gundeli-6-11-jahre-112/
LOCATION:Margarethenpark
END:VEVENT
BEGIN:VEVENT
DTSTART;TZID=Europe/Zurich:20250712T140000
DTEND;TZID=Europe/Zurich:20250712T170000
DTSTAMP:20260426T033902
CREATED:20240625T134528Z
LAST-MODIFIED:20250712T145109Z
UID:121553-1752328800-1752339600@cevibasel.ch
SUMMARY:Jungschi Ettigen & Therwil
DESCRIPTION:
URL:https://cevibasel.ch/veranstaltung/jungschi-ettigen-therwil-112/
END:VEVENT
BEGIN:VEVENT
DTSTART;TZID=Europe/Zurich:20250712T140000
DTEND;TZID=Europe/Zurich:20250712T170000
DTSTAMP:20260426T033902
CREATED:20240625T134528Z
LAST-MODIFIED:20241105T105936Z
UID:121554-1752328800-1752339600@cevibasel.ch
SUMMARY:Jungschi Reinach
DESCRIPTION:
URL:https://cevibasel.ch/veranstaltung/jungschi-reinach-112/
END:VEVENT
BEGIN:VEVENT
DTSTART;TZID=Europe/Zurich:20250712T140000
DTEND;TZID=Europe/Zurich:20250712T170000
DTSTAMP:20260426T033902
CREATED:20240625T134531Z
LAST-MODIFIED:20250712T145109Z
UID:121559-1752328800-1752339600@cevibasel.ch
SUMMARY:Jungschi Bubendorf
DESCRIPTION:
URL:https://cevibasel.ch/veranstaltung/jungschi-bubendorf-112/
END:VEVENT
BEGIN:VEVENT
DTSTART;TZID=Europe/Zurich:20250712T140000
DTEND;TZID=Europe/Zurich:20250712T170000
DTSTAMP:20260426T033902
CREATED:20240625T134531Z
LAST-MODIFIED:20250712T145121Z
UID:121555-1752328800-1752339600@cevibasel.ch
SUMMARY:Jungschi Gotthelf-Neubad
DESCRIPTION:
URL:https://cevibasel.ch/veranstaltung/jungschi-gotthelf-neubad-112/
END:VEVENT
BEGIN:VEVENT
DTSTART;TZID=Europe/Zurich:20250712T140000
DTEND;TZID=Europe/Zurich:20250712T170000
DTSTAMP:20260426T033902
CREATED:20240625T134531Z
LAST-MODIFIED:20241105T105938Z
UID:121556-1752328800-1752339600@cevibasel.ch
SUMMARY:Jungschi Muttenz
DESCRIPTION:
URL:https://cevibasel.ch/veranstaltung/jungschi-muttenz-112/
END:VEVENT
BEGIN:VEVENT
DTSTART;TZID=Europe/Zurich:20250712T140000
DTEND;TZID=Europe/Zurich:20250712T170000
DTSTAMP:20260426T033902
CREATED:20240625T134531Z
LAST-MODIFIED:20250712T145109Z
UID:121557-1752328800-1752339600@cevibasel.ch
SUMMARY:Jungschi Thomas
DESCRIPTION:
URL:https://cevibasel.ch/veranstaltung/jungschi-thomas-112/
END:VEVENT
BEGIN:VEVENT
DTSTART;TZID=Europe/Zurich:20250712T140000
DTEND;TZID=Europe/Zurich:20250712T170000
DTSTAMP:20260426T033902
CREATED:20240625T134533Z
LAST-MODIFIED:20250712T145121Z
UID:121560-1752328800-1752339600@cevibasel.ch
SUMMARY:Jungschi Titus
DESCRIPTION:
URL:https://cevibasel.ch/veranstaltung/jungschi-titus-112/
END:VEVENT
BEGIN:VEVENT
DTSTART;TZID=Europe/Zurich:20250712T140000
DTEND;TZID=Europe/Zurich:20250712T170000
DTSTAMP:20260426T033902
CREATED:20240625T134533Z
LAST-MODIFIED:20250712T145109Z
UID:121561-1752328800-1752339600@cevibasel.ch
SUMMARY:Jungschi Binningen
DESCRIPTION:
URL:https://cevibasel.ch/veranstaltung/jungschi-binningen-112/
END:VEVENT
BEGIN:VEVENT
DTSTART;TZID=Europe/Zurich:20250712T140000
DTEND;TZID=Europe/Zurich:20250712T170000
DTSTAMP:20260426T033902
CREATED:20240625T134533Z
LAST-MODIFIED:20250712T145109Z
UID:121562-1752328800-1752339600@cevibasel.ch
SUMMARY:Jungschi Allschwil
DESCRIPTION:
URL:https://cevibasel.ch/veranstaltung/jungschi-allschwil-112/
END:VEVENT
END:VCALENDAR