BEGIN:VCALENDAR
VERSION:2.0
PRODID:-//Cevi Region Basel - ECPv6.15.20//NONSGML v1.0//EN
CALSCALE:GREGORIAN
METHOD:PUBLISH
X-ORIGINAL-URL:https://cevibasel.ch
X-WR-CALDESC:Events for Cevi Region Basel
REFRESH-INTERVAL;VALUE=DURATION:PT1H
X-Robots-Tag:noindex
X-PUBLISHED-TTL:PT1H
BEGIN:VTIMEZONE
TZID:Europe/Zurich
BEGIN:DAYLIGHT
TZOFFSETFROM:+0100
TZOFFSETTO:+0200
TZNAME:CEST
DTSTART:20240331T010000
END:DAYLIGHT
BEGIN:STANDARD
TZOFFSETFROM:+0200
TZOFFSETTO:+0100
TZNAME:CET
DTSTART:20241027T010000
END:STANDARD
BEGIN:DAYLIGHT
TZOFFSETFROM:+0100
TZOFFSETTO:+0200
TZNAME:CEST
DTSTART:20250330T010000
END:DAYLIGHT
BEGIN:STANDARD
TZOFFSETFROM:+0200
TZOFFSETTO:+0100
TZNAME:CET
DTSTART:20251026T010000
END:STANDARD
BEGIN:DAYLIGHT
TZOFFSETFROM:+0100
TZOFFSETTO:+0200
TZNAME:CEST
DTSTART:20260329T010000
END:DAYLIGHT
BEGIN:STANDARD
TZOFFSETFROM:+0200
TZOFFSETTO:+0100
TZNAME:CET
DTSTART:20261025T010000
END:STANDARD
END:VTIMEZONE
BEGIN:VEVENT
DTSTART;TZID=Europe/Zurich:20250809T133000
DTEND;TZID=Europe/Zurich:20250809T153000
DTSTAMP:20260426T020150
CREATED:20240625T134610Z
LAST-MODIFIED:20250809T132013Z
UID:121636-1754746200-1754753400@cevibasel.ch
SUMMARY:Hattrick Gundeli (6-11 Jahre)
DESCRIPTION:
URL:https://cevibasel.ch/veranstaltung/hattrick-gundeli-6-11-jahre-116/
LOCATION:Margarethenpark
END:VEVENT
BEGIN:VEVENT
DTSTART;TZID=Europe/Zurich:20250809T140000
DTEND;TZID=Europe/Zurich:20250809T170000
DTSTAMP:20260426T020150
CREATED:20240625T134609Z
LAST-MODIFIED:20241105T105956Z
UID:121632-1754748000-1754758800@cevibasel.ch
SUMMARY:Jungschi Muttenz
DESCRIPTION:
URL:https://cevibasel.ch/veranstaltung/jungschi-muttenz-116/
END:VEVENT
BEGIN:VEVENT
DTSTART;TZID=Europe/Zurich:20250809T140000
DTEND;TZID=Europe/Zurich:20250809T170000
DTSTAMP:20260426T020150
CREATED:20240625T134609Z
LAST-MODIFIED:20250809T145212Z
UID:121633-1754748000-1754758800@cevibasel.ch
SUMMARY:Jungschi Allschwil
DESCRIPTION:
URL:https://cevibasel.ch/veranstaltung/jungschi-allschwil-116/
END:VEVENT
BEGIN:VEVENT
DTSTART;TZID=Europe/Zurich:20250809T140000
DTEND;TZID=Europe/Zurich:20250809T170000
DTSTAMP:20260426T020150
CREATED:20240625T134609Z
LAST-MODIFIED:20250809T145212Z
UID:121634-1754748000-1754758800@cevibasel.ch
SUMMARY:Jungschi Gotthelf-Neubad
DESCRIPTION:
URL:https://cevibasel.ch/veranstaltung/jungschi-gotthelf-neubad-116/
END:VEVENT
BEGIN:VEVENT
DTSTART;TZID=Europe/Zurich:20250809T140000
DTEND;TZID=Europe/Zurich:20250809T170000
DTSTAMP:20260426T020150
CREATED:20240625T134609Z
LAST-MODIFIED:20250809T145212Z
UID:121635-1754748000-1754758800@cevibasel.ch
SUMMARY:Jungschi Thomas
DESCRIPTION:
URL:https://cevibasel.ch/veranstaltung/jungschi-thomas-116/
END:VEVENT
BEGIN:VEVENT
DTSTART;TZID=Europe/Zurich:20250809T140000
DTEND;TZID=Europe/Zurich:20250809T170000
DTSTAMP:20260426T020150
CREATED:20240625T134610Z
LAST-MODIFIED:20250809T145247Z
UID:121637-1754748000-1754758800@cevibasel.ch
SUMMARY:Jungschi Ettigen & Therwil
DESCRIPTION:
URL:https://cevibasel.ch/veranstaltung/jungschi-ettigen-therwil-116/
END:VEVENT
BEGIN:VEVENT
DTSTART;TZID=Europe/Zurich:20250809T140000
DTEND;TZID=Europe/Zurich:20250809T170000
DTSTAMP:20260426T020150
CREATED:20240625T134610Z
LAST-MODIFIED:20250809T145247Z
UID:121638-1754748000-1754758800@cevibasel.ch
SUMMARY:Jungschi Bubendorf
DESCRIPTION:
URL:https://cevibasel.ch/veranstaltung/jungschi-bubendorf-116/
END:VEVENT
BEGIN:VEVENT
DTSTART;TZID=Europe/Zurich:20250809T140000
DTEND;TZID=Europe/Zurich:20250809T170000
DTSTAMP:20260426T020150
CREATED:20240625T134610Z
LAST-MODIFIED:20241105T105953Z
UID:121639-1754748000-1754758800@cevibasel.ch
SUMMARY:Jungschi Reinach
DESCRIPTION:
URL:https://cevibasel.ch/veranstaltung/jungschi-reinach-116/
END:VEVENT
BEGIN:VEVENT
DTSTART;TZID=Europe/Zurich:20250809T140000
DTEND;TZID=Europe/Zurich:20250809T170000
DTSTAMP:20260426T020150
CREATED:20240625T134610Z
LAST-MODIFIED:20250809T145212Z
UID:121640-1754748000-1754758800@cevibasel.ch
SUMMARY:Jungschi Binningen
DESCRIPTION:
URL:https://cevibasel.ch/veranstaltung/jungschi-binningen-116/
END:VEVENT
BEGIN:VEVENT
DTSTART;TZID=Europe/Zurich:20250809T140000
DTEND;TZID=Europe/Zurich:20250809T170000
DTSTAMP:20260426T020150
CREATED:20240625T134611Z
LAST-MODIFIED:20250809T145212Z
UID:121641-1754748000-1754758800@cevibasel.ch
SUMMARY:Jungschi Titus
DESCRIPTION:
URL:https://cevibasel.ch/veranstaltung/jungschi-titus-116/
END:VEVENT
END:VCALENDAR