BEGIN:VCALENDAR
VERSION:2.0
PRODID:-//Cevi Region Basel - ECPv6.15.20//NONSGML v1.0//EN
CALSCALE:GREGORIAN
METHOD:PUBLISH
X-ORIGINAL-URL:https://cevibasel.ch
X-WR-CALDESC:Events for Cevi Region Basel
REFRESH-INTERVAL;VALUE=DURATION:PT1H
X-Robots-Tag:noindex
X-PUBLISHED-TTL:PT1H
BEGIN:VTIMEZONE
TZID:Europe/Zurich
BEGIN:DAYLIGHT
TZOFFSETFROM:+0100
TZOFFSETTO:+0200
TZNAME:CEST
DTSTART:20240331T010000
END:DAYLIGHT
BEGIN:STANDARD
TZOFFSETFROM:+0200
TZOFFSETTO:+0100
TZNAME:CET
DTSTART:20241027T010000
END:STANDARD
BEGIN:DAYLIGHT
TZOFFSETFROM:+0100
TZOFFSETTO:+0200
TZNAME:CEST
DTSTART:20250330T010000
END:DAYLIGHT
BEGIN:STANDARD
TZOFFSETFROM:+0200
TZOFFSETTO:+0100
TZNAME:CET
DTSTART:20251026T010000
END:STANDARD
BEGIN:DAYLIGHT
TZOFFSETFROM:+0100
TZOFFSETTO:+0200
TZNAME:CEST
DTSTART:20260329T010000
END:DAYLIGHT
BEGIN:STANDARD
TZOFFSETFROM:+0200
TZOFFSETTO:+0100
TZNAME:CET
DTSTART:20261025T010000
END:STANDARD
END:VTIMEZONE
BEGIN:VEVENT
DTSTART;TZID=Europe/Zurich:20250828T083000
DTEND;TZID=Europe/Zurich:20250828T113000
DTSTAMP:20260426T002930
CREATED:20240812T101831Z
LAST-MODIFIED:20241227T021923Z
UID:127575-1756369800-1756380600@cevibasel.ch
SUMMARY:Mütterngruppe
DESCRIPTION:
URL:https://cevibasel.ch/veranstaltung/mutterngruppe-233/
LOCATION:Cevi Seki
END:VEVENT
BEGIN:VEVENT
DTSTART;TZID=Europe/Zurich:20250828T083000
DTEND;TZID=Europe/Zurich:20250828T113000
DTSTAMP:20260426T002930
CREATED:20240812T101831Z
LAST-MODIFIED:20250113T111842Z
UID:127576-1756369800-1756380600@cevibasel.ch
SUMMARY:Mütterngruppe
DESCRIPTION:
URL:https://cevibasel.ch/veranstaltung/mutterngruppe-234/
LOCATION:Cevi Seki
END:VEVENT
BEGIN:VEVENT
DTSTART;TZID=Europe/Zurich:20250828T083000
DTEND;TZID=Europe/Zurich:20250828T113000
DTSTAMP:20260426T002930
CREATED:20240812T101832Z
LAST-MODIFIED:20241227T021921Z
UID:127580-1756369800-1756380600@cevibasel.ch
SUMMARY:Mütterngruppe
DESCRIPTION:
URL:https://cevibasel.ch/veranstaltung/mutterngruppe-238/
LOCATION:Cevi Seki
END:VEVENT
BEGIN:VEVENT
DTSTART;TZID=Europe/Zurich:20250828T083000
DTEND;TZID=Europe/Zurich:20250828T113000
DTSTAMP:20260426T002930
CREATED:20240812T101832Z
LAST-MODIFIED:20250113T111842Z
UID:127581-1756369800-1756380600@cevibasel.ch
SUMMARY:Mütterngruppe
DESCRIPTION:
URL:https://cevibasel.ch/veranstaltung/mutterngruppe-239/
LOCATION:Cevi Seki
END:VEVENT
BEGIN:VEVENT
DTSTART;TZID=Europe/Zurich:20250828T083000
DTEND;TZID=Europe/Zurich:20250828T113000
DTSTAMP:20260426T002930
CREATED:20240812T101832Z
LAST-MODIFIED:20250828T091949Z
UID:127582-1756369800-1756380600@cevibasel.ch
SUMMARY:Mütterngruppe
DESCRIPTION:
URL:https://cevibasel.ch/veranstaltung/mutterngruppe-240/
LOCATION:Cevi Seki
END:VEVENT
BEGIN:VEVENT
DTSTART;TZID=Europe/Zurich:20250828T083000
DTEND;TZID=Europe/Zurich:20250828T113000
DTSTAMP:20260426T002930
CREATED:20240812T101832Z
LAST-MODIFIED:20241227T021921Z
UID:127577-1756369800-1756380600@cevibasel.ch
SUMMARY:Mütterngruppe
DESCRIPTION:
URL:https://cevibasel.ch/veranstaltung/mutterngruppe-235/
LOCATION:Cevi Seki
END:VEVENT
BEGIN:VEVENT
DTSTART;TZID=Europe/Zurich:20250828T083000
DTEND;TZID=Europe/Zurich:20250828T113000
DTSTAMP:20260426T002930
CREATED:20240812T101832Z
LAST-MODIFIED:20241227T021923Z
UID:127578-1756369800-1756380600@cevibasel.ch
SUMMARY:Mütterngruppe
DESCRIPTION:
URL:https://cevibasel.ch/veranstaltung/mutterngruppe-236/
LOCATION:Cevi Seki
END:VEVENT
BEGIN:VEVENT
DTSTART;TZID=Europe/Zurich:20250828T083000
DTEND;TZID=Europe/Zurich:20250828T113000
DTSTAMP:20260426T002930
CREATED:20240812T101832Z
LAST-MODIFIED:20241227T021923Z
UID:127579-1756369800-1756380600@cevibasel.ch
SUMMARY:Mütterngruppe
DESCRIPTION:
URL:https://cevibasel.ch/veranstaltung/mutterngruppe-237/
LOCATION:Cevi Seki
END:VEVENT
BEGIN:VEVENT
DTSTART;TZID=Europe/Zurich:20250828T083000
DTEND;TZID=Europe/Zurich:20250828T113000
DTSTAMP:20260426T002930
CREATED:20240812T101833Z
LAST-MODIFIED:20241227T021921Z
UID:127583-1756369800-1756380600@cevibasel.ch
SUMMARY:Mütterngruppe
DESCRIPTION:
URL:https://cevibasel.ch/veranstaltung/mutterngruppe-241/
LOCATION:Cevi Seki
END:VEVENT
END:VCALENDAR