BEGIN:VCALENDAR
VERSION:2.0
PRODID:-//Cevi Region Basel - ECPv6.15.20//NONSGML v1.0//EN
CALSCALE:GREGORIAN
METHOD:PUBLISH
X-ORIGINAL-URL:https://cevibasel.ch
X-WR-CALDESC:Events for Cevi Region Basel
REFRESH-INTERVAL;VALUE=DURATION:PT1H
X-Robots-Tag:noindex
X-PUBLISHED-TTL:PT1H
BEGIN:VTIMEZONE
TZID:Europe/Zurich
BEGIN:DAYLIGHT
TZOFFSETFROM:+0100
TZOFFSETTO:+0200
TZNAME:CEST
DTSTART:20240331T010000
END:DAYLIGHT
BEGIN:STANDARD
TZOFFSETFROM:+0200
TZOFFSETTO:+0100
TZNAME:CET
DTSTART:20241027T010000
END:STANDARD
BEGIN:DAYLIGHT
TZOFFSETFROM:+0100
TZOFFSETTO:+0200
TZNAME:CEST
DTSTART:20250330T010000
END:DAYLIGHT
BEGIN:STANDARD
TZOFFSETFROM:+0200
TZOFFSETTO:+0100
TZNAME:CET
DTSTART:20251026T010000
END:STANDARD
BEGIN:DAYLIGHT
TZOFFSETFROM:+0100
TZOFFSETTO:+0200
TZNAME:CEST
DTSTART:20260329T010000
END:DAYLIGHT
BEGIN:STANDARD
TZOFFSETFROM:+0200
TZOFFSETTO:+0100
TZNAME:CET
DTSTART:20261025T010000
END:STANDARD
END:VTIMEZONE
BEGIN:VEVENT
DTSTART;TZID=Europe/Zurich:20251101T133000
DTEND;TZID=Europe/Zurich:20251101T153000
DTSTAMP:20260425T171610
CREATED:20240625T134826Z
LAST-MODIFIED:20251101T142136Z
UID:121874-1762003800-1762011000@cevibasel.ch
SUMMARY:Hattrick Gundeli (6-11 Jahre)
DESCRIPTION:
URL:https://cevibasel.ch/veranstaltung/hattrick-gundeli-6-11-jahre-128/
LOCATION:Margarethenpark
END:VEVENT
BEGIN:VEVENT
DTSTART;TZID=Europe/Zurich:20251101T140000
DTEND;TZID=Europe/Zurich:20251101T170000
DTSTAMP:20260425T171610
CREATED:20240625T134824Z
LAST-MODIFIED:20241105T110042Z
UID:121867-1762005600-1762016400@cevibasel.ch
SUMMARY:Jungschi Muttenz
DESCRIPTION:
URL:https://cevibasel.ch/veranstaltung/jungschi-muttenz-128/
END:VEVENT
BEGIN:VEVENT
DTSTART;TZID=Europe/Zurich:20251101T140000
DTEND;TZID=Europe/Zurich:20251101T170000
DTSTAMP:20260425T171610
CREATED:20240625T134824Z
LAST-MODIFIED:20251101T155133Z
UID:121868-1762005600-1762016400@cevibasel.ch
SUMMARY:Jungschi Thomas
DESCRIPTION:
URL:https://cevibasel.ch/veranstaltung/jungschi-thomas-128/
END:VEVENT
BEGIN:VEVENT
DTSTART;TZID=Europe/Zurich:20251101T140000
DTEND;TZID=Europe/Zurich:20251101T170000
DTSTAMP:20260425T171610
CREATED:20240625T134824Z
LAST-MODIFIED:20251101T155059Z
UID:121869-1762005600-1762016400@cevibasel.ch
SUMMARY:Jungschi Ettigen & Therwil
DESCRIPTION:
URL:https://cevibasel.ch/veranstaltung/jungschi-ettigen-therwil-128/
END:VEVENT
BEGIN:VEVENT
DTSTART;TZID=Europe/Zurich:20251101T140000
DTEND;TZID=Europe/Zurich:20251101T170000
DTSTAMP:20260425T171610
CREATED:20240625T134824Z
LAST-MODIFIED:20251101T155059Z
UID:121870-1762005600-1762016400@cevibasel.ch
SUMMARY:Jungschi Titus
DESCRIPTION:
URL:https://cevibasel.ch/veranstaltung/jungschi-titus-128/
END:VEVENT
BEGIN:VEVENT
DTSTART;TZID=Europe/Zurich:20251101T140000
DTEND;TZID=Europe/Zurich:20251101T170000
DTSTAMP:20260425T171610
CREATED:20240625T134824Z
LAST-MODIFIED:20251101T155133Z
UID:121871-1762005600-1762016400@cevibasel.ch
SUMMARY:Jungschi Gotthelf-Neubad
DESCRIPTION:
URL:https://cevibasel.ch/veranstaltung/jungschi-gotthelf-neubad-128/
END:VEVENT
BEGIN:VEVENT
DTSTART;TZID=Europe/Zurich:20251101T140000
DTEND;TZID=Europe/Zurich:20251101T170000
DTSTAMP:20260425T171610
CREATED:20240625T134825Z
LAST-MODIFIED:20251101T155059Z
UID:121872-1762005600-1762016400@cevibasel.ch
SUMMARY:Jungschi Binningen
DESCRIPTION:
URL:https://cevibasel.ch/veranstaltung/jungschi-binningen-128/
END:VEVENT
BEGIN:VEVENT
DTSTART;TZID=Europe/Zurich:20251101T140000
DTEND;TZID=Europe/Zurich:20251101T170000
DTSTAMP:20260425T171610
CREATED:20240625T134825Z
LAST-MODIFIED:20251101T155059Z
UID:121873-1762005600-1762016400@cevibasel.ch
SUMMARY:Jungschi Bubendorf
DESCRIPTION:
URL:https://cevibasel.ch/veranstaltung/jungschi-bubendorf-128/
END:VEVENT
BEGIN:VEVENT
DTSTART;TZID=Europe/Zurich:20251101T140000
DTEND;TZID=Europe/Zurich:20251101T170000
DTSTAMP:20260425T171610
CREATED:20240625T134826Z
LAST-MODIFIED:20251101T155059Z
UID:121875-1762005600-1762016400@cevibasel.ch
SUMMARY:Jungschi Allschwil
DESCRIPTION:
URL:https://cevibasel.ch/veranstaltung/jungschi-allschwil-128/
END:VEVENT
BEGIN:VEVENT
DTSTART;TZID=Europe/Zurich:20251101T140000
DTEND;TZID=Europe/Zurich:20251101T170000
DTSTAMP:20260425T171610
CREATED:20240625T134826Z
LAST-MODIFIED:20241105T110042Z
UID:121876-1762005600-1762016400@cevibasel.ch
SUMMARY:Jungschi Reinach
DESCRIPTION:
URL:https://cevibasel.ch/veranstaltung/jungschi-reinach-128/
END:VEVENT
END:VCALENDAR