BEGIN:VCALENDAR
VERSION:2.0
PRODID:-//Cevi Region Basel - ECPv6.15.20//NONSGML v1.0//EN
CALSCALE:GREGORIAN
METHOD:PUBLISH
X-ORIGINAL-URL:https://cevibasel.ch
X-WR-CALDESC:Events for Cevi Region Basel
REFRESH-INTERVAL;VALUE=DURATION:PT1H
X-Robots-Tag:noindex
X-PUBLISHED-TTL:PT1H
BEGIN:VTIMEZONE
TZID:Europe/Zurich
BEGIN:DAYLIGHT
TZOFFSETFROM:+0100
TZOFFSETTO:+0200
TZNAME:CEST
DTSTART:20240331T010000
END:DAYLIGHT
BEGIN:STANDARD
TZOFFSETFROM:+0200
TZOFFSETTO:+0100
TZNAME:CET
DTSTART:20241027T010000
END:STANDARD
BEGIN:DAYLIGHT
TZOFFSETFROM:+0100
TZOFFSETTO:+0200
TZNAME:CEST
DTSTART:20250330T010000
END:DAYLIGHT
BEGIN:STANDARD
TZOFFSETFROM:+0200
TZOFFSETTO:+0100
TZNAME:CET
DTSTART:20251026T010000
END:STANDARD
BEGIN:DAYLIGHT
TZOFFSETFROM:+0100
TZOFFSETTO:+0200
TZNAME:CEST
DTSTART:20260329T010000
END:DAYLIGHT
BEGIN:STANDARD
TZOFFSETFROM:+0200
TZOFFSETTO:+0100
TZNAME:CET
DTSTART:20261025T010000
END:STANDARD
END:VTIMEZONE
BEGIN:VEVENT
DTSTART;TZID=Europe/Zurich:20251218T083000
DTEND;TZID=Europe/Zurich:20251218T113000
DTSTAMP:20260425T171605
CREATED:20240812T103402Z
LAST-MODIFIED:20241224T064123Z
UID:127914-1766046600-1766057400@cevibasel.ch
SUMMARY:Mütterngruppe
DESCRIPTION:
URL:https://cevibasel.ch/veranstaltung/mutterngruppe-313/
LOCATION:Cevi Seki
END:VEVENT
BEGIN:VEVENT
DTSTART;TZID=Europe/Zurich:20251218T083000
DTEND;TZID=Europe/Zurich:20251218T113000
DTSTAMP:20260425T171605
CREATED:20240812T103406Z
LAST-MODIFIED:20251217T000451Z
UID:127919-1766046600-1766057400@cevibasel.ch
SUMMARY:Mütterngruppe
DESCRIPTION:
URL:https://cevibasel.ch/veranstaltung/mutterngruppe-318/
LOCATION:Cevi Seki
END:VEVENT
BEGIN:VEVENT
DTSTART;TZID=Europe/Zurich:20251218T083000
DTEND;TZID=Europe/Zurich:20251218T113000
DTSTAMP:20260425T171605
CREATED:20240812T103406Z
LAST-MODIFIED:20241224T064123Z
UID:127915-1766046600-1766057400@cevibasel.ch
SUMMARY:Mütterngruppe
DESCRIPTION:
URL:https://cevibasel.ch/veranstaltung/mutterngruppe-314/
LOCATION:Cevi Seki
END:VEVENT
BEGIN:VEVENT
DTSTART;TZID=Europe/Zurich:20251218T083000
DTEND;TZID=Europe/Zurich:20251218T113000
DTSTAMP:20260425T171605
CREATED:20240812T103406Z
LAST-MODIFIED:20241224T064122Z
UID:127916-1766046600-1766057400@cevibasel.ch
SUMMARY:Mütterngruppe
DESCRIPTION:
URL:https://cevibasel.ch/veranstaltung/mutterngruppe-315/
LOCATION:Cevi Seki
END:VEVENT
BEGIN:VEVENT
DTSTART;TZID=Europe/Zurich:20251218T083000
DTEND;TZID=Europe/Zurich:20251218T113000
DTSTAMP:20260425T171605
CREATED:20240812T103406Z
LAST-MODIFIED:20241224T064122Z
UID:127917-1766046600-1766057400@cevibasel.ch
SUMMARY:Mütterngruppe
DESCRIPTION:
URL:https://cevibasel.ch/veranstaltung/mutterngruppe-316/
LOCATION:Cevi Seki
END:VEVENT
BEGIN:VEVENT
DTSTART;TZID=Europe/Zurich:20251218T083000
DTEND;TZID=Europe/Zurich:20251218T113000
DTSTAMP:20260425T171605
CREATED:20240812T103406Z
LAST-MODIFIED:20241224T064123Z
UID:127918-1766046600-1766057400@cevibasel.ch
SUMMARY:Mütterngruppe
DESCRIPTION:
URL:https://cevibasel.ch/veranstaltung/mutterngruppe-317/
LOCATION:Cevi Seki
END:VEVENT
BEGIN:VEVENT
DTSTART;TZID=Europe/Zurich:20251218T083000
DTEND;TZID=Europe/Zurich:20251218T113000
DTSTAMP:20260425T171605
CREATED:20240812T103410Z
LAST-MODIFIED:20250105T073432Z
UID:127920-1766046600-1766057400@cevibasel.ch
SUMMARY:Mütterngruppe
DESCRIPTION:
URL:https://cevibasel.ch/veranstaltung/mutterngruppe-319/
LOCATION:Cevi Seki
END:VEVENT
BEGIN:VEVENT
DTSTART;TZID=Europe/Zurich:20251218T083000
DTEND;TZID=Europe/Zurich:20251218T113000
DTSTAMP:20260425T171605
CREATED:20240812T103410Z
LAST-MODIFIED:20241224T064123Z
UID:127921-1766046600-1766057400@cevibasel.ch
SUMMARY:Mütterngruppe
DESCRIPTION:
URL:https://cevibasel.ch/veranstaltung/mutterngruppe-320/
LOCATION:Cevi Seki
END:VEVENT
BEGIN:VEVENT
DTSTART;TZID=Europe/Zurich:20251218T083000
DTEND;TZID=Europe/Zurich:20251218T113000
DTSTAMP:20260425T171605
CREATED:20240812T103410Z
LAST-MODIFIED:20250105T073432Z
UID:127922-1766046600-1766057400@cevibasel.ch
SUMMARY:Mütterngruppe
DESCRIPTION:
URL:https://cevibasel.ch/veranstaltung/mutterngruppe-321/
LOCATION:Cevi Seki
END:VEVENT
END:VCALENDAR