BEGIN:VCALENDAR
VERSION:2.0
PRODID:-//Cevi Region Basel - ECPv6.15.20//NONSGML v1.0//EN
CALSCALE:GREGORIAN
METHOD:PUBLISH
X-WR-CALNAME:Cevi Region Basel
X-ORIGINAL-URL:https://cevibasel.ch
X-WR-CALDESC:Events for Cevi Region Basel
REFRESH-INTERVAL;VALUE=DURATION:PT1H
X-Robots-Tag:noindex
X-PUBLISHED-TTL:PT1H
BEGIN:VTIMEZONE
TZID:Europe/Zurich
BEGIN:DAYLIGHT
TZOFFSETFROM:+0100
TZOFFSETTO:+0200
TZNAME:CEST
DTSTART:20250330T010000
END:DAYLIGHT
BEGIN:STANDARD
TZOFFSETFROM:+0200
TZOFFSETTO:+0100
TZNAME:CET
DTSTART:20251026T010000
END:STANDARD
BEGIN:DAYLIGHT
TZOFFSETFROM:+0100
TZOFFSETTO:+0200
TZNAME:CEST
DTSTART:20260329T010000
END:DAYLIGHT
BEGIN:STANDARD
TZOFFSETFROM:+0200
TZOFFSETTO:+0100
TZNAME:CET
DTSTART:20261025T010000
END:STANDARD
BEGIN:DAYLIGHT
TZOFFSETFROM:+0100
TZOFFSETTO:+0200
TZNAME:CEST
DTSTART:20270328T010000
END:DAYLIGHT
BEGIN:STANDARD
TZOFFSETFROM:+0200
TZOFFSETTO:+0100
TZNAME:CET
DTSTART:20271031T010000
END:STANDARD
END:VTIMEZONE
BEGIN:VEVENT
DTSTART;VALUE=DATE:20260109
DTEND;VALUE=DATE:20260112
DTSTAMP:20260423T201601
CREATED:20251119T112844Z
LAST-MODIFIED:20260111T235022Z
UID:169856-1767916800-1768175999@cevibasel.ch
SUMMARY:Alpha Live Weekend
DESCRIPTION:
URL:https://cevibasel.ch/veranstaltung/alpha-live-weekend/
END:VEVENT
BEGIN:VEVENT
DTSTART;TZID=Europe/Zurich:20260109T173000
DTEND;TZID=Europe/Zurich:20260109T190000
DTSTAMP:20260423T201601
CREATED:20240625T140256Z
LAST-MODIFIED:20260109T174959Z
UID:122882-1767979800-1767985200@cevibasel.ch
SUMMARY:Hattrick Basel West (7-15 Jahre)
DESCRIPTION:
URL:https://cevibasel.ch/veranstaltung/hattrick-basel-west-7-15-jahre-138/
END:VEVENT
BEGIN:VEVENT
DTSTART;TZID=Europe/Zurich:20260109T173000
DTEND;TZID=Europe/Zurich:20260109T190000
DTSTAMP:20260423T201601
CREATED:20240625T140256Z
LAST-MODIFIED:20260109T174959Z
UID:122883-1767979800-1767985200@cevibasel.ch
SUMMARY:Hattrick Riehen (4. bis 5. Klasse)
DESCRIPTION:
URL:https://cevibasel.ch/veranstaltung/hattrick-riehen-4-bis-5-klasse-138/
LOCATION:Andreasmatte
END:VEVENT
BEGIN:VEVENT
DTSTART;TZID=Europe/Zurich:20260109T190000
DTEND;TZID=Europe/Zurich:20260109T203000
DTSTAMP:20260423T201601
CREATED:20240625T140256Z
LAST-MODIFIED:20260109T192147Z
UID:122884-1767985200-1767990600@cevibasel.ch
SUMMARY:Hattrick Basel West (16-18 Jahre)
DESCRIPTION:
URL:https://cevibasel.ch/veranstaltung/hattrick-basel-west-16-18-jahre-138/
LOCATION:Fussballfelder Pfaffenholz
END:VEVENT
END:VCALENDAR