BEGIN:VCALENDAR
VERSION:2.0
PRODID:-//Cevi Region Basel - ECPv6.15.20//NONSGML v1.0//EN
CALSCALE:GREGORIAN
METHOD:PUBLISH
X-ORIGINAL-URL:https://cevibasel.ch
X-WR-CALDESC:Events for Cevi Region Basel
REFRESH-INTERVAL;VALUE=DURATION:PT1H
X-Robots-Tag:noindex
X-PUBLISHED-TTL:PT1H
BEGIN:VTIMEZONE
TZID:Europe/Zurich
BEGIN:DAYLIGHT
TZOFFSETFROM:+0100
TZOFFSETTO:+0200
TZNAME:CEST
DTSTART:20250330T010000
END:DAYLIGHT
BEGIN:STANDARD
TZOFFSETFROM:+0200
TZOFFSETTO:+0100
TZNAME:CET
DTSTART:20251026T010000
END:STANDARD
BEGIN:DAYLIGHT
TZOFFSETFROM:+0100
TZOFFSETTO:+0200
TZNAME:CEST
DTSTART:20260329T010000
END:DAYLIGHT
BEGIN:STANDARD
TZOFFSETFROM:+0200
TZOFFSETTO:+0100
TZNAME:CET
DTSTART:20261025T010000
END:STANDARD
BEGIN:DAYLIGHT
TZOFFSETFROM:+0100
TZOFFSETTO:+0200
TZNAME:CEST
DTSTART:20270328T010000
END:DAYLIGHT
BEGIN:STANDARD
TZOFFSETFROM:+0200
TZOFFSETTO:+0100
TZNAME:CET
DTSTART:20271031T010000
END:STANDARD
END:VTIMEZONE
BEGIN:VEVENT
DTSTART;TZID=Europe/Zurich:20260115T083000
DTEND;TZID=Europe/Zurich:20260115T113000
DTSTAMP:20260423T161818
CREATED:20240812T121918Z
LAST-MODIFIED:20241224T064149Z
UID:128003-1768465800-1768476600@cevibasel.ch
SUMMARY:Mütterngruppe
DESCRIPTION:
URL:https://cevibasel.ch/veranstaltung/mutterngruppe-333/
LOCATION:Cevi Seki
END:VEVENT
BEGIN:VEVENT
DTSTART;TZID=Europe/Zurich:20260115T083000
DTEND;TZID=Europe/Zurich:20260115T113000
DTSTAMP:20260423T161818
CREATED:20240812T121918Z
LAST-MODIFIED:20241224T064149Z
UID:128004-1768465800-1768476600@cevibasel.ch
SUMMARY:Mütterngruppe
DESCRIPTION:
URL:https://cevibasel.ch/veranstaltung/mutterngruppe-334/
LOCATION:Cevi Seki
END:VEVENT
BEGIN:VEVENT
DTSTART;TZID=Europe/Zurich:20260115T083000
DTEND;TZID=Europe/Zurich:20260115T113000
DTSTAMP:20260423T161818
CREATED:20240812T121918Z
LAST-MODIFIED:20241224T064150Z
UID:128005-1768465800-1768476600@cevibasel.ch
SUMMARY:Mütterngruppe
DESCRIPTION:
URL:https://cevibasel.ch/veranstaltung/mutterngruppe-335/
LOCATION:Cevi Seki
END:VEVENT
BEGIN:VEVENT
DTSTART;TZID=Europe/Zurich:20260115T083000
DTEND;TZID=Europe/Zurich:20260115T113000
DTSTAMP:20260423T161818
CREATED:20240812T121918Z
LAST-MODIFIED:20241224T064150Z
UID:128006-1768465800-1768476600@cevibasel.ch
SUMMARY:Mütterngruppe
DESCRIPTION:
URL:https://cevibasel.ch/veranstaltung/mutterngruppe-336/
LOCATION:Cevi Seki
END:VEVENT
BEGIN:VEVENT
DTSTART;TZID=Europe/Zurich:20260115T083000
DTEND;TZID=Europe/Zurich:20260115T113000
DTSTAMP:20260423T161818
CREATED:20240812T121919Z
LAST-MODIFIED:20241224T064149Z
UID:128007-1768465800-1768476600@cevibasel.ch
SUMMARY:Mütterngruppe
DESCRIPTION:
URL:https://cevibasel.ch/veranstaltung/mutterngruppe-337/
LOCATION:Cevi Seki
END:VEVENT
BEGIN:VEVENT
DTSTART;TZID=Europe/Zurich:20260115T083000
DTEND;TZID=Europe/Zurich:20260115T113000
DTSTAMP:20260423T161818
CREATED:20240812T121920Z
LAST-MODIFIED:20260115T102010Z
UID:128008-1768465800-1768476600@cevibasel.ch
SUMMARY:Mütterngruppe
DESCRIPTION:
URL:https://cevibasel.ch/veranstaltung/mutterngruppe-338/
LOCATION:Cevi Seki
END:VEVENT
BEGIN:VEVENT
DTSTART;TZID=Europe/Zurich:20260115T083000
DTEND;TZID=Europe/Zurich:20260115T113000
DTSTAMP:20260423T161818
CREATED:20240812T121920Z
LAST-MODIFIED:20241224T064150Z
UID:128009-1768465800-1768476600@cevibasel.ch
SUMMARY:Mütterngruppe
DESCRIPTION:
URL:https://cevibasel.ch/veranstaltung/mutterngruppe-339/
LOCATION:Cevi Seki
END:VEVENT
BEGIN:VEVENT
DTSTART;TZID=Europe/Zurich:20260115T083000
DTEND;TZID=Europe/Zurich:20260115T113000
DTSTAMP:20260423T161818
CREATED:20240812T121920Z
LAST-MODIFIED:20241224T064150Z
UID:128010-1768465800-1768476600@cevibasel.ch
SUMMARY:Mütterngruppe
DESCRIPTION:
URL:https://cevibasel.ch/veranstaltung/mutterngruppe-340/
LOCATION:Cevi Seki
END:VEVENT
BEGIN:VEVENT
DTSTART;TZID=Europe/Zurich:20260115T083000
DTEND;TZID=Europe/Zurich:20260115T113000
DTSTAMP:20260423T161818
CREATED:20240812T121920Z
LAST-MODIFIED:20241224T064149Z
UID:128011-1768465800-1768476600@cevibasel.ch
SUMMARY:Mütterngruppe
DESCRIPTION:
URL:https://cevibasel.ch/veranstaltung/mutterngruppe-341/
LOCATION:Cevi Seki
END:VEVENT
END:VCALENDAR