BEGIN:VCALENDAR
VERSION:2.0
PRODID:-//Cevi Region Basel - ECPv6.15.20//NONSGML v1.0//EN
CALSCALE:GREGORIAN
METHOD:PUBLISH
X-WR-CALNAME:Cevi Region Basel
X-ORIGINAL-URL:https://cevibasel.ch
X-WR-CALDESC:Events for Cevi Region Basel
REFRESH-INTERVAL;VALUE=DURATION:PT1H
X-Robots-Tag:noindex
X-PUBLISHED-TTL:PT1H
BEGIN:VTIMEZONE
TZID:Europe/Zurich
BEGIN:DAYLIGHT
TZOFFSETFROM:+0100
TZOFFSETTO:+0200
TZNAME:CEST
DTSTART:20250330T010000
END:DAYLIGHT
BEGIN:STANDARD
TZOFFSETFROM:+0200
TZOFFSETTO:+0100
TZNAME:CET
DTSTART:20251026T010000
END:STANDARD
BEGIN:DAYLIGHT
TZOFFSETFROM:+0100
TZOFFSETTO:+0200
TZNAME:CEST
DTSTART:20260329T010000
END:DAYLIGHT
BEGIN:STANDARD
TZOFFSETFROM:+0200
TZOFFSETTO:+0100
TZNAME:CET
DTSTART:20261025T010000
END:STANDARD
BEGIN:DAYLIGHT
TZOFFSETFROM:+0100
TZOFFSETTO:+0200
TZNAME:CEST
DTSTART:20270328T010000
END:DAYLIGHT
BEGIN:STANDARD
TZOFFSETFROM:+0200
TZOFFSETTO:+0100
TZNAME:CET
DTSTART:20271031T010000
END:STANDARD
END:VTIMEZONE
BEGIN:VEVENT
DTSTART;TZID=Europe/Zurich:20260129T083000
DTEND;TZID=Europe/Zurich:20260129T113000
DTSTAMP:20260423T161312
CREATED:20240812T121938Z
LAST-MODIFIED:20241224T064200Z
UID:128013-1769675400-1769686200@cevibasel.ch
SUMMARY:Mütterngruppe
DESCRIPTION:
URL:https://cevibasel.ch/veranstaltung/mutterngruppe-343/
LOCATION:Cevi Seki
END:VEVENT
BEGIN:VEVENT
DTSTART;TZID=Europe/Zurich:20260129T083000
DTEND;TZID=Europe/Zurich:20260129T113000
DTSTAMP:20260423T161312
CREATED:20240812T121938Z
LAST-MODIFIED:20241224T064200Z
UID:128014-1769675400-1769686200@cevibasel.ch
SUMMARY:Mütterngruppe
DESCRIPTION:
URL:https://cevibasel.ch/veranstaltung/mutterngruppe-344/
LOCATION:Cevi Seki
END:VEVENT
BEGIN:VEVENT
DTSTART;TZID=Europe/Zurich:20260129T083000
DTEND;TZID=Europe/Zurich:20260129T113000
DTSTAMP:20260423T161312
CREATED:20240812T121942Z
LAST-MODIFIED:20241224T064200Z
UID:128018-1769675400-1769686200@cevibasel.ch
SUMMARY:Mütterngruppe
DESCRIPTION:
URL:https://cevibasel.ch/veranstaltung/mutterngruppe-348/
LOCATION:Cevi Seki
END:VEVENT
BEGIN:VEVENT
DTSTART;TZID=Europe/Zurich:20260129T083000
DTEND;TZID=Europe/Zurich:20260129T113000
DTSTAMP:20260423T161312
CREATED:20240812T121942Z
LAST-MODIFIED:20241224T064159Z
UID:128019-1769675400-1769686200@cevibasel.ch
SUMMARY:Mütterngruppe
DESCRIPTION:
URL:https://cevibasel.ch/veranstaltung/mutterngruppe-349/
LOCATION:Cevi Seki
END:VEVENT
BEGIN:VEVENT
DTSTART;TZID=Europe/Zurich:20260129T083000
DTEND;TZID=Europe/Zurich:20260129T113000
DTSTAMP:20260423T161312
CREATED:20240812T121942Z
LAST-MODIFIED:20241224T064159Z
UID:128015-1769675400-1769686200@cevibasel.ch
SUMMARY:Mütterngruppe
DESCRIPTION:
URL:https://cevibasel.ch/veranstaltung/mutterngruppe-345/
LOCATION:Cevi Seki
END:VEVENT
BEGIN:VEVENT
DTSTART;TZID=Europe/Zurich:20260129T083000
DTEND;TZID=Europe/Zurich:20260129T113000
DTSTAMP:20260423T161312
CREATED:20240812T121942Z
LAST-MODIFIED:20241224T064159Z
UID:128016-1769675400-1769686200@cevibasel.ch
SUMMARY:Mütterngruppe
DESCRIPTION:
URL:https://cevibasel.ch/veranstaltung/mutterngruppe-346/
LOCATION:Cevi Seki
END:VEVENT
BEGIN:VEVENT
DTSTART;TZID=Europe/Zurich:20260129T083000
DTEND;TZID=Europe/Zurich:20260129T113000
DTSTAMP:20260423T161312
CREATED:20240812T121942Z
LAST-MODIFIED:20260129T102023Z
UID:128017-1769675400-1769686200@cevibasel.ch
SUMMARY:Mütterngruppe
DESCRIPTION:
URL:https://cevibasel.ch/veranstaltung/mutterngruppe-347/
LOCATION:Cevi Seki
END:VEVENT
BEGIN:VEVENT
DTSTART;TZID=Europe/Zurich:20260129T083000
DTEND;TZID=Europe/Zurich:20260129T113000
DTSTAMP:20260423T161312
CREATED:20240812T214926Z
LAST-MODIFIED:20241224T064159Z
UID:128034-1769675400-1769686200@cevibasel.ch
SUMMARY:Mütterngruppe
DESCRIPTION:
URL:https://cevibasel.ch/veranstaltung/mutterngruppe-350/
LOCATION:Cevi Seki
END:VEVENT
BEGIN:VEVENT
DTSTART;TZID=Europe/Zurich:20260129T083000
DTEND;TZID=Europe/Zurich:20260129T113000
DTSTAMP:20260423T161312
CREATED:20240812T214928Z
LAST-MODIFIED:20241224T064200Z
UID:128036-1769675400-1769686200@cevibasel.ch
SUMMARY:Mütterngruppe
DESCRIPTION:
URL:https://cevibasel.ch/veranstaltung/mutterngruppe-351/
LOCATION:Cevi Seki
END:VEVENT
END:VCALENDAR