BEGIN:VCALENDAR
VERSION:2.0
PRODID:-//Cevi Region Basel - ECPv6.15.20//NONSGML v1.0//EN
CALSCALE:GREGORIAN
METHOD:PUBLISH
X-WR-CALNAME:Cevi Region Basel
X-ORIGINAL-URL:https://cevibasel.ch
X-WR-CALDESC:Events for Cevi Region Basel
REFRESH-INTERVAL;VALUE=DURATION:PT1H
X-Robots-Tag:noindex
X-PUBLISHED-TTL:PT1H
BEGIN:VTIMEZONE
TZID:Europe/Zurich
BEGIN:DAYLIGHT
TZOFFSETFROM:+0100
TZOFFSETTO:+0200
TZNAME:CEST
DTSTART:20250330T010000
END:DAYLIGHT
BEGIN:STANDARD
TZOFFSETFROM:+0200
TZOFFSETTO:+0100
TZNAME:CET
DTSTART:20251026T010000
END:STANDARD
BEGIN:DAYLIGHT
TZOFFSETFROM:+0100
TZOFFSETTO:+0200
TZNAME:CEST
DTSTART:20260329T010000
END:DAYLIGHT
BEGIN:STANDARD
TZOFFSETFROM:+0200
TZOFFSETTO:+0100
TZNAME:CET
DTSTART:20261025T010000
END:STANDARD
BEGIN:DAYLIGHT
TZOFFSETFROM:+0100
TZOFFSETTO:+0200
TZNAME:CEST
DTSTART:20270328T010000
END:DAYLIGHT
BEGIN:STANDARD
TZOFFSETFROM:+0200
TZOFFSETTO:+0100
TZNAME:CET
DTSTART:20271031T010000
END:STANDARD
END:VTIMEZONE
BEGIN:VEVENT
DTSTART;TZID=Europe/Zurich:20260312T083000
DTEND;TZID=Europe/Zurich:20260312T113000
DTSTAMP:20260423T043127
CREATED:20240813T013407Z
LAST-MODIFIED:20241215T143251Z
UID:128065-1773304200-1773315000@cevibasel.ch
SUMMARY:Mütterngruppe
DESCRIPTION:
URL:https://cevibasel.ch/veranstaltung/mutterngruppe-373/
LOCATION:Cevi Seki
END:VEVENT
BEGIN:VEVENT
DTSTART;TZID=Europe/Zurich:20260312T083000
DTEND;TZID=Europe/Zurich:20260312T113000
DTSTAMP:20260423T043127
CREATED:20240813T013407Z
LAST-MODIFIED:20241215T143251Z
UID:128066-1773304200-1773315000@cevibasel.ch
SUMMARY:Mütterngruppe
DESCRIPTION:
URL:https://cevibasel.ch/veranstaltung/mutterngruppe-374/
LOCATION:Cevi Seki
END:VEVENT
BEGIN:VEVENT
DTSTART;TZID=Europe/Zurich:20260312T083000
DTEND;TZID=Europe/Zurich:20260312T113000
DTSTAMP:20260423T043127
CREATED:20240813T013407Z
LAST-MODIFIED:20241215T143251Z
UID:128067-1773304200-1773315000@cevibasel.ch
SUMMARY:Mütterngruppe
DESCRIPTION:
URL:https://cevibasel.ch/veranstaltung/mutterngruppe-375/
LOCATION:Cevi Seki
END:VEVENT
BEGIN:VEVENT
DTSTART;TZID=Europe/Zurich:20260312T083000
DTEND;TZID=Europe/Zurich:20260312T113000
DTSTAMP:20260423T043127
CREATED:20240813T013407Z
LAST-MODIFIED:20241215T143248Z
UID:128068-1773304200-1773315000@cevibasel.ch
SUMMARY:Mütterngruppe
DESCRIPTION:
URL:https://cevibasel.ch/veranstaltung/mutterngruppe-376/
LOCATION:Cevi Seki
END:VEVENT
BEGIN:VEVENT
DTSTART;TZID=Europe/Zurich:20260312T083000
DTEND;TZID=Europe/Zurich:20260312T113000
DTSTAMP:20260423T043127
CREATED:20240813T013408Z
LAST-MODIFIED:20260206T032229Z
UID:128070-1773304200-1773315000@cevibasel.ch
SUMMARY:Mütterngruppe
DESCRIPTION:
URL:https://cevibasel.ch/veranstaltung/mutterngruppe-378/
LOCATION:Cevi Seki
END:VEVENT
BEGIN:VEVENT
DTSTART;TZID=Europe/Zurich:20260312T083000
DTEND;TZID=Europe/Zurich:20260312T113000
DTSTAMP:20260423T043127
CREATED:20240813T013408Z
LAST-MODIFIED:20241215T143251Z
UID:128071-1773304200-1773315000@cevibasel.ch
SUMMARY:Mütterngruppe
DESCRIPTION:
URL:https://cevibasel.ch/veranstaltung/mutterngruppe-379/
LOCATION:Cevi Seki
END:VEVENT
BEGIN:VEVENT
DTSTART;TZID=Europe/Zurich:20260312T083000
DTEND;TZID=Europe/Zurich:20260312T113000
DTSTAMP:20260423T043127
CREATED:20240813T013408Z
LAST-MODIFIED:20241215T143248Z
UID:128072-1773304200-1773315000@cevibasel.ch
SUMMARY:Mütterngruppe
DESCRIPTION:
URL:https://cevibasel.ch/veranstaltung/mutterngruppe-380/
LOCATION:Cevi Seki
END:VEVENT
BEGIN:VEVENT
DTSTART;TZID=Europe/Zurich:20260312T083000
DTEND;TZID=Europe/Zurich:20260312T113000
DTSTAMP:20260423T043127
CREATED:20240813T013408Z
LAST-MODIFIED:20241215T143248Z
UID:128073-1773304200-1773315000@cevibasel.ch
SUMMARY:Mütterngruppe
DESCRIPTION:
URL:https://cevibasel.ch/veranstaltung/mutterngruppe-381/
LOCATION:Cevi Seki
END:VEVENT
BEGIN:VEVENT
DTSTART;TZID=Europe/Zurich:20260312T083000
DTEND;TZID=Europe/Zurich:20260312T113000
DTSTAMP:20260423T043127
CREATED:20240813T013408Z
LAST-MODIFIED:20241215T143251Z
UID:128069-1773304200-1773315000@cevibasel.ch
SUMMARY:Mütterngruppe
DESCRIPTION:
URL:https://cevibasel.ch/veranstaltung/mutterngruppe-377/
LOCATION:Cevi Seki
END:VEVENT
END:VCALENDAR