BEGIN:VCALENDAR
VERSION:2.0
PRODID:-//Cevi Region Basel - ECPv6.15.20//NONSGML v1.0//EN
CALSCALE:GREGORIAN
METHOD:PUBLISH
X-ORIGINAL-URL:https://cevibasel.ch
X-WR-CALDESC:Events for Cevi Region Basel
REFRESH-INTERVAL;VALUE=DURATION:PT1H
X-Robots-Tag:noindex
X-PUBLISHED-TTL:PT1H
BEGIN:VTIMEZONE
TZID:Europe/Zurich
BEGIN:DAYLIGHT
TZOFFSETFROM:+0100
TZOFFSETTO:+0200
TZNAME:CEST
DTSTART:20250330T010000
END:DAYLIGHT
BEGIN:STANDARD
TZOFFSETFROM:+0200
TZOFFSETTO:+0100
TZNAME:CET
DTSTART:20251026T010000
END:STANDARD
BEGIN:DAYLIGHT
TZOFFSETFROM:+0100
TZOFFSETTO:+0200
TZNAME:CEST
DTSTART:20260329T010000
END:DAYLIGHT
BEGIN:STANDARD
TZOFFSETFROM:+0200
TZOFFSETTO:+0100
TZNAME:CET
DTSTART:20261025T010000
END:STANDARD
BEGIN:DAYLIGHT
TZOFFSETFROM:+0100
TZOFFSETTO:+0200
TZNAME:CEST
DTSTART:20270328T010000
END:DAYLIGHT
BEGIN:STANDARD
TZOFFSETFROM:+0200
TZOFFSETTO:+0100
TZNAME:CET
DTSTART:20271031T010000
END:STANDARD
END:VTIMEZONE
BEGIN:VEVENT
DTSTART;VALUE=DATE:20260314
DTEND;VALUE=DATE:20260315
DTSTAMP:20260423T102844
CREATED:20251119T143413Z
LAST-MODIFIED:20260206T032246Z
UID:169877-1773446400-1773532799@cevibasel.ch
SUMMARY:Jungschar Angebote
DESCRIPTION:
URL:https://cevibasel.ch/veranstaltung/jungscharangebote-11/
END:VEVENT
BEGIN:VEVENT
DTSTART;TZID=Europe/Zurich:20260314T133000
DTEND;TZID=Europe/Zurich:20260314T153000
DTSTAMP:20260423T102844
CREATED:20240625T173438Z
LAST-MODIFIED:20251120T120613Z
UID:123247-1773495000-1773502200@cevibasel.ch
SUMMARY:Hattrick Gundeli (6-11 Jahre)
DESCRIPTION:
URL:https://cevibasel.ch/veranstaltung/hattrick-gundeli-6-11-jahre-147/
LOCATION:Margarethenpark
END:VEVENT
BEGIN:VEVENT
DTSTART;TZID=Europe/Zurich:20260314T140000
DTEND;TZID=Europe/Zurich:20260314T170000
DTSTAMP:20260423T102844
CREATED:20240625T173440Z
LAST-MODIFIED:20251119T041408Z
UID:123252-1773496800-1773507600@cevibasel.ch
SUMMARY:Jungschi Titus
DESCRIPTION:
URL:https://cevibasel.ch/veranstaltung/jungschi-titus-147/
END:VEVENT
BEGIN:VEVENT
DTSTART;TZID=Europe/Zurich:20260314T140000
DTEND;TZID=Europe/Zurich:20260314T170000
DTSTAMP:20260423T102844
CREATED:20240625T173440Z
LAST-MODIFIED:20251119T041408Z
UID:123248-1773496800-1773507600@cevibasel.ch
SUMMARY:Jungschi Gotthelf-Neubad
DESCRIPTION:
URL:https://cevibasel.ch/veranstaltung/jungschi-gotthelf-neubad-147/
END:VEVENT
BEGIN:VEVENT
DTSTART;TZID=Europe/Zurich:20260314T140000
DTEND;TZID=Europe/Zurich:20260314T170000
DTSTAMP:20260423T102844
CREATED:20240625T173440Z
LAST-MODIFIED:20251119T041407Z
UID:123249-1773496800-1773507600@cevibasel.ch
SUMMARY:Jungschi Binningen
DESCRIPTION:
URL:https://cevibasel.ch/veranstaltung/jungschi-binningen-147/
END:VEVENT
BEGIN:VEVENT
DTSTART;TZID=Europe/Zurich:20260314T140000
DTEND;TZID=Europe/Zurich:20260314T170000
DTSTAMP:20260423T102844
CREATED:20240625T173440Z
LAST-MODIFIED:20251119T041408Z
UID:123250-1773496800-1773507600@cevibasel.ch
SUMMARY:Jungschi Allschwil
DESCRIPTION:
URL:https://cevibasel.ch/veranstaltung/jungschi-allschwil-147/
END:VEVENT
BEGIN:VEVENT
DTSTART;TZID=Europe/Zurich:20260314T140000
DTEND;TZID=Europe/Zurich:20260314T170000
DTSTAMP:20260423T102844
CREATED:20240625T173440Z
LAST-MODIFIED:20251119T041408Z
UID:123251-1773496800-1773507600@cevibasel.ch
SUMMARY:Jungschi Bubendorf
DESCRIPTION:
URL:https://cevibasel.ch/veranstaltung/jungschi-bubendorf-147/
END:VEVENT
BEGIN:VEVENT
DTSTART;TZID=Europe/Zurich:20260314T140000
DTEND;TZID=Europe/Zurich:20260314T170000
DTSTAMP:20260423T102844
CREATED:20240625T173443Z
LAST-MODIFIED:20241105T110200Z
UID:123253-1773496800-1773507600@cevibasel.ch
SUMMARY:Jungschi Muttenz
DESCRIPTION:
URL:https://cevibasel.ch/veranstaltung/jungschi-muttenz-147/
END:VEVENT
BEGIN:VEVENT
DTSTART;TZID=Europe/Zurich:20260314T140000
DTEND;TZID=Europe/Zurich:20260314T170000
DTSTAMP:20260423T102844
CREATED:20240625T173443Z
LAST-MODIFIED:20251119T041409Z
UID:123254-1773496800-1773507600@cevibasel.ch
SUMMARY:Jungschi Ettigen & Therwil
DESCRIPTION:
URL:https://cevibasel.ch/veranstaltung/jungschi-ettigen-therwil-147/
END:VEVENT
BEGIN:VEVENT
DTSTART;TZID=Europe/Zurich:20260314T140000
DTEND;TZID=Europe/Zurich:20260314T170000
DTSTAMP:20260423T102844
CREATED:20240625T173443Z
LAST-MODIFIED:20251119T041407Z
UID:123255-1773496800-1773507600@cevibasel.ch
SUMMARY:Jungschi Thomas
DESCRIPTION:
URL:https://cevibasel.ch/veranstaltung/jungschi-thomas-147/
END:VEVENT
BEGIN:VEVENT
DTSTART;TZID=Europe/Zurich:20260314T140000
DTEND;TZID=Europe/Zurich:20260314T170000
DTSTAMP:20260423T102844
CREATED:20240625T173443Z
LAST-MODIFIED:20241105T110202Z
UID:123256-1773496800-1773507600@cevibasel.ch
SUMMARY:Jungschi Reinach
DESCRIPTION:
URL:https://cevibasel.ch/veranstaltung/jungschi-reinach-147/
END:VEVENT
END:VCALENDAR