BEGIN:VCALENDAR
VERSION:2.0
PRODID:-//Cevi Region Basel - ECPv6.15.20//NONSGML v1.0//EN
CALSCALE:GREGORIAN
METHOD:PUBLISH
X-WR-CALNAME:Cevi Region Basel
X-ORIGINAL-URL:https://cevibasel.ch
X-WR-CALDESC:Events for Cevi Region Basel
REFRESH-INTERVAL;VALUE=DURATION:PT1H
X-Robots-Tag:noindex
X-PUBLISHED-TTL:PT1H
BEGIN:VTIMEZONE
TZID:Europe/Zurich
BEGIN:DAYLIGHT
TZOFFSETFROM:+0100
TZOFFSETTO:+0200
TZNAME:CEST
DTSTART:20250330T010000
END:DAYLIGHT
BEGIN:STANDARD
TZOFFSETFROM:+0200
TZOFFSETTO:+0100
TZNAME:CET
DTSTART:20251026T010000
END:STANDARD
BEGIN:DAYLIGHT
TZOFFSETFROM:+0100
TZOFFSETTO:+0200
TZNAME:CEST
DTSTART:20260329T010000
END:DAYLIGHT
BEGIN:STANDARD
TZOFFSETFROM:+0200
TZOFFSETTO:+0100
TZNAME:CET
DTSTART:20261025T010000
END:STANDARD
BEGIN:DAYLIGHT
TZOFFSETFROM:+0100
TZOFFSETTO:+0200
TZNAME:CEST
DTSTART:20270328T010000
END:DAYLIGHT
BEGIN:STANDARD
TZOFFSETFROM:+0200
TZOFFSETTO:+0100
TZNAME:CET
DTSTART:20271031T010000
END:STANDARD
END:VTIMEZONE
BEGIN:VEVENT
DTSTART;VALUE=DATE:20260401
DTEND;VALUE=DATE:20260409
DTSTAMP:20260423T000548
CREATED:20250604T101824Z
LAST-MODIFIED:20260206T032508Z
UID:159960-1775001600-1775692799@cevibasel.ch
SUMMARY:Surfcamp Marokko
DESCRIPTION:
URL:https://cevibasel.ch/veranstaltung/surfcamp-marokko-2/
END:VEVENT
BEGIN:VEVENT
DTSTART;VALUE=DATE:20260402
DTEND;VALUE=DATE:20260412
DTSTAMP:20260423T000548
CREATED:20251120T025859Z
LAST-MODIFIED:20260206T032503Z
UID:169889-1775088000-1775951999@cevibasel.ch
SUMMARY:Gruppenleitungskurs
DESCRIPTION:
URL:https://cevibasel.ch/veranstaltung/gruppenleitungskurs/
END:VEVENT
BEGIN:VEVENT
DTSTART;TZID=Europe/Zurich:20260407T173000
DTEND;TZID=Europe/Zurich:20260407T190000
DTSTAMP:20260423T000548
CREATED:20240625T224840Z
LAST-MODIFIED:20260206T032520Z
UID:123407-1775583000-1775588400@cevibasel.ch
SUMMARY:Hattrick Riehen (1. bis 3. Klasse)
DESCRIPTION:
URL:https://cevibasel.ch/veranstaltung/hattrick-riehen-1-bis-3-klasse-151/
LOCATION:Fussballplatz Andreasmatte
END:VEVENT
BEGIN:VEVENT
DTSTART;TZID=Europe/Zurich:20260407T180000
DTEND;TZID=Europe/Zurich:20260407T193000
DTSTAMP:20260423T000548
CREATED:20240625T224840Z
LAST-MODIFIED:20260206T032520Z
UID:123406-1775584800-1775590200@cevibasel.ch
SUMMARY:Hattrick Gellert (7-12 Jahre)
DESCRIPTION:
URL:https://cevibasel.ch/veranstaltung/hattrick-gellert-7-12-jahre-151/
LOCATION:Fussballplatz Luftmatt
END:VEVENT
BEGIN:VEVENT
DTSTART;TZID=Europe/Zurich:20260407T190000
DTEND;TZID=Europe/Zurich:20260407T203000
DTSTAMP:20260423T000548
CREATED:20240625T224842Z
LAST-MODIFIED:20260206T032522Z
UID:123408-1775588400-1775593800@cevibasel.ch
SUMMARY:Hattrick Riehen (6. bis 7. Klasse)
DESCRIPTION:
URL:https://cevibasel.ch/veranstaltung/hattrick-riehen-6-bis-7-klasse-151/
LOCATION:Fussballplatz Andreasmatte
END:VEVENT
END:VCALENDAR