BEGIN:VCALENDAR
VERSION:2.0
PRODID:-//Cevi Region Basel - ECPv6.15.20//NONSGML v1.0//EN
CALSCALE:GREGORIAN
METHOD:PUBLISH
X-WR-CALNAME:Cevi Region Basel
X-ORIGINAL-URL:https://cevibasel.ch
X-WR-CALDESC:Events for Cevi Region Basel
REFRESH-INTERVAL;VALUE=DURATION:PT1H
X-Robots-Tag:noindex
X-PUBLISHED-TTL:PT1H
BEGIN:VTIMEZONE
TZID:Europe/Zurich
BEGIN:DAYLIGHT
TZOFFSETFROM:+0100
TZOFFSETTO:+0200
TZNAME:CEST
DTSTART:20250330T010000
END:DAYLIGHT
BEGIN:STANDARD
TZOFFSETFROM:+0200
TZOFFSETTO:+0100
TZNAME:CET
DTSTART:20251026T010000
END:STANDARD
BEGIN:DAYLIGHT
TZOFFSETFROM:+0100
TZOFFSETTO:+0200
TZNAME:CEST
DTSTART:20260329T010000
END:DAYLIGHT
BEGIN:STANDARD
TZOFFSETFROM:+0200
TZOFFSETTO:+0100
TZNAME:CET
DTSTART:20261025T010000
END:STANDARD
BEGIN:DAYLIGHT
TZOFFSETFROM:+0100
TZOFFSETTO:+0200
TZNAME:CEST
DTSTART:20270328T010000
END:DAYLIGHT
BEGIN:STANDARD
TZOFFSETFROM:+0200
TZOFFSETTO:+0100
TZNAME:CET
DTSTART:20271031T010000
END:STANDARD
END:VTIMEZONE
BEGIN:VEVENT
DTSTART;TZID=Europe/Zurich:20260423T083000
DTEND;TZID=Europe/Zurich:20260423T113000
DTSTAMP:20260423T000841
CREATED:20240813T014826Z
LAST-MODIFIED:20241215T143426Z
UID:128138-1776933000-1776943800@cevibasel.ch
SUMMARY:Mütterngruppe
DESCRIPTION:
URL:https://cevibasel.ch/veranstaltung/mutterngruppe-403/
LOCATION:Cevi Seki
END:VEVENT
BEGIN:VEVENT
DTSTART;TZID=Europe/Zurich:20260423T083000
DTEND;TZID=Europe/Zurich:20260423T113000
DTSTAMP:20260423T000841
CREATED:20240813T014826Z
LAST-MODIFIED:20260206T032724Z
UID:128139-1776933000-1776943800@cevibasel.ch
SUMMARY:Mütterngruppe
DESCRIPTION:
URL:https://cevibasel.ch/veranstaltung/mutterngruppe-404/
LOCATION:Cevi Seki
END:VEVENT
BEGIN:VEVENT
DTSTART;TZID=Europe/Zurich:20260423T083000
DTEND;TZID=Europe/Zurich:20260423T113000
DTSTAMP:20260423T000841
CREATED:20240813T014826Z
LAST-MODIFIED:20241215T143419Z
UID:128140-1776933000-1776943800@cevibasel.ch
SUMMARY:Mütterngruppe
DESCRIPTION:
URL:https://cevibasel.ch/veranstaltung/mutterngruppe-405/
LOCATION:Cevi Seki
END:VEVENT
BEGIN:VEVENT
DTSTART;TZID=Europe/Zurich:20260423T083000
DTEND;TZID=Europe/Zurich:20260423T113000
DTSTAMP:20260423T000841
CREATED:20240813T014826Z
LAST-MODIFIED:20241215T143427Z
UID:128141-1776933000-1776943800@cevibasel.ch
SUMMARY:Mütterngruppe
DESCRIPTION:
URL:https://cevibasel.ch/veranstaltung/mutterngruppe-406/
LOCATION:Cevi Seki
END:VEVENT
BEGIN:VEVENT
DTSTART;TZID=Europe/Zurich:20260423T083000
DTEND;TZID=Europe/Zurich:20260423T113000
DTSTAMP:20260423T000841
CREATED:20240813T014826Z
LAST-MODIFIED:20241215T143427Z
UID:128142-1776933000-1776943800@cevibasel.ch
SUMMARY:Mütterngruppe
DESCRIPTION:
URL:https://cevibasel.ch/veranstaltung/mutterngruppe-407/
LOCATION:Cevi Seki
END:VEVENT
BEGIN:VEVENT
DTSTART;TZID=Europe/Zurich:20260423T083000
DTEND;TZID=Europe/Zurich:20260423T113000
DTSTAMP:20260423T000841
CREATED:20240813T014829Z
LAST-MODIFIED:20241215T143426Z
UID:128143-1776933000-1776943800@cevibasel.ch
SUMMARY:Mütterngruppe
DESCRIPTION:
URL:https://cevibasel.ch/veranstaltung/mutterngruppe-408/
LOCATION:Cevi Seki
END:VEVENT
BEGIN:VEVENT
DTSTART;TZID=Europe/Zurich:20260423T083000
DTEND;TZID=Europe/Zurich:20260423T113000
DTSTAMP:20260423T000841
CREATED:20240813T014829Z
LAST-MODIFIED:20241215T143426Z
UID:128144-1776933000-1776943800@cevibasel.ch
SUMMARY:Mütterngruppe
DESCRIPTION:
URL:https://cevibasel.ch/veranstaltung/mutterngruppe-409/
LOCATION:Cevi Seki
END:VEVENT
BEGIN:VEVENT
DTSTART;TZID=Europe/Zurich:20260423T083000
DTEND;TZID=Europe/Zurich:20260423T113000
DTSTAMP:20260423T000841
CREATED:20240813T014829Z
LAST-MODIFIED:20241215T143426Z
UID:128145-1776933000-1776943800@cevibasel.ch
SUMMARY:Mütterngruppe
DESCRIPTION:
URL:https://cevibasel.ch/veranstaltung/mutterngruppe-410/
LOCATION:Cevi Seki
END:VEVENT
BEGIN:VEVENT
DTSTART;TZID=Europe/Zurich:20260423T083000
DTEND;TZID=Europe/Zurich:20260423T113000
DTSTAMP:20260423T000841
CREATED:20240813T014829Z
LAST-MODIFIED:20241215T143419Z
UID:128146-1776933000-1776943800@cevibasel.ch
SUMMARY:Mütterngruppe
DESCRIPTION:
URL:https://cevibasel.ch/veranstaltung/mutterngruppe-411/
LOCATION:Cevi Seki
END:VEVENT
BEGIN:VEVENT
DTSTART;TZID=Europe/Zurich:20260423T190000
DTEND;TZID=Europe/Zurich:20260423T213000
DTSTAMP:20260423T000841
CREATED:20251120T025915Z
LAST-MODIFIED:20260206T032724Z
UID:169890-1776970800-1776979800@cevibasel.ch
SUMMARY:AL-Treffen Jungschar
DESCRIPTION:
URL:https://cevibasel.ch/veranstaltung/al-treffen-jungschar/
END:VEVENT
END:VCALENDAR