BEGIN:VCALENDAR
VERSION:2.0
PRODID:-//Cevi Region Basel - ECPv6.15.20//NONSGML v1.0//EN
CALSCALE:GREGORIAN
METHOD:PUBLISH
X-ORIGINAL-URL:https://cevibasel.ch
X-WR-CALDESC:Events for Cevi Region Basel
REFRESH-INTERVAL;VALUE=DURATION:PT1H
X-Robots-Tag:noindex
X-PUBLISHED-TTL:PT1H
BEGIN:VTIMEZONE
TZID:Europe/Zurich
BEGIN:DAYLIGHT
TZOFFSETFROM:+0100
TZOFFSETTO:+0200
TZNAME:CEST
DTSTART:20250330T010000
END:DAYLIGHT
BEGIN:STANDARD
TZOFFSETFROM:+0200
TZOFFSETTO:+0100
TZNAME:CET
DTSTART:20251026T010000
END:STANDARD
BEGIN:DAYLIGHT
TZOFFSETFROM:+0100
TZOFFSETTO:+0200
TZNAME:CEST
DTSTART:20260329T010000
END:DAYLIGHT
BEGIN:STANDARD
TZOFFSETFROM:+0200
TZOFFSETTO:+0100
TZNAME:CET
DTSTART:20261025T010000
END:STANDARD
BEGIN:DAYLIGHT
TZOFFSETFROM:+0100
TZOFFSETTO:+0200
TZNAME:CEST
DTSTART:20270328T010000
END:DAYLIGHT
BEGIN:STANDARD
TZOFFSETFROM:+0200
TZOFFSETTO:+0100
TZNAME:CET
DTSTART:20271031T010000
END:STANDARD
END:VTIMEZONE
BEGIN:VEVENT
DTSTART;VALUE=DATE:20260509
DTEND;VALUE=DATE:20260510
DTSTAMP:20260423T031833
CREATED:20251120T025955Z
LAST-MODIFIED:20260206T032832Z
UID:169896-1778284800-1778371199@cevibasel.ch
SUMMARY:Jungschar Angebote
DESCRIPTION:
URL:https://cevibasel.ch/veranstaltung/jungscharangebote-19/
END:VEVENT
BEGIN:VEVENT
DTSTART;TZID=Europe/Zurich:20260509T133000
DTEND;TZID=Europe/Zurich:20260509T153000
DTSTAMP:20260423T031833
CREATED:20240625T224927Z
LAST-MODIFIED:20251120T120640Z
UID:123495-1778333400-1778340600@cevibasel.ch
SUMMARY:Hattrick Gundeli (6-11 Jahre)
DESCRIPTION:
URL:https://cevibasel.ch/veranstaltung/hattrick-gundeli-6-11-jahre-155/
LOCATION:Margarethenpark
END:VEVENT
BEGIN:VEVENT
DTSTART;TZID=Europe/Zurich:20260509T140000
DTEND;TZID=Europe/Zurich:20260509T170000
DTSTAMP:20260423T031833
CREATED:20240625T224925Z
LAST-MODIFIED:20251119T041637Z
UID:123491-1778335200-1778346000@cevibasel.ch
SUMMARY:Jungschi Ettigen & Therwil
DESCRIPTION:
URL:https://cevibasel.ch/veranstaltung/jungschi-ettigen-therwil-155/
END:VEVENT
BEGIN:VEVENT
DTSTART;TZID=Europe/Zurich:20260509T140000
DTEND;TZID=Europe/Zurich:20260509T170000
DTSTAMP:20260423T031833
CREATED:20240625T224925Z
LAST-MODIFIED:20241105T110309Z
UID:123492-1778335200-1778346000@cevibasel.ch
SUMMARY:Jungschi Reinach
DESCRIPTION:
URL:https://cevibasel.ch/veranstaltung/jungschi-reinach-155/
END:VEVENT
BEGIN:VEVENT
DTSTART;TZID=Europe/Zurich:20260509T140000
DTEND;TZID=Europe/Zurich:20260509T170000
DTSTAMP:20260423T031833
CREATED:20240625T224927Z
LAST-MODIFIED:20251119T041637Z
UID:123493-1778335200-1778346000@cevibasel.ch
SUMMARY:Jungschi Titus
DESCRIPTION:
URL:https://cevibasel.ch/veranstaltung/jungschi-titus-155/
END:VEVENT
BEGIN:VEVENT
DTSTART;TZID=Europe/Zurich:20260509T140000
DTEND;TZID=Europe/Zurich:20260509T170000
DTSTAMP:20260423T031833
CREATED:20240625T224927Z
LAST-MODIFIED:20251119T041549Z
UID:123494-1778335200-1778346000@cevibasel.ch
SUMMARY:Jungschi Binningen
DESCRIPTION:
URL:https://cevibasel.ch/veranstaltung/jungschi-binningen-155/
END:VEVENT
BEGIN:VEVENT
DTSTART;TZID=Europe/Zurich:20260509T140000
DTEND;TZID=Europe/Zurich:20260509T170000
DTSTAMP:20260423T031833
CREATED:20240625T224928Z
LAST-MODIFIED:20251119T041549Z
UID:123496-1778335200-1778346000@cevibasel.ch
SUMMARY:Jungschi Thomas
DESCRIPTION:
URL:https://cevibasel.ch/veranstaltung/jungschi-thomas-155/
END:VEVENT
BEGIN:VEVENT
DTSTART;TZID=Europe/Zurich:20260509T140000
DTEND;TZID=Europe/Zurich:20260509T170000
DTSTAMP:20260423T031833
CREATED:20240625T224928Z
LAST-MODIFIED:20241105T110307Z
UID:123497-1778335200-1778346000@cevibasel.ch
SUMMARY:Jungschi Muttenz
DESCRIPTION:
URL:https://cevibasel.ch/veranstaltung/jungschi-muttenz-155/
END:VEVENT
BEGIN:VEVENT
DTSTART;TZID=Europe/Zurich:20260509T140000
DTEND;TZID=Europe/Zurich:20260509T170000
DTSTAMP:20260423T031833
CREATED:20240625T224929Z
LAST-MODIFIED:20251119T041637Z
UID:123498-1778335200-1778346000@cevibasel.ch
SUMMARY:Jungschi Bubendorf
DESCRIPTION:
URL:https://cevibasel.ch/veranstaltung/jungschi-bubendorf-155/
END:VEVENT
BEGIN:VEVENT
DTSTART;TZID=Europe/Zurich:20260509T140000
DTEND;TZID=Europe/Zurich:20260509T170000
DTSTAMP:20260423T031833
CREATED:20240625T224930Z
LAST-MODIFIED:20251119T041637Z
UID:123499-1778335200-1778346000@cevibasel.ch
SUMMARY:Jungschi Gotthelf-Neubad
DESCRIPTION:
URL:https://cevibasel.ch/veranstaltung/jungschi-gotthelf-neubad-155/
END:VEVENT
BEGIN:VEVENT
DTSTART;TZID=Europe/Zurich:20260509T140000
DTEND;TZID=Europe/Zurich:20260509T170000
DTSTAMP:20260423T031833
CREATED:20240625T224930Z
LAST-MODIFIED:20251119T041637Z
UID:123500-1778335200-1778346000@cevibasel.ch
SUMMARY:Jungschi Allschwil
DESCRIPTION:
URL:https://cevibasel.ch/veranstaltung/jungschi-allschwil-155/
END:VEVENT
END:VCALENDAR