BEGIN:VCALENDAR
VERSION:2.0
PRODID:-//Cevi Region Basel - ECPv6.15.20//NONSGML v1.0//EN
CALSCALE:GREGORIAN
METHOD:PUBLISH
X-ORIGINAL-URL:https://cevibasel.ch
X-WR-CALDESC:Events for Cevi Region Basel
REFRESH-INTERVAL;VALUE=DURATION:PT1H
X-Robots-Tag:noindex
X-PUBLISHED-TTL:PT1H
BEGIN:VTIMEZONE
TZID:Europe/Zurich
BEGIN:DAYLIGHT
TZOFFSETFROM:+0100
TZOFFSETTO:+0200
TZNAME:CEST
DTSTART:20250330T010000
END:DAYLIGHT
BEGIN:STANDARD
TZOFFSETFROM:+0200
TZOFFSETTO:+0100
TZNAME:CET
DTSTART:20251026T010000
END:STANDARD
BEGIN:DAYLIGHT
TZOFFSETFROM:+0100
TZOFFSETTO:+0200
TZNAME:CEST
DTSTART:20260329T010000
END:DAYLIGHT
BEGIN:STANDARD
TZOFFSETFROM:+0200
TZOFFSETTO:+0100
TZNAME:CET
DTSTART:20261025T010000
END:STANDARD
BEGIN:DAYLIGHT
TZOFFSETFROM:+0100
TZOFFSETTO:+0200
TZNAME:CEST
DTSTART:20270328T010000
END:DAYLIGHT
BEGIN:STANDARD
TZOFFSETFROM:+0200
TZOFFSETTO:+0100
TZNAME:CET
DTSTART:20271031T010000
END:STANDARD
END:VTIMEZONE
BEGIN:VEVENT
DTSTART;VALUE=DATE:20260516
DTEND;VALUE=DATE:20260517
DTSTAMP:20260423T030331
CREATED:20251120T030006Z
LAST-MODIFIED:20260206T032856Z
UID:169897-1778889600-1778975999@cevibasel.ch
SUMMARY:Jungschar Angebote
DESCRIPTION:
URL:https://cevibasel.ch/veranstaltung/jungscharangebote-20/
END:VEVENT
BEGIN:VEVENT
DTSTART;TZID=Europe/Zurich:20260516T133000
DTEND;TZID=Europe/Zurich:20260516T153000
DTSTAMP:20260423T030331
CREATED:20240625T224942Z
LAST-MODIFIED:20251120T120642Z
UID:123519-1778938200-1778945400@cevibasel.ch
SUMMARY:Hattrick Gundeli (6-11 Jahre)
DESCRIPTION:
URL:https://cevibasel.ch/veranstaltung/hattrick-gundeli-6-11-jahre-156/
LOCATION:Margarethenpark
END:VEVENT
BEGIN:VEVENT
DTSTART;TZID=Europe/Zurich:20260516T140000
DTEND;TZID=Europe/Zurich:20260516T170000
DTSTAMP:20260423T030331
CREATED:20240625T224937Z
LAST-MODIFIED:20251117T161554Z
UID:123511-1778940000-1778950800@cevibasel.ch
SUMMARY:Jungschi Thomas
DESCRIPTION:
URL:https://cevibasel.ch/veranstaltung/jungschi-thomas-156/
END:VEVENT
BEGIN:VEVENT
DTSTART;TZID=Europe/Zurich:20260516T140000
DTEND;TZID=Europe/Zurich:20260516T170000
DTSTAMP:20260423T030331
CREATED:20240625T224937Z
LAST-MODIFIED:20251117T161553Z
UID:123512-1778940000-1778950800@cevibasel.ch
SUMMARY:Jungschi Ettigen & Therwil
DESCRIPTION:
URL:https://cevibasel.ch/veranstaltung/jungschi-ettigen-therwil-156/
END:VEVENT
BEGIN:VEVENT
DTSTART;TZID=Europe/Zurich:20260516T140000
DTEND;TZID=Europe/Zurich:20260516T170000
DTSTAMP:20260423T030331
CREATED:20240625T224940Z
LAST-MODIFIED:20251117T161554Z
UID:123516-1778940000-1778950800@cevibasel.ch
SUMMARY:Jungschi Allschwil
DESCRIPTION:
URL:https://cevibasel.ch/veranstaltung/jungschi-allschwil-156/
END:VEVENT
BEGIN:VEVENT
DTSTART;TZID=Europe/Zurich:20260516T140000
DTEND;TZID=Europe/Zurich:20260516T170000
DTSTAMP:20260423T030331
CREATED:20240625T224940Z
LAST-MODIFIED:20251117T161630Z
UID:123517-1778940000-1778950800@cevibasel.ch
SUMMARY:Jungschi Gotthelf-Neubad
DESCRIPTION:
URL:https://cevibasel.ch/veranstaltung/jungschi-gotthelf-neubad-156/
END:VEVENT
BEGIN:VEVENT
DTSTART;TZID=Europe/Zurich:20260516T140000
DTEND;TZID=Europe/Zurich:20260516T170000
DTSTAMP:20260423T030331
CREATED:20240625T224940Z
LAST-MODIFIED:20251117T161554Z
UID:123513-1778940000-1778950800@cevibasel.ch
SUMMARY:Jungschi Bubendorf
DESCRIPTION:
URL:https://cevibasel.ch/veranstaltung/jungschi-bubendorf-156/
END:VEVENT
BEGIN:VEVENT
DTSTART;TZID=Europe/Zurich:20260516T140000
DTEND;TZID=Europe/Zurich:20260516T170000
DTSTAMP:20260423T030331
CREATED:20240625T224940Z
LAST-MODIFIED:20241105T110319Z
UID:123514-1778940000-1778950800@cevibasel.ch
SUMMARY:Jungschi Reinach
DESCRIPTION:
URL:https://cevibasel.ch/veranstaltung/jungschi-reinach-156/
END:VEVENT
BEGIN:VEVENT
DTSTART;TZID=Europe/Zurich:20260516T140000
DTEND;TZID=Europe/Zurich:20260516T170000
DTSTAMP:20260423T030331
CREATED:20240625T224940Z
LAST-MODIFIED:20251117T161554Z
UID:123515-1778940000-1778950800@cevibasel.ch
SUMMARY:Jungschi Binningen
DESCRIPTION:
URL:https://cevibasel.ch/veranstaltung/jungschi-binningen-156/
END:VEVENT
BEGIN:VEVENT
DTSTART;TZID=Europe/Zurich:20260516T140000
DTEND;TZID=Europe/Zurich:20260516T170000
DTSTAMP:20260423T030331
CREATED:20240625T224942Z
LAST-MODIFIED:20241105T110318Z
UID:123518-1778940000-1778950800@cevibasel.ch
SUMMARY:Jungschi Muttenz
DESCRIPTION:
URL:https://cevibasel.ch/veranstaltung/jungschi-muttenz-156/
END:VEVENT
BEGIN:VEVENT
DTSTART;TZID=Europe/Zurich:20260516T140000
DTEND;TZID=Europe/Zurich:20260516T170000
DTSTAMP:20260423T030331
CREATED:20240625T224942Z
LAST-MODIFIED:20251117T161553Z
UID:123520-1778940000-1778950800@cevibasel.ch
SUMMARY:Jungschi Titus
DESCRIPTION:
URL:https://cevibasel.ch/veranstaltung/jungschi-titus-156/
END:VEVENT
END:VCALENDAR