BEGIN:VCALENDAR
VERSION:2.0
PRODID:-//Cevi Region Basel - ECPv6.15.20//NONSGML v1.0//EN
CALSCALE:GREGORIAN
METHOD:PUBLISH
X-ORIGINAL-URL:https://cevibasel.ch
X-WR-CALDESC:Events for Cevi Region Basel
REFRESH-INTERVAL;VALUE=DURATION:PT1H
X-Robots-Tag:noindex
X-PUBLISHED-TTL:PT1H
BEGIN:VTIMEZONE
TZID:Europe/Zurich
BEGIN:DAYLIGHT
TZOFFSETFROM:+0100
TZOFFSETTO:+0200
TZNAME:CEST
DTSTART:20250330T010000
END:DAYLIGHT
BEGIN:STANDARD
TZOFFSETFROM:+0200
TZOFFSETTO:+0100
TZNAME:CET
DTSTART:20251026T010000
END:STANDARD
BEGIN:DAYLIGHT
TZOFFSETFROM:+0100
TZOFFSETTO:+0200
TZNAME:CEST
DTSTART:20260329T010000
END:DAYLIGHT
BEGIN:STANDARD
TZOFFSETFROM:+0200
TZOFFSETTO:+0100
TZNAME:CET
DTSTART:20261025T010000
END:STANDARD
BEGIN:DAYLIGHT
TZOFFSETFROM:+0100
TZOFFSETTO:+0200
TZNAME:CEST
DTSTART:20270328T010000
END:DAYLIGHT
BEGIN:STANDARD
TZOFFSETFROM:+0200
TZOFFSETTO:+0100
TZNAME:CET
DTSTART:20271031T010000
END:STANDARD
END:VTIMEZONE
BEGIN:VEVENT
DTSTART;TZID=Europe/Zurich:20260521T083000
DTEND;TZID=Europe/Zurich:20260521T113000
DTSTAMP:20260423T045032
CREATED:20240813T014918Z
LAST-MODIFIED:20241215T123403Z
UID:128158-1779352200-1779363000@cevibasel.ch
SUMMARY:Mütterngruppe
DESCRIPTION:
URL:https://cevibasel.ch/veranstaltung/mutterngruppe-423/
LOCATION:Cevi Seki
END:VEVENT
BEGIN:VEVENT
DTSTART;TZID=Europe/Zurich:20260521T083000
DTEND;TZID=Europe/Zurich:20260521T113000
DTSTAMP:20260423T045032
CREATED:20240813T014918Z
LAST-MODIFIED:20241215T123403Z
UID:128159-1779352200-1779363000@cevibasel.ch
SUMMARY:Mütterngruppe
DESCRIPTION:
URL:https://cevibasel.ch/veranstaltung/mutterngruppe-424/
LOCATION:Cevi Seki
END:VEVENT
BEGIN:VEVENT
DTSTART;TZID=Europe/Zurich:20260521T083000
DTEND;TZID=Europe/Zurich:20260521T113000
DTSTAMP:20260423T045032
CREATED:20240813T014918Z
LAST-MODIFIED:20241215T123403Z
UID:128160-1779352200-1779363000@cevibasel.ch
SUMMARY:Mütterngruppe
DESCRIPTION:
URL:https://cevibasel.ch/veranstaltung/mutterngruppe-425/
LOCATION:Cevi Seki
END:VEVENT
BEGIN:VEVENT
DTSTART;TZID=Europe/Zurich:20260521T083000
DTEND;TZID=Europe/Zurich:20260521T113000
DTSTAMP:20260423T045032
CREATED:20240813T014918Z
LAST-MODIFIED:20241215T123403Z
UID:128161-1779352200-1779363000@cevibasel.ch
SUMMARY:Mütterngruppe
DESCRIPTION:
URL:https://cevibasel.ch/veranstaltung/mutterngruppe-426/
LOCATION:Cevi Seki
END:VEVENT
BEGIN:VEVENT
DTSTART;TZID=Europe/Zurich:20260521T083000
DTEND;TZID=Europe/Zurich:20260521T113000
DTSTAMP:20260423T045032
CREATED:20240813T014920Z
LAST-MODIFIED:20241215T123359Z
UID:128163-1779352200-1779363000@cevibasel.ch
SUMMARY:Mütterngruppe
DESCRIPTION:
URL:https://cevibasel.ch/veranstaltung/mutterngruppe-428/
LOCATION:Cevi Seki
END:VEVENT
BEGIN:VEVENT
DTSTART;TZID=Europe/Zurich:20260521T083000
DTEND;TZID=Europe/Zurich:20260521T113000
DTSTAMP:20260423T045032
CREATED:20240813T014920Z
LAST-MODIFIED:20241215T123359Z
UID:128164-1779352200-1779363000@cevibasel.ch
SUMMARY:Mütterngruppe
DESCRIPTION:
URL:https://cevibasel.ch/veranstaltung/mutterngruppe-429/
LOCATION:Cevi Seki
END:VEVENT
BEGIN:VEVENT
DTSTART;TZID=Europe/Zurich:20260521T083000
DTEND;TZID=Europe/Zurich:20260521T113000
DTSTAMP:20260423T045032
CREATED:20240813T014920Z
LAST-MODIFIED:20241215T123403Z
UID:128165-1779352200-1779363000@cevibasel.ch
SUMMARY:Mütterngruppe
DESCRIPTION:
URL:https://cevibasel.ch/veranstaltung/mutterngruppe-430/
LOCATION:Cevi Seki
END:VEVENT
BEGIN:VEVENT
DTSTART;TZID=Europe/Zurich:20260521T083000
DTEND;TZID=Europe/Zurich:20260521T113000
DTSTAMP:20260423T045032
CREATED:20240813T014920Z
LAST-MODIFIED:20241215T123359Z
UID:128166-1779352200-1779363000@cevibasel.ch
SUMMARY:Mütterngruppe
DESCRIPTION:
URL:https://cevibasel.ch/veranstaltung/mutterngruppe-431/
LOCATION:Cevi Seki
END:VEVENT
BEGIN:VEVENT
DTSTART;TZID=Europe/Zurich:20260521T083000
DTEND;TZID=Europe/Zurich:20260521T113000
DTSTAMP:20260423T045032
CREATED:20240813T014920Z
LAST-MODIFIED:20260206T032956Z
UID:128162-1779352200-1779363000@cevibasel.ch
SUMMARY:Mütterngruppe
DESCRIPTION:
URL:https://cevibasel.ch/veranstaltung/mutterngruppe-427/
LOCATION:Cevi Seki
END:VEVENT
END:VCALENDAR