BEGIN:VCALENDAR
VERSION:2.0
PRODID:-//Cevi Region Basel - ECPv6.15.20//NONSGML v1.0//EN
CALSCALE:GREGORIAN
METHOD:PUBLISH
X-WR-CALNAME:Cevi Region Basel
X-ORIGINAL-URL:https://cevibasel.ch
X-WR-CALDESC:Events for Cevi Region Basel
REFRESH-INTERVAL;VALUE=DURATION:PT1H
X-Robots-Tag:noindex
X-PUBLISHED-TTL:PT1H
BEGIN:VTIMEZONE
TZID:Europe/Zurich
BEGIN:DAYLIGHT
TZOFFSETFROM:+0100
TZOFFSETTO:+0200
TZNAME:CEST
DTSTART:20250330T010000
END:DAYLIGHT
BEGIN:STANDARD
TZOFFSETFROM:+0200
TZOFFSETTO:+0100
TZNAME:CET
DTSTART:20251026T010000
END:STANDARD
BEGIN:DAYLIGHT
TZOFFSETFROM:+0100
TZOFFSETTO:+0200
TZNAME:CEST
DTSTART:20260329T010000
END:DAYLIGHT
BEGIN:STANDARD
TZOFFSETFROM:+0200
TZOFFSETTO:+0100
TZNAME:CET
DTSTART:20261025T010000
END:STANDARD
BEGIN:DAYLIGHT
TZOFFSETFROM:+0100
TZOFFSETTO:+0200
TZNAME:CEST
DTSTART:20270328T010000
END:DAYLIGHT
BEGIN:STANDARD
TZOFFSETFROM:+0200
TZOFFSETTO:+0100
TZNAME:CET
DTSTART:20271031T010000
END:STANDARD
END:VTIMEZONE
BEGIN:VEVENT
DTSTART;VALUE=DATE:20260522
DTEND;VALUE=DATE:20260526
DTSTAMP:20260423T031155
CREATED:20251021T112216Z
LAST-MODIFIED:20260206T033004Z
UID:169433-1779408000-1779753599@cevibasel.ch
SUMMARY:Gottzeit (Duranna)
DESCRIPTION:
URL:https://cevibasel.ch/veranstaltung/stille-und-gebetswochenende-duranna/
END:VEVENT
BEGIN:VEVENT
DTSTART;TZID=Europe/Zurich:20260522T173000
DTEND;TZID=Europe/Zurich:20260522T190000
DTSTAMP:20260423T031155
CREATED:20240626T011850Z
LAST-MODIFIED:20260206T033001Z
UID:123687-1779471000-1779476400@cevibasel.ch
SUMMARY:Hattrick Basel West (7-15 Jahre)
DESCRIPTION:
URL:https://cevibasel.ch/veranstaltung/hattrick-basel-west-7-15-jahre-157/
END:VEVENT
BEGIN:VEVENT
DTSTART;TZID=Europe/Zurich:20260522T173000
DTEND;TZID=Europe/Zurich:20260522T190000
DTSTAMP:20260423T031155
CREATED:20240626T011851Z
LAST-MODIFIED:20260206T033001Z
UID:123688-1779471000-1779476400@cevibasel.ch
SUMMARY:Hattrick Riehen (4. bis 5. Klasse)
DESCRIPTION:
URL:https://cevibasel.ch/veranstaltung/hattrick-riehen-4-bis-5-klasse-157/
LOCATION:Andreasmatte
END:VEVENT
BEGIN:VEVENT
DTSTART;TZID=Europe/Zurich:20260522T190000
DTEND;TZID=Europe/Zurich:20260522T203000
DTSTAMP:20260423T031155
CREATED:20240626T011851Z
LAST-MODIFIED:20260206T033001Z
UID:123689-1779476400-1779481800@cevibasel.ch
SUMMARY:Hattrick Basel West (16-18 Jahre)
DESCRIPTION:
URL:https://cevibasel.ch/veranstaltung/hattrick-basel-west-16-18-jahre-157/
LOCATION:Fussballfelder Pfaffenholz
END:VEVENT
END:VCALENDAR