BEGIN:VCALENDAR
VERSION:2.0
PRODID:-//Cevi Region Basel - ECPv6.15.20//NONSGML v1.0//EN
CALSCALE:GREGORIAN
METHOD:PUBLISH
X-ORIGINAL-URL:https://cevibasel.ch
X-WR-CALDESC:Events for Cevi Region Basel
REFRESH-INTERVAL;VALUE=DURATION:PT1H
X-Robots-Tag:noindex
X-PUBLISHED-TTL:PT1H
BEGIN:VTIMEZONE
TZID:Europe/Zurich
BEGIN:DAYLIGHT
TZOFFSETFROM:+0100
TZOFFSETTO:+0200
TZNAME:CEST
DTSTART:20250330T010000
END:DAYLIGHT
BEGIN:STANDARD
TZOFFSETFROM:+0200
TZOFFSETTO:+0100
TZNAME:CET
DTSTART:20251026T010000
END:STANDARD
BEGIN:DAYLIGHT
TZOFFSETFROM:+0100
TZOFFSETTO:+0200
TZNAME:CEST
DTSTART:20260329T010000
END:DAYLIGHT
BEGIN:STANDARD
TZOFFSETFROM:+0200
TZOFFSETTO:+0100
TZNAME:CET
DTSTART:20261025T010000
END:STANDARD
BEGIN:DAYLIGHT
TZOFFSETFROM:+0100
TZOFFSETTO:+0200
TZNAME:CEST
DTSTART:20270328T010000
END:DAYLIGHT
BEGIN:STANDARD
TZOFFSETFROM:+0200
TZOFFSETTO:+0100
TZNAME:CET
DTSTART:20271031T010000
END:STANDARD
END:VTIMEZONE
BEGIN:VEVENT
DTSTART;VALUE=DATE:20260613
DTEND;VALUE=DATE:20260614
DTSTAMP:20260423T074005
CREATED:20251120T030116Z
LAST-MODIFIED:20260206T033205Z
UID:169902-1781308800-1781395199@cevibasel.ch
SUMMARY:Jungschar Angebote
DESCRIPTION:
URL:https://cevibasel.ch/veranstaltung/jungscharangebote-24/
END:VEVENT
BEGIN:VEVENT
DTSTART;TZID=Europe/Zurich:20260613T133000
DTEND;TZID=Europe/Zurich:20260613T153000
DTSTAMP:20260423T074005
CREATED:20240626T011921Z
LAST-MODIFIED:20251120T120653Z
UID:123750-1781357400-1781364600@cevibasel.ch
SUMMARY:Hattrick Gundeli (6-11 Jahre)
DESCRIPTION:
URL:https://cevibasel.ch/veranstaltung/hattrick-gundeli-6-11-jahre-160/
LOCATION:Margarethenpark
END:VEVENT
BEGIN:VEVENT
DTSTART;TZID=Europe/Zurich:20260613T140000
DTEND;TZID=Europe/Zurich:20260613T170000
DTSTAMP:20260423T074005
CREATED:20240626T011921Z
LAST-MODIFIED:20251117T101625Z
UID:123749-1781359200-1781370000@cevibasel.ch
SUMMARY:Jungschi Ettigen & Therwil
DESCRIPTION:
URL:https://cevibasel.ch/veranstaltung/jungschi-ettigen-therwil-160/
END:VEVENT
BEGIN:VEVENT
DTSTART;TZID=Europe/Zurich:20260613T140000
DTEND;TZID=Europe/Zurich:20260613T170000
DTSTAMP:20260423T074005
CREATED:20240626T011921Z
LAST-MODIFIED:20251117T101625Z
UID:123751-1781359200-1781370000@cevibasel.ch
SUMMARY:Jungschi Gotthelf-Neubad
DESCRIPTION:
URL:https://cevibasel.ch/veranstaltung/jungschi-gotthelf-neubad-160/
END:VEVENT
BEGIN:VEVENT
DTSTART;TZID=Europe/Zurich:20260613T140000
DTEND;TZID=Europe/Zurich:20260613T170000
DTSTAMP:20260423T074005
CREATED:20240626T011922Z
LAST-MODIFIED:20241105T110411Z
UID:123752-1781359200-1781370000@cevibasel.ch
SUMMARY:Jungschi Reinach
DESCRIPTION:
URL:https://cevibasel.ch/veranstaltung/jungschi-reinach-160/
END:VEVENT
BEGIN:VEVENT
DTSTART;TZID=Europe/Zurich:20260613T140000
DTEND;TZID=Europe/Zurich:20260613T170000
DTSTAMP:20260423T074005
CREATED:20240626T011924Z
LAST-MODIFIED:20241105T110415Z
UID:123754-1781359200-1781370000@cevibasel.ch
SUMMARY:Jungschi Muttenz
DESCRIPTION:
URL:https://cevibasel.ch/veranstaltung/jungschi-muttenz-160/
END:VEVENT
BEGIN:VEVENT
DTSTART;TZID=Europe/Zurich:20260613T140000
DTEND;TZID=Europe/Zurich:20260613T170000
DTSTAMP:20260423T074005
CREATED:20240626T011924Z
LAST-MODIFIED:20251117T101528Z
UID:123755-1781359200-1781370000@cevibasel.ch
SUMMARY:Jungschi Allschwil
DESCRIPTION:
URL:https://cevibasel.ch/veranstaltung/jungschi-allschwil-160/
END:VEVENT
BEGIN:VEVENT
DTSTART;TZID=Europe/Zurich:20260613T140000
DTEND;TZID=Europe/Zurich:20260613T170000
DTSTAMP:20260423T074005
CREATED:20240626T011924Z
LAST-MODIFIED:20251117T101528Z
UID:123756-1781359200-1781370000@cevibasel.ch
SUMMARY:Jungschi Bubendorf
DESCRIPTION:
URL:https://cevibasel.ch/veranstaltung/jungschi-bubendorf-160/
END:VEVENT
BEGIN:VEVENT
DTSTART;TZID=Europe/Zurich:20260613T140000
DTEND;TZID=Europe/Zurich:20260613T170000
DTSTAMP:20260423T074005
CREATED:20240626T011924Z
LAST-MODIFIED:20251117T101625Z
UID:123757-1781359200-1781370000@cevibasel.ch
SUMMARY:Jungschi Binningen
DESCRIPTION:
URL:https://cevibasel.ch/veranstaltung/jungschi-binningen-160/
END:VEVENT
BEGIN:VEVENT
DTSTART;TZID=Europe/Zurich:20260613T140000
DTEND;TZID=Europe/Zurich:20260613T170000
DTSTAMP:20260423T074005
CREATED:20240626T011924Z
LAST-MODIFIED:20251117T101625Z
UID:123753-1781359200-1781370000@cevibasel.ch
SUMMARY:Jungschi Thomas
DESCRIPTION:
URL:https://cevibasel.ch/veranstaltung/jungschi-thomas-160/
END:VEVENT
BEGIN:VEVENT
DTSTART;TZID=Europe/Zurich:20260613T140000
DTEND;TZID=Europe/Zurich:20260613T170000
DTSTAMP:20260423T074005
CREATED:20240626T011925Z
LAST-MODIFIED:20251117T101528Z
UID:123758-1781359200-1781370000@cevibasel.ch
SUMMARY:Jungschi Titus
DESCRIPTION:
URL:https://cevibasel.ch/veranstaltung/jungschi-titus-160/
END:VEVENT
END:VCALENDAR