BEGIN:VCALENDAR
VERSION:2.0
PRODID:-//Cevi Region Basel - ECPv6.15.20//NONSGML v1.0//EN
CALSCALE:GREGORIAN
METHOD:PUBLISH
X-ORIGINAL-URL:https://cevibasel.ch
X-WR-CALDESC:Events for Cevi Region Basel
REFRESH-INTERVAL;VALUE=DURATION:PT1H
X-Robots-Tag:noindex
X-PUBLISHED-TTL:PT1H
BEGIN:VTIMEZONE
TZID:Europe/Zurich
BEGIN:DAYLIGHT
TZOFFSETFROM:+0100
TZOFFSETTO:+0200
TZNAME:CEST
DTSTART:20250330T010000
END:DAYLIGHT
BEGIN:STANDARD
TZOFFSETFROM:+0200
TZOFFSETTO:+0100
TZNAME:CET
DTSTART:20251026T010000
END:STANDARD
BEGIN:DAYLIGHT
TZOFFSETFROM:+0100
TZOFFSETTO:+0200
TZNAME:CEST
DTSTART:20260329T010000
END:DAYLIGHT
BEGIN:STANDARD
TZOFFSETFROM:+0200
TZOFFSETTO:+0100
TZNAME:CET
DTSTART:20261025T010000
END:STANDARD
BEGIN:DAYLIGHT
TZOFFSETFROM:+0100
TZOFFSETTO:+0200
TZNAME:CEST
DTSTART:20270328T010000
END:DAYLIGHT
BEGIN:STANDARD
TZOFFSETFROM:+0200
TZOFFSETTO:+0100
TZNAME:CET
DTSTART:20271031T010000
END:STANDARD
END:VTIMEZONE
BEGIN:VEVENT
DTSTART;VALUE=DATE:20260704
DTEND;VALUE=DATE:20260705
DTSTAMP:20260423T073856
CREATED:20251120T030132Z
LAST-MODIFIED:20260206T033337Z
UID:169905-1783123200-1783209599@cevibasel.ch
SUMMARY:Jungschar Angebote
DESCRIPTION:
URL:https://cevibasel.ch/veranstaltung/jungscharangebote-27/
END:VEVENT
BEGIN:VEVENT
DTSTART;TZID=Europe/Zurich:20260704T133000
DTEND;TZID=Europe/Zurich:20260704T153000
DTSTAMP:20260423T073856
CREATED:20240724T090439Z
LAST-MODIFIED:20251120T120700Z
UID:125981-1783171800-1783179000@cevibasel.ch
SUMMARY:Hattrick Gundeli (6-11 Jahre)
DESCRIPTION:
URL:https://cevibasel.ch/veranstaltung/hattrick-gundeli-6-11-jahre-163/
LOCATION:Margarethenpark
END:VEVENT
BEGIN:VEVENT
DTSTART;TZID=Europe/Zurich:20260704T140000
DTEND;TZID=Europe/Zurich:20260704T170000
DTSTAMP:20260423T073856
CREATED:20240724T090436Z
LAST-MODIFIED:20241105T080239Z
UID:125978-1783173600-1783184400@cevibasel.ch
SUMMARY:Jungschi Reinach
DESCRIPTION:
URL:https://cevibasel.ch/veranstaltung/jungschi-reinach-163/
END:VEVENT
BEGIN:VEVENT
DTSTART;TZID=Europe/Zurich:20260704T140000
DTEND;TZID=Europe/Zurich:20260704T170000
DTSTAMP:20260423T073856
CREATED:20240724T090439Z
LAST-MODIFIED:20251117T005326Z
UID:125979-1783173600-1783184400@cevibasel.ch
SUMMARY:Jungschi Bubendorf
DESCRIPTION:
URL:https://cevibasel.ch/veranstaltung/jungschi-bubendorf-163/
END:VEVENT
BEGIN:VEVENT
DTSTART;TZID=Europe/Zurich:20260704T140000
DTEND;TZID=Europe/Zurich:20260704T170000
DTSTAMP:20260423T073856
CREATED:20240724T090439Z
LAST-MODIFIED:20251117T005326Z
UID:125980-1783173600-1783184400@cevibasel.ch
SUMMARY:Jungschi Thomas
DESCRIPTION:
URL:https://cevibasel.ch/veranstaltung/jungschi-thomas-163/
END:VEVENT
BEGIN:VEVENT
DTSTART;TZID=Europe/Zurich:20260704T140000
DTEND;TZID=Europe/Zurich:20260704T170000
DTSTAMP:20260423T073856
CREATED:20240724T090440Z
LAST-MODIFIED:20251117T005329Z
UID:125983-1783173600-1783184400@cevibasel.ch
SUMMARY:Jungschi Allschwil
DESCRIPTION:
URL:https://cevibasel.ch/veranstaltung/jungschi-allschwil-163/
END:VEVENT
BEGIN:VEVENT
DTSTART;TZID=Europe/Zurich:20260704T140000
DTEND;TZID=Europe/Zurich:20260704T170000
DTSTAMP:20260423T073856
CREATED:20240724T090440Z
LAST-MODIFIED:20241105T080239Z
UID:125982-1783173600-1783184400@cevibasel.ch
SUMMARY:Jungschi Muttenz
DESCRIPTION:
URL:https://cevibasel.ch/veranstaltung/jungschi-muttenz-163/
END:VEVENT
BEGIN:VEVENT
DTSTART;TZID=Europe/Zurich:20260704T140000
DTEND;TZID=Europe/Zurich:20260704T170000
DTSTAMP:20260423T073856
CREATED:20240724T090443Z
LAST-MODIFIED:20251117T005326Z
UID:125984-1783173600-1783184400@cevibasel.ch
SUMMARY:Jungschi Binningen
DESCRIPTION:
URL:https://cevibasel.ch/veranstaltung/jungschi-binningen-163/
END:VEVENT
BEGIN:VEVENT
DTSTART;TZID=Europe/Zurich:20260704T140000
DTEND;TZID=Europe/Zurich:20260704T170000
DTSTAMP:20260423T073856
CREATED:20240724T090443Z
LAST-MODIFIED:20251117T005329Z
UID:125985-1783173600-1783184400@cevibasel.ch
SUMMARY:Jungschi Ettigen & Therwil
DESCRIPTION:
URL:https://cevibasel.ch/veranstaltung/jungschi-ettigen-therwil-163/
END:VEVENT
BEGIN:VEVENT
DTSTART;TZID=Europe/Zurich:20260704T140000
DTEND;TZID=Europe/Zurich:20260704T170000
DTSTAMP:20260423T073856
CREATED:20240724T090443Z
LAST-MODIFIED:20251117T005329Z
UID:125986-1783173600-1783184400@cevibasel.ch
SUMMARY:Jungschi Titus
DESCRIPTION:
URL:https://cevibasel.ch/veranstaltung/jungschi-titus-163/
END:VEVENT
BEGIN:VEVENT
DTSTART;TZID=Europe/Zurich:20260704T140000
DTEND;TZID=Europe/Zurich:20260704T170000
DTSTAMP:20260423T073856
CREATED:20240724T090443Z
LAST-MODIFIED:20251117T005326Z
UID:125987-1783173600-1783184400@cevibasel.ch
SUMMARY:Jungschi Gotthelf-Neubad
DESCRIPTION:
URL:https://cevibasel.ch/veranstaltung/jungschi-gotthelf-neubad-163/
END:VEVENT
END:VCALENDAR