BEGIN:VCALENDAR
VERSION:2.0
PRODID:-//Cevi Region Basel - ECPv6.15.20//NONSGML v1.0//EN
CALSCALE:GREGORIAN
METHOD:PUBLISH
X-WR-CALNAME:Cevi Region Basel
X-ORIGINAL-URL:https://cevibasel.ch
X-WR-CALDESC:Events for Cevi Region Basel
REFRESH-INTERVAL;VALUE=DURATION:PT1H
X-Robots-Tag:noindex
X-PUBLISHED-TTL:PT1H
BEGIN:VTIMEZONE
TZID:Europe/Zurich
BEGIN:DAYLIGHT
TZOFFSETFROM:+0100
TZOFFSETTO:+0200
TZNAME:CEST
DTSTART:20250330T010000
END:DAYLIGHT
BEGIN:STANDARD
TZOFFSETFROM:+0200
TZOFFSETTO:+0100
TZNAME:CET
DTSTART:20251026T010000
END:STANDARD
BEGIN:DAYLIGHT
TZOFFSETFROM:+0100
TZOFFSETTO:+0200
TZNAME:CEST
DTSTART:20260329T010000
END:DAYLIGHT
BEGIN:STANDARD
TZOFFSETFROM:+0200
TZOFFSETTO:+0100
TZNAME:CET
DTSTART:20261025T010000
END:STANDARD
BEGIN:DAYLIGHT
TZOFFSETFROM:+0100
TZOFFSETTO:+0200
TZNAME:CEST
DTSTART:20270328T010000
END:DAYLIGHT
BEGIN:STANDARD
TZOFFSETFROM:+0200
TZOFFSETTO:+0100
TZNAME:CET
DTSTART:20271031T010000
END:STANDARD
END:VTIMEZONE
BEGIN:VEVENT
DTSTART;VALUE=DATE:20260808
DTEND;VALUE=DATE:20260809
DTSTAMP:20260423T102546
CREATED:20251120T030306Z
LAST-MODIFIED:20260205T231255Z
UID:169911-1786147200-1786233599@cevibasel.ch
SUMMARY:Jungschar Angebote
DESCRIPTION:
URL:https://cevibasel.ch/veranstaltung/jungscharangebote-32/
END:VEVENT
BEGIN:VEVENT
DTSTART;TZID=Europe/Zurich:20260808T133000
DTEND;TZID=Europe/Zurich:20260808T153000
DTSTAMP:20260423T102546
CREATED:20240808T073430Z
LAST-MODIFIED:20251120T120729Z
UID:127269-1786195800-1786203000@cevibasel.ch
SUMMARY:Hattrick Gundeli (6-11 Jahre)
DESCRIPTION:
URL:https://cevibasel.ch/veranstaltung/hattrick-gundeli-6-11-jahre-168/
LOCATION:Margarethenpark
END:VEVENT
BEGIN:VEVENT
DTSTART;TZID=Europe/Zurich:20260808T140000
DTEND;TZID=Europe/Zurich:20260808T170000
DTSTAMP:20260423T102546
CREATED:20240808T073427Z
LAST-MODIFIED:20241105T080347Z
UID:127265-1786197600-1786208400@cevibasel.ch
SUMMARY:Jungschi Muttenz
DESCRIPTION:
URL:https://cevibasel.ch/veranstaltung/jungschi-muttenz-168/
END:VEVENT
BEGIN:VEVENT
DTSTART;TZID=Europe/Zurich:20260808T140000
DTEND;TZID=Europe/Zurich:20260808T170000
DTSTAMP:20260423T102546
CREATED:20240808T073427Z
LAST-MODIFIED:20251117T005420Z
UID:127266-1786197600-1786208400@cevibasel.ch
SUMMARY:Jungschi Allschwil
DESCRIPTION:
URL:https://cevibasel.ch/veranstaltung/jungschi-allschwil-168/
END:VEVENT
BEGIN:VEVENT
DTSTART;TZID=Europe/Zurich:20260808T140000
DTEND;TZID=Europe/Zurich:20260808T170000
DTSTAMP:20260423T102546
CREATED:20240808T073427Z
LAST-MODIFIED:20251117T005421Z
UID:127267-1786197600-1786208400@cevibasel.ch
SUMMARY:Jungschi Titus
DESCRIPTION:
URL:https://cevibasel.ch/veranstaltung/jungschi-titus-168/
END:VEVENT
BEGIN:VEVENT
DTSTART;TZID=Europe/Zurich:20260808T140000
DTEND;TZID=Europe/Zurich:20260808T170000
DTSTAMP:20260423T102546
CREATED:20240808T073430Z
LAST-MODIFIED:20251117T005420Z
UID:127270-1786197600-1786208400@cevibasel.ch
SUMMARY:Jungschi Binningen
DESCRIPTION:
URL:https://cevibasel.ch/veranstaltung/jungschi-binningen-168/
END:VEVENT
BEGIN:VEVENT
DTSTART;TZID=Europe/Zurich:20260808T140000
DTEND;TZID=Europe/Zurich:20260808T170000
DTSTAMP:20260423T102546
CREATED:20240808T073430Z
LAST-MODIFIED:20241105T080347Z
UID:127271-1786197600-1786208400@cevibasel.ch
SUMMARY:Jungschi Reinach
DESCRIPTION:
URL:https://cevibasel.ch/veranstaltung/jungschi-reinach-168/
END:VEVENT
BEGIN:VEVENT
DTSTART;TZID=Europe/Zurich:20260808T140000
DTEND;TZID=Europe/Zurich:20260808T170000
DTSTAMP:20260423T102546
CREATED:20240808T073430Z
LAST-MODIFIED:20251117T005420Z
UID:127272-1786197600-1786208400@cevibasel.ch
SUMMARY:Jungschi Bubendorf
DESCRIPTION:
URL:https://cevibasel.ch/veranstaltung/jungschi-bubendorf-168/
END:VEVENT
BEGIN:VEVENT
DTSTART;TZID=Europe/Zurich:20260808T140000
DTEND;TZID=Europe/Zurich:20260808T170000
DTSTAMP:20260423T102546
CREATED:20240808T073430Z
LAST-MODIFIED:20251117T005420Z
UID:127268-1786197600-1786208400@cevibasel.ch
SUMMARY:Jungschi Gotthelf-Neubad
DESCRIPTION:
URL:https://cevibasel.ch/veranstaltung/jungschi-gotthelf-neubad-168/
END:VEVENT
BEGIN:VEVENT
DTSTART;TZID=Europe/Zurich:20260808T140000
DTEND;TZID=Europe/Zurich:20260808T170000
DTSTAMP:20260423T102546
CREATED:20240808T073432Z
LAST-MODIFIED:20251117T005421Z
UID:127273-1786197600-1786208400@cevibasel.ch
SUMMARY:Jungschi Ettigen & Therwil
DESCRIPTION:
URL:https://cevibasel.ch/veranstaltung/jungschi-ettigen-therwil-168/
END:VEVENT
BEGIN:VEVENT
DTSTART;TZID=Europe/Zurich:20260808T140000
DTEND;TZID=Europe/Zurich:20260808T170000
DTSTAMP:20260423T102546
CREATED:20240808T073432Z
LAST-MODIFIED:20251117T005421Z
UID:127274-1786197600-1786208400@cevibasel.ch
SUMMARY:Jungschi Thomas
DESCRIPTION:
URL:https://cevibasel.ch/veranstaltung/jungschi-thomas-168/
END:VEVENT
END:VCALENDAR