BEGIN:VCALENDAR
VERSION:2.0
PRODID:-//Cevi Region Basel - ECPv6.15.20//NONSGML v1.0//EN
CALSCALE:GREGORIAN
METHOD:PUBLISH
X-ORIGINAL-URL:https://cevibasel.ch
X-WR-CALDESC:Events for Cevi Region Basel
REFRESH-INTERVAL;VALUE=DURATION:PT1H
X-Robots-Tag:noindex
X-PUBLISHED-TTL:PT1H
BEGIN:VTIMEZONE
TZID:Europe/Zurich
BEGIN:DAYLIGHT
TZOFFSETFROM:+0100
TZOFFSETTO:+0200
TZNAME:CEST
DTSTART:20250330T010000
END:DAYLIGHT
BEGIN:STANDARD
TZOFFSETFROM:+0200
TZOFFSETTO:+0100
TZNAME:CET
DTSTART:20251026T010000
END:STANDARD
BEGIN:DAYLIGHT
TZOFFSETFROM:+0100
TZOFFSETTO:+0200
TZNAME:CEST
DTSTART:20260329T010000
END:DAYLIGHT
BEGIN:STANDARD
TZOFFSETFROM:+0200
TZOFFSETTO:+0100
TZNAME:CET
DTSTART:20261025T010000
END:STANDARD
BEGIN:DAYLIGHT
TZOFFSETFROM:+0100
TZOFFSETTO:+0200
TZNAME:CEST
DTSTART:20270328T010000
END:DAYLIGHT
BEGIN:STANDARD
TZOFFSETFROM:+0200
TZOFFSETTO:+0100
TZNAME:CET
DTSTART:20271031T010000
END:STANDARD
END:VTIMEZONE
BEGIN:VEVENT
DTSTART;VALUE=DATE:20260815
DTEND;VALUE=DATE:20260816
DTSTAMP:20260423T132005
CREATED:20251120T030325Z
LAST-MODIFIED:20260205T231303Z
UID:169912-1786752000-1786838399@cevibasel.ch
SUMMARY:Jungschar Angebote
DESCRIPTION:
URL:https://cevibasel.ch/veranstaltung/jungscharangebote-33/
END:VEVENT
BEGIN:VEVENT
DTSTART;TZID=Europe/Zurich:20260815T133000
DTEND;TZID=Europe/Zurich:20260815T153000
DTSTAMP:20260423T132005
CREATED:20240815T050346Z
LAST-MODIFIED:20251120T120735Z
UID:129348-1786800600-1786807800@cevibasel.ch
SUMMARY:Hattrick Gundeli (6-11 Jahre)
DESCRIPTION:
URL:https://cevibasel.ch/veranstaltung/hattrick-gundeli-6-11-jahre-169/
LOCATION:Margarethenpark
END:VEVENT
BEGIN:VEVENT
DTSTART;TZID=Europe/Zurich:20260815T140000
DTEND;TZID=Europe/Zurich:20260815T170000
DTSTAMP:20260423T132005
CREATED:20240815T050338Z
LAST-MODIFIED:20251117T005425Z
UID:129339-1786802400-1786813200@cevibasel.ch
SUMMARY:Jungschi Titus
DESCRIPTION:
URL:https://cevibasel.ch/veranstaltung/jungschi-titus-169/
END:VEVENT
BEGIN:VEVENT
DTSTART;TZID=Europe/Zurich:20260815T140000
DTEND;TZID=Europe/Zurich:20260815T170000
DTSTAMP:20260423T132005
CREATED:20240815T050338Z
LAST-MODIFIED:20241105T080457Z
UID:129340-1786802400-1786813200@cevibasel.ch
SUMMARY:Jungschi Muttenz
DESCRIPTION:
URL:https://cevibasel.ch/veranstaltung/jungschi-muttenz-169/
END:VEVENT
BEGIN:VEVENT
DTSTART;TZID=Europe/Zurich:20260815T140000
DTEND;TZID=Europe/Zurich:20260815T170000
DTSTAMP:20260423T132005
CREATED:20240815T050338Z
LAST-MODIFIED:20251117T005427Z
UID:129341-1786802400-1786813200@cevibasel.ch
SUMMARY:Jungschi Binningen
DESCRIPTION:
URL:https://cevibasel.ch/veranstaltung/jungschi-binningen-169/
END:VEVENT
BEGIN:VEVENT
DTSTART;TZID=Europe/Zurich:20260815T140000
DTEND;TZID=Europe/Zurich:20260815T170000
DTSTAMP:20260423T132005
CREATED:20240815T050342Z
LAST-MODIFIED:20251117T005425Z
UID:129344-1786802400-1786813200@cevibasel.ch
SUMMARY:Jungschi Gotthelf-Neubad
DESCRIPTION:
URL:https://cevibasel.ch/veranstaltung/jungschi-gotthelf-neubad-169/
END:VEVENT
BEGIN:VEVENT
DTSTART;TZID=Europe/Zurich:20260815T140000
DTEND;TZID=Europe/Zurich:20260815T170000
DTSTAMP:20260423T132005
CREATED:20240815T050342Z
LAST-MODIFIED:20251117T005423Z
UID:129345-1786802400-1786813200@cevibasel.ch
SUMMARY:Jungschi Ettigen & Therwil
DESCRIPTION:
URL:https://cevibasel.ch/veranstaltung/jungschi-ettigen-therwil-169/
END:VEVENT
BEGIN:VEVENT
DTSTART;TZID=Europe/Zurich:20260815T140000
DTEND;TZID=Europe/Zurich:20260815T170000
DTSTAMP:20260423T132005
CREATED:20240815T050342Z
LAST-MODIFIED:20251117T005425Z
UID:129346-1786802400-1786813200@cevibasel.ch
SUMMARY:Jungschi Thomas
DESCRIPTION:
URL:https://cevibasel.ch/veranstaltung/jungschi-thomas-169/
END:VEVENT
BEGIN:VEVENT
DTSTART;TZID=Europe/Zurich:20260815T140000
DTEND;TZID=Europe/Zurich:20260815T170000
DTSTAMP:20260423T132005
CREATED:20240815T050342Z
LAST-MODIFIED:20241105T012934Z
UID:129342-1786802400-1786813200@cevibasel.ch
SUMMARY:Jungschi Reinach
DESCRIPTION:
URL:https://cevibasel.ch/veranstaltung/jungschi-reinach-169/
END:VEVENT
BEGIN:VEVENT
DTSTART;TZID=Europe/Zurich:20260815T140000
DTEND;TZID=Europe/Zurich:20260815T170000
DTSTAMP:20260423T132005
CREATED:20240815T050342Z
LAST-MODIFIED:20251117T005425Z
UID:129343-1786802400-1786813200@cevibasel.ch
SUMMARY:Jungschi Allschwil
DESCRIPTION:
URL:https://cevibasel.ch/veranstaltung/jungschi-allschwil-169/
END:VEVENT
BEGIN:VEVENT
DTSTART;TZID=Europe/Zurich:20260815T140000
DTEND;TZID=Europe/Zurich:20260815T170000
DTSTAMP:20260423T132005
CREATED:20240815T050346Z
LAST-MODIFIED:20251117T005427Z
UID:129347-1786802400-1786813200@cevibasel.ch
SUMMARY:Jungschi Bubendorf
DESCRIPTION:
URL:https://cevibasel.ch/veranstaltung/jungschi-bubendorf-169/
END:VEVENT
BEGIN:VEVENT
DTSTART;TZID=Europe/Zurich:20260815T183000
DTEND;TZID=Europe/Zurich:20260815T220000
DTSTAMP:20260423T132005
CREATED:20251204T110758Z
LAST-MODIFIED:20260205T231303Z
UID:170278-1786818600-1786831200@cevibasel.ch
SUMMARY:Faith Hub
DESCRIPTION:
URL:https://cevibasel.ch/veranstaltung/faith-hub-4/
END:VEVENT
END:VCALENDAR