BEGIN:VCALENDAR
VERSION:2.0
PRODID:-//Cevi Region Basel - ECPv6.15.20//NONSGML v1.0//EN
CALSCALE:GREGORIAN
METHOD:PUBLISH
X-ORIGINAL-URL:https://cevibasel.ch
X-WR-CALDESC:Events for Cevi Region Basel
REFRESH-INTERVAL;VALUE=DURATION:PT1H
X-Robots-Tag:noindex
X-PUBLISHED-TTL:PT1H
BEGIN:VTIMEZONE
TZID:Europe/Zurich
BEGIN:DAYLIGHT
TZOFFSETFROM:+0100
TZOFFSETTO:+0200
TZNAME:CEST
DTSTART:20250330T010000
END:DAYLIGHT
BEGIN:STANDARD
TZOFFSETFROM:+0200
TZOFFSETTO:+0100
TZNAME:CET
DTSTART:20251026T010000
END:STANDARD
BEGIN:DAYLIGHT
TZOFFSETFROM:+0100
TZOFFSETTO:+0200
TZNAME:CEST
DTSTART:20260329T010000
END:DAYLIGHT
BEGIN:STANDARD
TZOFFSETFROM:+0200
TZOFFSETTO:+0100
TZNAME:CET
DTSTART:20261025T010000
END:STANDARD
BEGIN:DAYLIGHT
TZOFFSETFROM:+0100
TZOFFSETTO:+0200
TZNAME:CEST
DTSTART:20270328T010000
END:DAYLIGHT
BEGIN:STANDARD
TZOFFSETFROM:+0200
TZOFFSETTO:+0100
TZNAME:CET
DTSTART:20271031T010000
END:STANDARD
END:VTIMEZONE
BEGIN:VEVENT
DTSTART;VALUE=DATE:20261004
DTEND;VALUE=DATE:20261017
DTSTAMP:20260423T172603
CREATED:20251023T045646Z
LAST-MODIFIED:20260205T231502Z
UID:169446-1791072000-1792195199@cevibasel.ch
SUMMARY:Konfestival Lager B
DESCRIPTION:
URL:https://cevibasel.ch/veranstaltung/konfestival-lager-b-6/
LOCATION:Vaumarcus le camp\nRoute du Camp 7\, 2028 Vaumarcus\, Schweiz
END:VEVENT
BEGIN:VEVENT
DTSTART;VALUE=DATE:20261010
DTEND;VALUE=DATE:20261011
DTSTAMP:20260423T172603
CREATED:20251120T031834Z
LAST-MODIFIED:20260205T231558Z
UID:169955-1791590400-1791676799@cevibasel.ch
SUMMARY:Jungschar Angebote
DESCRIPTION:
URL:https://cevibasel.ch/veranstaltung/jungscharangebote-41/
END:VEVENT
BEGIN:VEVENT
DTSTART;TZID=Europe/Zurich:20261010T133000
DTEND;TZID=Europe/Zurich:20261010T153000
DTSTAMP:20260423T172603
CREATED:20241010T004847Z
LAST-MODIFIED:20251120T120807Z
UID:136840-1791639000-1791646200@cevibasel.ch
SUMMARY:Hattrick Gundeli (6-11 Jahre)
DESCRIPTION:
URL:https://cevibasel.ch/veranstaltung/hattrick-gundeli-6-11-jahre-177/
LOCATION:Margarethenpark
END:VEVENT
BEGIN:VEVENT
DTSTART;TZID=Europe/Zurich:20261010T140000
DTEND;TZID=Europe/Zurich:20261010T170000
DTSTAMP:20260423T172603
CREATED:20241010T004847Z
LAST-MODIFIED:20251117T005606Z
UID:136841-1791640800-1791651600@cevibasel.ch
SUMMARY:Jungschi Titus
DESCRIPTION:
URL:https://cevibasel.ch/veranstaltung/jungschi-titus-177/
END:VEVENT
BEGIN:VEVENT
DTSTART;TZID=Europe/Zurich:20261010T140000
DTEND;TZID=Europe/Zurich:20261010T170000
DTSTAMP:20260423T172603
CREATED:20241010T004848Z
LAST-MODIFIED:20251117T005607Z
UID:136845-1791640800-1791651600@cevibasel.ch
SUMMARY:Jungschi Allschwil
DESCRIPTION:
URL:https://cevibasel.ch/veranstaltung/jungschi-allschwil-177/
END:VEVENT
BEGIN:VEVENT
DTSTART;TZID=Europe/Zurich:20261010T140000
DTEND;TZID=Europe/Zurich:20261010T170000
DTSTAMP:20260423T172603
CREATED:20241010T004848Z
LAST-MODIFIED:20251117T005606Z
UID:136842-1791640800-1791651600@cevibasel.ch
SUMMARY:Jungschi Bubendorf
DESCRIPTION:
URL:https://cevibasel.ch/veranstaltung/jungschi-bubendorf-177/
END:VEVENT
BEGIN:VEVENT
DTSTART;TZID=Europe/Zurich:20261010T140000
DTEND;TZID=Europe/Zurich:20261010T170000
DTSTAMP:20260423T172603
CREATED:20241010T004848Z
LAST-MODIFIED:20251117T005606Z
UID:136843-1791640800-1791651600@cevibasel.ch
SUMMARY:Jungschi Gotthelf-Neubad
DESCRIPTION:
URL:https://cevibasel.ch/veranstaltung/jungschi-gotthelf-neubad-177/
END:VEVENT
BEGIN:VEVENT
DTSTART;TZID=Europe/Zurich:20261010T140000
DTEND;TZID=Europe/Zurich:20261010T170000
DTSTAMP:20260423T172603
CREATED:20241010T004848Z
LAST-MODIFIED:20251117T005606Z
UID:136844-1791640800-1791651600@cevibasel.ch
SUMMARY:Jungschi Thomas
DESCRIPTION:
URL:https://cevibasel.ch/veranstaltung/jungschi-thomas-177/
END:VEVENT
BEGIN:VEVENT
DTSTART;TZID=Europe/Zurich:20261010T140000
DTEND;TZID=Europe/Zurich:20261010T170000
DTSTAMP:20260423T172603
CREATED:20241010T004849Z
LAST-MODIFIED:20241105T013020Z
UID:136846-1791640800-1791651600@cevibasel.ch
SUMMARY:Jungschi Reinach
DESCRIPTION:
URL:https://cevibasel.ch/veranstaltung/jungschi-reinach-177/
END:VEVENT
BEGIN:VEVENT
DTSTART;TZID=Europe/Zurich:20261010T140000
DTEND;TZID=Europe/Zurich:20261010T170000
DTSTAMP:20260423T172603
CREATED:20241010T004849Z
LAST-MODIFIED:20241105T013021Z
UID:136847-1791640800-1791651600@cevibasel.ch
SUMMARY:Jungschi Muttenz
DESCRIPTION:
URL:https://cevibasel.ch/veranstaltung/jungschi-muttenz-177/
END:VEVENT
BEGIN:VEVENT
DTSTART;TZID=Europe/Zurich:20261010T140000
DTEND;TZID=Europe/Zurich:20261010T170000
DTSTAMP:20260423T172603
CREATED:20241010T004852Z
LAST-MODIFIED:20251117T005607Z
UID:136848-1791640800-1791651600@cevibasel.ch
SUMMARY:Jungschi Binningen
DESCRIPTION:
URL:https://cevibasel.ch/veranstaltung/jungschi-binningen-177/
END:VEVENT
BEGIN:VEVENT
DTSTART;TZID=Europe/Zurich:20261010T140000
DTEND;TZID=Europe/Zurich:20261010T170000
DTSTAMP:20260423T172603
CREATED:20241010T004852Z
LAST-MODIFIED:20251117T005606Z
UID:136849-1791640800-1791651600@cevibasel.ch
SUMMARY:Jungschi Ettigen & Therwil
DESCRIPTION:
URL:https://cevibasel.ch/veranstaltung/jungschi-ettigen-therwil-177/
END:VEVENT
END:VCALENDAR