BEGIN:VCALENDAR
VERSION:2.0
PRODID:-//Cevi Region Basel - ECPv6.15.20//NONSGML v1.0//EN
CALSCALE:GREGORIAN
METHOD:PUBLISH
X-WR-CALNAME:Cevi Region Basel
X-ORIGINAL-URL:https://cevibasel.ch
X-WR-CALDESC:Events for Cevi Region Basel
REFRESH-INTERVAL;VALUE=DURATION:PT1H
X-Robots-Tag:noindex
X-PUBLISHED-TTL:PT1H
BEGIN:VTIMEZONE
TZID:Europe/Zurich
BEGIN:DAYLIGHT
TZOFFSETFROM:+0100
TZOFFSETTO:+0200
TZNAME:CEST
DTSTART:20250330T010000
END:DAYLIGHT
BEGIN:STANDARD
TZOFFSETFROM:+0200
TZOFFSETTO:+0100
TZNAME:CET
DTSTART:20251026T010000
END:STANDARD
BEGIN:DAYLIGHT
TZOFFSETFROM:+0100
TZOFFSETTO:+0200
TZNAME:CEST
DTSTART:20260329T010000
END:DAYLIGHT
BEGIN:STANDARD
TZOFFSETFROM:+0200
TZOFFSETTO:+0100
TZNAME:CET
DTSTART:20261025T010000
END:STANDARD
BEGIN:DAYLIGHT
TZOFFSETFROM:+0100
TZOFFSETTO:+0200
TZNAME:CEST
DTSTART:20270328T010000
END:DAYLIGHT
BEGIN:STANDARD
TZOFFSETFROM:+0200
TZOFFSETTO:+0100
TZNAME:CET
DTSTART:20271031T010000
END:STANDARD
END:VTIMEZONE
BEGIN:VEVENT
DTSTART;VALUE=DATE:20261004
DTEND;VALUE=DATE:20261017
DTSTAMP:20260423T172431
CREATED:20251023T045646Z
LAST-MODIFIED:20260205T231502Z
UID:169446-1791072000-1792195199@cevibasel.ch
SUMMARY:Konfestival Lager B
DESCRIPTION:
URL:https://cevibasel.ch/veranstaltung/konfestival-lager-b-6/
LOCATION:Vaumarcus le camp\nRoute du Camp 7\, 2028 Vaumarcus\, Schweiz
END:VEVENT
BEGIN:VEVENT
DTSTART;TZID=Europe/Zurich:20261016T173000
DTEND;TZID=Europe/Zurich:20261016T190000
DTSTAMP:20260423T172431
CREATED:20241016T010418Z
LAST-MODIFIED:20260205T231634Z
UID:136949-1792171800-1792177200@cevibasel.ch
SUMMARY:Hattrick Riehen (4. bis 5. Klasse)
DESCRIPTION:
URL:https://cevibasel.ch/veranstaltung/hattrick-riehen-4-bis-5-klasse-178/
LOCATION:Andreasmatte
END:VEVENT
BEGIN:VEVENT
DTSTART;TZID=Europe/Zurich:20261016T173000
DTEND;TZID=Europe/Zurich:20261016T190000
DTSTAMP:20260423T172431
CREATED:20241016T010419Z
LAST-MODIFIED:20260205T231634Z
UID:136950-1792171800-1792177200@cevibasel.ch
SUMMARY:Hattrick Basel West (7-15 Jahre)
DESCRIPTION:
URL:https://cevibasel.ch/veranstaltung/hattrick-basel-west-7-15-jahre-178/
END:VEVENT
BEGIN:VEVENT
DTSTART;TZID=Europe/Zurich:20261016T190000
DTEND;TZID=Europe/Zurich:20261016T203000
DTSTAMP:20260423T172431
CREATED:20241016T010419Z
LAST-MODIFIED:20260205T231634Z
UID:136951-1792177200-1792182600@cevibasel.ch
SUMMARY:Hattrick Basel West (16-18 Jahre)
DESCRIPTION:
URL:https://cevibasel.ch/veranstaltung/hattrick-basel-west-16-18-jahre-178/
LOCATION:Fussballfelder Pfaffenholz
END:VEVENT
END:VCALENDAR