BEGIN:VCALENDAR
VERSION:2.0
PRODID:-//Cevi Region Basel - ECPv6.15.20//NONSGML v1.0//EN
CALSCALE:GREGORIAN
METHOD:PUBLISH
X-WR-CALNAME:Cevi Region Basel
X-ORIGINAL-URL:https://cevibasel.ch
X-WR-CALDESC:Events for Cevi Region Basel
REFRESH-INTERVAL;VALUE=DURATION:PT1H
X-Robots-Tag:noindex
X-PUBLISHED-TTL:PT1H
BEGIN:VTIMEZONE
TZID:Europe/Zurich
BEGIN:DAYLIGHT
TZOFFSETFROM:+0100
TZOFFSETTO:+0200
TZNAME:CEST
DTSTART:20250330T010000
END:DAYLIGHT
BEGIN:STANDARD
TZOFFSETFROM:+0200
TZOFFSETTO:+0100
TZNAME:CET
DTSTART:20251026T010000
END:STANDARD
BEGIN:DAYLIGHT
TZOFFSETFROM:+0100
TZOFFSETTO:+0200
TZNAME:CEST
DTSTART:20260329T010000
END:DAYLIGHT
BEGIN:STANDARD
TZOFFSETFROM:+0200
TZOFFSETTO:+0100
TZNAME:CET
DTSTART:20261025T010000
END:STANDARD
BEGIN:DAYLIGHT
TZOFFSETFROM:+0100
TZOFFSETTO:+0200
TZNAME:CEST
DTSTART:20270328T010000
END:DAYLIGHT
BEGIN:STANDARD
TZOFFSETFROM:+0200
TZOFFSETTO:+0100
TZNAME:CET
DTSTART:20271031T010000
END:STANDARD
END:VTIMEZONE
BEGIN:VEVENT
DTSTART;VALUE=DATE:20261031
DTEND;VALUE=DATE:20261101
DTSTAMP:20260423T172425
CREATED:20251120T031923Z
LAST-MODIFIED:20260205T231710Z
UID:169960-1793404800-1793491199@cevibasel.ch
SUMMARY:Jungschar Angebote
DESCRIPTION:
URL:https://cevibasel.ch/veranstaltung/jungscharangebote-44/
END:VEVENT
BEGIN:VEVENT
DTSTART;TZID=Europe/Zurich:20261031T133000
DTEND;TZID=Europe/Zurich:20261031T153000
DTSTAMP:20260423T172425
CREATED:20241103T201934Z
LAST-MODIFIED:20251120T120824Z
UID:139621-1793453400-1793460600@cevibasel.ch
SUMMARY:Hattrick Gundeli (6-11 Jahre)
DESCRIPTION:
URL:https://cevibasel.ch/veranstaltung/hattrick-gundeli-6-11-jahre-180/
LOCATION:Margarethenpark
END:VEVENT
BEGIN:VEVENT
DTSTART;TZID=Europe/Zurich:20261031T140000
DTEND;TZID=Europe/Zurich:20261031T170000
DTSTAMP:20260423T172425
CREATED:20241103T201930Z
LAST-MODIFIED:20251117T005620Z
UID:139615-1793455200-1793466000@cevibasel.ch
SUMMARY:Jungschi Bubendorf
DESCRIPTION:
URL:https://cevibasel.ch/veranstaltung/jungschi-bubendorf-180/
END:VEVENT
BEGIN:VEVENT
DTSTART;TZID=Europe/Zurich:20261031T140000
DTEND;TZID=Europe/Zurich:20261031T170000
DTSTAMP:20260423T172425
CREATED:20241103T201930Z
LAST-MODIFIED:20241105T013034Z
UID:139616-1793455200-1793466000@cevibasel.ch
SUMMARY:Jungschi Muttenz
DESCRIPTION:
URL:https://cevibasel.ch/veranstaltung/jungschi-muttenz-180/
END:VEVENT
BEGIN:VEVENT
DTSTART;TZID=Europe/Zurich:20261031T140000
DTEND;TZID=Europe/Zurich:20261031T170000
DTSTAMP:20260423T172425
CREATED:20241103T201930Z
LAST-MODIFIED:20241105T013032Z
UID:139617-1793455200-1793466000@cevibasel.ch
SUMMARY:Jungschi Reinach
DESCRIPTION:
URL:https://cevibasel.ch/veranstaltung/jungschi-reinach-180/
END:VEVENT
BEGIN:VEVENT
DTSTART;TZID=Europe/Zurich:20261031T140000
DTEND;TZID=Europe/Zurich:20261031T170000
DTSTAMP:20260423T172425
CREATED:20241103T201930Z
LAST-MODIFIED:20251117T005619Z
UID:139618-1793455200-1793466000@cevibasel.ch
SUMMARY:Jungschi Thomas
DESCRIPTION:
URL:https://cevibasel.ch/veranstaltung/jungschi-thomas-180/
END:VEVENT
BEGIN:VEVENT
DTSTART;TZID=Europe/Zurich:20261031T140000
DTEND;TZID=Europe/Zurich:20261031T170000
DTSTAMP:20260423T172425
CREATED:20241103T201934Z
LAST-MODIFIED:20251117T005619Z
UID:139620-1793455200-1793466000@cevibasel.ch
SUMMARY:Jungschi Titus
DESCRIPTION:
URL:https://cevibasel.ch/veranstaltung/jungschi-titus-180/
END:VEVENT
BEGIN:VEVENT
DTSTART;TZID=Europe/Zurich:20261031T140000
DTEND;TZID=Europe/Zurich:20261031T170000
DTSTAMP:20260423T172425
CREATED:20241103T201934Z
LAST-MODIFIED:20251117T005619Z
UID:139622-1793455200-1793466000@cevibasel.ch
SUMMARY:Jungschi Gotthelf-Neubad
DESCRIPTION:
URL:https://cevibasel.ch/veranstaltung/jungschi-gotthelf-neubad-180/
END:VEVENT
BEGIN:VEVENT
DTSTART;TZID=Europe/Zurich:20261031T140000
DTEND;TZID=Europe/Zurich:20261031T170000
DTSTAMP:20260423T172425
CREATED:20241103T201934Z
LAST-MODIFIED:20251117T005620Z
UID:139623-1793455200-1793466000@cevibasel.ch
SUMMARY:Jungschi Allschwil
DESCRIPTION:
URL:https://cevibasel.ch/veranstaltung/jungschi-allschwil-180/
END:VEVENT
BEGIN:VEVENT
DTSTART;TZID=Europe/Zurich:20261031T140000
DTEND;TZID=Europe/Zurich:20261031T170000
DTSTAMP:20260423T172425
CREATED:20241103T201934Z
LAST-MODIFIED:20251117T005620Z
UID:139619-1793455200-1793466000@cevibasel.ch
SUMMARY:Jungschi Binningen
DESCRIPTION:
URL:https://cevibasel.ch/veranstaltung/jungschi-binningen-180/
END:VEVENT
BEGIN:VEVENT
DTSTART;TZID=Europe/Zurich:20261031T140000
DTEND;TZID=Europe/Zurich:20261031T170000
DTSTAMP:20260423T172425
CREATED:20241103T201938Z
LAST-MODIFIED:20251117T005619Z
UID:139624-1793455200-1793466000@cevibasel.ch
SUMMARY:Jungschi Ettigen & Therwil
DESCRIPTION:
URL:https://cevibasel.ch/veranstaltung/jungschi-ettigen-therwil-180/
END:VEVENT
END:VCALENDAR