BEGIN:VCALENDAR
VERSION:2.0
PRODID:-//Cevi Region Basel - ECPv6.15.20//NONSGML v1.0//EN
CALSCALE:GREGORIAN
METHOD:PUBLISH
X-WR-CALNAME:Cevi Region Basel
X-ORIGINAL-URL:https://cevibasel.ch
X-WR-CALDESC:Events for Cevi Region Basel
REFRESH-INTERVAL;VALUE=DURATION:PT1H
X-Robots-Tag:noindex
X-PUBLISHED-TTL:PT1H
BEGIN:VTIMEZONE
TZID:Europe/Zurich
BEGIN:DAYLIGHT
TZOFFSETFROM:+0100
TZOFFSETTO:+0200
TZNAME:CEST
DTSTART:20250330T010000
END:DAYLIGHT
BEGIN:STANDARD
TZOFFSETFROM:+0200
TZOFFSETTO:+0100
TZNAME:CET
DTSTART:20251026T010000
END:STANDARD
BEGIN:DAYLIGHT
TZOFFSETFROM:+0100
TZOFFSETTO:+0200
TZNAME:CEST
DTSTART:20260329T010000
END:DAYLIGHT
BEGIN:STANDARD
TZOFFSETFROM:+0200
TZOFFSETTO:+0100
TZNAME:CET
DTSTART:20261025T010000
END:STANDARD
BEGIN:DAYLIGHT
TZOFFSETFROM:+0100
TZOFFSETTO:+0200
TZNAME:CEST
DTSTART:20270328T010000
END:DAYLIGHT
BEGIN:STANDARD
TZOFFSETFROM:+0200
TZOFFSETTO:+0100
TZNAME:CET
DTSTART:20271031T010000
END:STANDARD
END:VTIMEZONE
BEGIN:VEVENT
DTSTART;VALUE=DATE:20261107
DTEND;VALUE=DATE:20261108
DTSTAMP:20260425T152552
CREATED:20251120T031946Z
LAST-MODIFIED:20260205T231907Z
UID:169961-1794009600-1794095999@cevibasel.ch
SUMMARY:Jungschar Angebote
DESCRIPTION:
URL:https://cevibasel.ch/veranstaltung/jungscharangebote-45/
END:VEVENT
BEGIN:VEVENT
DTSTART;TZID=Europe/Zurich:20261107T133000
DTEND;TZID=Europe/Zurich:20261107T153000
DTSTAMP:20260425T152552
CREATED:20241107T051449Z
LAST-MODIFIED:20251120T120830Z
UID:140815-1794058200-1794065400@cevibasel.ch
SUMMARY:Hattrick Gundeli (6-11 Jahre)
DESCRIPTION:
URL:https://cevibasel.ch/veranstaltung/hattrick-gundeli-6-11-jahre-181/
LOCATION:Margarethenpark
END:VEVENT
BEGIN:VEVENT
DTSTART;TZID=Europe/Zurich:20261107T140000
DTEND;TZID=Europe/Zurich:20261107T170000
DTSTAMP:20260425T152552
CREATED:20241107T051447Z
LAST-MODIFIED:20251117T005623Z
UID:140808-1794060000-1794070800@cevibasel.ch
SUMMARY:Jungschi Thomas
DESCRIPTION:
URL:https://cevibasel.ch/veranstaltung/jungschi-thomas-181/
END:VEVENT
BEGIN:VEVENT
DTSTART;TZID=Europe/Zurich:20261107T140000
DTEND;TZID=Europe/Zurich:20261107T170000
DTSTAMP:20260425T152552
CREATED:20241107T051447Z
LAST-MODIFIED:20251117T005624Z
UID:140809-1794060000-1794070800@cevibasel.ch
SUMMARY:Jungschi Titus
DESCRIPTION:
URL:https://cevibasel.ch/veranstaltung/jungschi-titus-181/
END:VEVENT
BEGIN:VEVENT
DTSTART;TZID=Europe/Zurich:20261107T140000
DTEND;TZID=Europe/Zurich:20261107T170000
DTSTAMP:20260425T152552
CREATED:20241107T051448Z
LAST-MODIFIED:20251117T005623Z
UID:140813-1794060000-1794070800@cevibasel.ch
SUMMARY:Jungschi Ettigen & Therwil
DESCRIPTION:
URL:https://cevibasel.ch/veranstaltung/jungschi-ettigen-therwil-181/
END:VEVENT
BEGIN:VEVENT
DTSTART;TZID=Europe/Zurich:20261107T140000
DTEND;TZID=Europe/Zurich:20261107T170000
DTSTAMP:20260425T152552
CREATED:20241107T051448Z
LAST-MODIFIED:20251117T005622Z
UID:140814-1794060000-1794070800@cevibasel.ch
SUMMARY:Jungschi Bubendorf
DESCRIPTION:
URL:https://cevibasel.ch/veranstaltung/jungschi-bubendorf-181/
END:VEVENT
BEGIN:VEVENT
DTSTART;TZID=Europe/Zurich:20261107T140000
DTEND;TZID=Europe/Zurich:20261107T170000
DTSTAMP:20260425T152552
CREATED:20241107T051448Z
LAST-MODIFIED:20251117T005623Z
UID:140810-1794060000-1794070800@cevibasel.ch
SUMMARY:Jungschi Gotthelf-Neubad
DESCRIPTION:
URL:https://cevibasel.ch/veranstaltung/jungschi-gotthelf-neubad-181/
END:VEVENT
BEGIN:VEVENT
DTSTART;TZID=Europe/Zurich:20261107T140000
DTEND;TZID=Europe/Zurich:20261107T170000
DTSTAMP:20260425T152552
CREATED:20241107T051448Z
LAST-MODIFIED:20251117T005622Z
UID:140811-1794060000-1794070800@cevibasel.ch
SUMMARY:Jungschi Binningen
DESCRIPTION:
URL:https://cevibasel.ch/veranstaltung/jungschi-binningen-181/
END:VEVENT
BEGIN:VEVENT
DTSTART;TZID=Europe/Zurich:20261107T140000
DTEND;TZID=Europe/Zurich:20261107T170000
DTSTAMP:20260425T152552
CREATED:20241107T051448Z
LAST-MODIFIED:20251117T005623Z
UID:140812-1794060000-1794070800@cevibasel.ch
SUMMARY:Jungschi Allschwil
DESCRIPTION:
URL:https://cevibasel.ch/veranstaltung/jungschi-allschwil-181/
END:VEVENT
END:VCALENDAR