BEGIN:VCALENDAR
VERSION:2.0
PRODID:-//Cevi Region Basel - ECPv6.15.20//NONSGML v1.0//EN
CALSCALE:GREGORIAN
METHOD:PUBLISH
X-WR-CALNAME:Cevi Region Basel
X-ORIGINAL-URL:https://cevibasel.ch
X-WR-CALDESC:Events for Cevi Region Basel
REFRESH-INTERVAL;VALUE=DURATION:PT1H
X-Robots-Tag:noindex
X-PUBLISHED-TTL:PT1H
BEGIN:VTIMEZONE
TZID:Europe/Zurich
BEGIN:DAYLIGHT
TZOFFSETFROM:+0100
TZOFFSETTO:+0200
TZNAME:CEST
DTSTART:20250330T010000
END:DAYLIGHT
BEGIN:STANDARD
TZOFFSETFROM:+0200
TZOFFSETTO:+0100
TZNAME:CET
DTSTART:20251026T010000
END:STANDARD
BEGIN:DAYLIGHT
TZOFFSETFROM:+0100
TZOFFSETTO:+0200
TZNAME:CEST
DTSTART:20260329T010000
END:DAYLIGHT
BEGIN:STANDARD
TZOFFSETFROM:+0200
TZOFFSETTO:+0100
TZNAME:CET
DTSTART:20261025T010000
END:STANDARD
BEGIN:DAYLIGHT
TZOFFSETFROM:+0100
TZOFFSETTO:+0200
TZNAME:CEST
DTSTART:20270328T010000
END:DAYLIGHT
BEGIN:STANDARD
TZOFFSETFROM:+0200
TZOFFSETTO:+0100
TZNAME:CET
DTSTART:20271031T010000
END:STANDARD
END:VTIMEZONE
BEGIN:VEVENT
DTSTART;VALUE=DATE:20261121
DTEND;VALUE=DATE:20261122
DTSTAMP:20260425T171518
CREATED:20251120T033310Z
LAST-MODIFIED:20260205T231941Z
UID:169975-1795219200-1795305599@cevibasel.ch
SUMMARY:Jungschar Angebote
DESCRIPTION:
URL:https://cevibasel.ch/veranstaltung/jungscharangebote-47/
END:VEVENT
BEGIN:VEVENT
DTSTART;VALUE=DATE:20261121
DTEND;VALUE=DATE:20261123
DTSTAMP:20260425T171518
CREATED:20251204T115950Z
LAST-MODIFIED:20260205T231941Z
UID:170287-1795219200-1795391999@cevibasel.ch
SUMMARY:Ten Sing Shows
DESCRIPTION:
URL:https://cevibasel.ch/veranstaltung/ten-sing-shows/
END:VEVENT
BEGIN:VEVENT
DTSTART;TZID=Europe/Zurich:20261121T133000
DTEND;TZID=Europe/Zurich:20261121T153000
DTSTAMP:20260425T171518
CREATED:20241121T024832Z
LAST-MODIFIED:20251120T120850Z
UID:142254-1795267800-1795275000@cevibasel.ch
SUMMARY:Hattrick Gundeli (6-11 Jahre)
DESCRIPTION:
URL:https://cevibasel.ch/veranstaltung/hattrick-gundeli-6-11-jahre-183/
LOCATION:Margarethenpark
END:VEVENT
BEGIN:VEVENT
DTSTART;TZID=Europe/Zurich:20261121T140000
DTEND;TZID=Europe/Zurich:20261121T170000
DTSTAMP:20260425T171518
CREATED:20241121T024831Z
LAST-MODIFIED:20251117T005630Z
UID:142250-1795269600-1795280400@cevibasel.ch
SUMMARY:Jungschi Allschwil
DESCRIPTION:
URL:https://cevibasel.ch/veranstaltung/jungschi-allschwil-183/
END:VEVENT
BEGIN:VEVENT
DTSTART;TZID=Europe/Zurich:20261121T140000
DTEND;TZID=Europe/Zurich:20261121T170000
DTSTAMP:20260425T171518
CREATED:20241121T024832Z
LAST-MODIFIED:20251117T005631Z
UID:142255-1795269600-1795280400@cevibasel.ch
SUMMARY:Jungschi Binningen
DESCRIPTION:
URL:https://cevibasel.ch/veranstaltung/jungschi-binningen-183/
END:VEVENT
BEGIN:VEVENT
DTSTART;TZID=Europe/Zurich:20261121T140000
DTEND;TZID=Europe/Zurich:20261121T170000
DTSTAMP:20260425T171518
CREATED:20241121T024832Z
LAST-MODIFIED:20251117T005630Z
UID:142251-1795269600-1795280400@cevibasel.ch
SUMMARY:Jungschi Gotthelf-Neubad
DESCRIPTION:
URL:https://cevibasel.ch/veranstaltung/jungschi-gotthelf-neubad-183/
END:VEVENT
BEGIN:VEVENT
DTSTART;TZID=Europe/Zurich:20261121T140000
DTEND;TZID=Europe/Zurich:20261121T170000
DTSTAMP:20260425T171518
CREATED:20241121T024832Z
LAST-MODIFIED:20251117T005629Z
UID:142252-1795269600-1795280400@cevibasel.ch
SUMMARY:Jungschi Ettigen & Therwil
DESCRIPTION:
URL:https://cevibasel.ch/veranstaltung/jungschi-ettigen-therwil-183/
END:VEVENT
BEGIN:VEVENT
DTSTART;TZID=Europe/Zurich:20261121T140000
DTEND;TZID=Europe/Zurich:20261121T170000
DTSTAMP:20260425T171518
CREATED:20241121T024832Z
LAST-MODIFIED:20251117T005630Z
UID:142253-1795269600-1795280400@cevibasel.ch
SUMMARY:Jungschi Thomas
DESCRIPTION:
URL:https://cevibasel.ch/veranstaltung/jungschi-thomas-183/
END:VEVENT
BEGIN:VEVENT
DTSTART;TZID=Europe/Zurich:20261121T140000
DTEND;TZID=Europe/Zurich:20261121T170000
DTSTAMP:20260425T171518
CREATED:20241121T024834Z
LAST-MODIFIED:20251117T005631Z
UID:142256-1795269600-1795280400@cevibasel.ch
SUMMARY:Jungschi Bubendorf
DESCRIPTION:
URL:https://cevibasel.ch/veranstaltung/jungschi-bubendorf-183/
END:VEVENT
BEGIN:VEVENT
DTSTART;TZID=Europe/Zurich:20261121T140000
DTEND;TZID=Europe/Zurich:20261121T170000
DTSTAMP:20260425T171518
CREATED:20241121T024834Z
LAST-MODIFIED:20251117T005630Z
UID:142257-1795269600-1795280400@cevibasel.ch
SUMMARY:Jungschi Titus
DESCRIPTION:
URL:https://cevibasel.ch/veranstaltung/jungschi-titus-183/
END:VEVENT
END:VCALENDAR