BEGIN:VCALENDAR
VERSION:2.0
PRODID:-//Cevi Region Basel - ECPv6.15.20//NONSGML v1.0//EN
CALSCALE:GREGORIAN
METHOD:PUBLISH
X-ORIGINAL-URL:https://cevibasel.ch
X-WR-CALDESC:Events for Cevi Region Basel
REFRESH-INTERVAL;VALUE=DURATION:PT1H
X-Robots-Tag:noindex
X-PUBLISHED-TTL:PT1H
BEGIN:VTIMEZONE
TZID:Europe/Zurich
BEGIN:DAYLIGHT
TZOFFSETFROM:+0100
TZOFFSETTO:+0200
TZNAME:CEST
DTSTART:20250330T010000
END:DAYLIGHT
BEGIN:STANDARD
TZOFFSETFROM:+0200
TZOFFSETTO:+0100
TZNAME:CET
DTSTART:20251026T010000
END:STANDARD
BEGIN:DAYLIGHT
TZOFFSETFROM:+0100
TZOFFSETTO:+0200
TZNAME:CEST
DTSTART:20260329T010000
END:DAYLIGHT
BEGIN:STANDARD
TZOFFSETFROM:+0200
TZOFFSETTO:+0100
TZNAME:CET
DTSTART:20261025T010000
END:STANDARD
BEGIN:DAYLIGHT
TZOFFSETFROM:+0100
TZOFFSETTO:+0200
TZNAME:CEST
DTSTART:20270328T010000
END:DAYLIGHT
BEGIN:STANDARD
TZOFFSETFROM:+0200
TZOFFSETTO:+0100
TZNAME:CET
DTSTART:20271031T010000
END:STANDARD
END:VTIMEZONE
BEGIN:VEVENT
DTSTART;VALUE=DATE:20261205
DTEND;VALUE=DATE:20261206
DTSTAMP:20260425T171608
CREATED:20251120T033335Z
LAST-MODIFIED:20260205T230339Z
UID:169977-1796428800-1796515199@cevibasel.ch
SUMMARY:Jungschar Angebote
DESCRIPTION:
URL:https://cevibasel.ch/veranstaltung/jungscharangebote-49/
END:VEVENT
BEGIN:VEVENT
DTSTART;VALUE=DATE:20261205
DTEND;VALUE=DATE:20261206
DTSTAMP:20260425T171608
CREATED:20251120T033335Z
LAST-MODIFIED:20260205T230339Z
UID:169978-1796428800-1796515199@cevibasel.ch
SUMMARY:Hattrick Cup
DESCRIPTION:
URL:https://cevibasel.ch/veranstaltung/hattrick-cup-5/
END:VEVENT
BEGIN:VEVENT
DTSTART;TZID=Europe/Zurich:20261205T133000
DTEND;TZID=Europe/Zurich:20261205T153000
DTSTAMP:20260425T171608
CREATED:20250114T012813Z
LAST-MODIFIED:20251120T120901Z
UID:147159-1796477400-1796484600@cevibasel.ch
SUMMARY:Hattrick Gundeli (6-11 Jahre)
DESCRIPTION:
URL:https://cevibasel.ch/veranstaltung/hattrick-gundeli-6-11-jahre-185/
LOCATION:Margarethenpark
END:VEVENT
BEGIN:VEVENT
DTSTART;TZID=Europe/Zurich:20261205T140000
DTEND;TZID=Europe/Zurich:20261205T170000
DTSTAMP:20260425T171608
CREATED:20250114T012811Z
LAST-MODIFIED:20251117T005639Z
UID:147153-1796479200-1796490000@cevibasel.ch
SUMMARY:Jungschi Ettigen & Therwil
DESCRIPTION:
URL:https://cevibasel.ch/veranstaltung/jungschi-ettigen-therwil-185/
END:VEVENT
BEGIN:VEVENT
DTSTART;TZID=Europe/Zurich:20261205T140000
DTEND;TZID=Europe/Zurich:20261205T170000
DTSTAMP:20260425T171608
CREATED:20250114T012812Z
LAST-MODIFIED:20251117T005637Z
UID:147154-1796479200-1796490000@cevibasel.ch
SUMMARY:Jungschi Gotthelf-Neubad
DESCRIPTION:
URL:https://cevibasel.ch/veranstaltung/jungschi-gotthelf-neubad-185/
END:VEVENT
BEGIN:VEVENT
DTSTART;TZID=Europe/Zurich:20261205T140000
DTEND;TZID=Europe/Zurich:20261205T170000
DTSTAMP:20260425T171608
CREATED:20250114T012812Z
LAST-MODIFIED:20251117T005638Z
UID:147155-1796479200-1796490000@cevibasel.ch
SUMMARY:Jungschi Titus
DESCRIPTION:
URL:https://cevibasel.ch/veranstaltung/jungschi-titus-185/
END:VEVENT
BEGIN:VEVENT
DTSTART;TZID=Europe/Zurich:20261205T140000
DTEND;TZID=Europe/Zurich:20261205T170000
DTSTAMP:20260425T171608
CREATED:20250114T012812Z
LAST-MODIFIED:20251117T005639Z
UID:147156-1796479200-1796490000@cevibasel.ch
SUMMARY:Jungschi Thomas
DESCRIPTION:
URL:https://cevibasel.ch/veranstaltung/jungschi-thomas-185/
END:VEVENT
BEGIN:VEVENT
DTSTART;TZID=Europe/Zurich:20261205T140000
DTEND;TZID=Europe/Zurich:20261205T170000
DTSTAMP:20260425T171608
CREATED:20250114T012812Z
LAST-MODIFIED:20251117T005638Z
UID:147157-1796479200-1796490000@cevibasel.ch
SUMMARY:Jungschi Bubendorf
DESCRIPTION:
URL:https://cevibasel.ch/veranstaltung/jungschi-bubendorf-185/
END:VEVENT
BEGIN:VEVENT
DTSTART;TZID=Europe/Zurich:20261205T140000
DTEND;TZID=Europe/Zurich:20261205T170000
DTSTAMP:20260425T171608
CREATED:20250114T012813Z
LAST-MODIFIED:20251117T005639Z
UID:147158-1796479200-1796490000@cevibasel.ch
SUMMARY:Jungschi Allschwil
DESCRIPTION:
URL:https://cevibasel.ch/veranstaltung/jungschi-allschwil-185/
END:VEVENT
BEGIN:VEVENT
DTSTART;TZID=Europe/Zurich:20261205T140000
DTEND;TZID=Europe/Zurich:20261205T170000
DTSTAMP:20260425T171608
CREATED:20250114T012813Z
LAST-MODIFIED:20251117T005637Z
UID:147160-1796479200-1796490000@cevibasel.ch
SUMMARY:Jungschi Binningen
DESCRIPTION:
URL:https://cevibasel.ch/veranstaltung/jungschi-binningen-185/
END:VEVENT
BEGIN:VEVENT
DTSTART;TZID=Europe/Zurich:20261205T183000
DTEND;TZID=Europe/Zurich:20261205T220000
DTSTAMP:20260425T171608
CREATED:20251204T111519Z
LAST-MODIFIED:20260205T230339Z
UID:170279-1796495400-1796508000@cevibasel.ch
SUMMARY:Faith Hub
DESCRIPTION:
URL:https://cevibasel.ch/veranstaltung/faith-hub-5/
END:VEVENT
END:VCALENDAR