BEGIN:VCALENDAR
VERSION:2.0
PRODID:-//Cevi Region Basel - ECPv6.15.20//NONSGML v1.0//EN
CALSCALE:GREGORIAN
METHOD:PUBLISH
X-ORIGINAL-URL:https://cevibasel.ch
X-WR-CALDESC:Events for Cevi Region Basel
REFRESH-INTERVAL;VALUE=DURATION:PT1H
X-Robots-Tag:noindex
X-PUBLISHED-TTL:PT1H
BEGIN:VTIMEZONE
TZID:Europe/Zurich
BEGIN:DAYLIGHT
TZOFFSETFROM:+0100
TZOFFSETTO:+0200
TZNAME:CEST
DTSTART:20260329T010000
END:DAYLIGHT
BEGIN:STANDARD
TZOFFSETFROM:+0200
TZOFFSETTO:+0100
TZNAME:CET
DTSTART:20261025T010000
END:STANDARD
BEGIN:DAYLIGHT
TZOFFSETFROM:+0100
TZOFFSETTO:+0200
TZNAME:CEST
DTSTART:20270328T010000
END:DAYLIGHT
BEGIN:STANDARD
TZOFFSETFROM:+0200
TZOFFSETTO:+0100
TZNAME:CET
DTSTART:20271031T010000
END:STANDARD
BEGIN:DAYLIGHT
TZOFFSETFROM:+0100
TZOFFSETTO:+0200
TZNAME:CEST
DTSTART:20280326T010000
END:DAYLIGHT
BEGIN:STANDARD
TZOFFSETFROM:+0200
TZOFFSETTO:+0100
TZNAME:CET
DTSTART:20281029T010000
END:STANDARD
END:VTIMEZONE
BEGIN:VEVENT
DTSTART;VALUE=DATE:20270102
DTEND;VALUE=DATE:20270103
DTSTAMP:20260425T171612
CREATED:20251120T033421Z
LAST-MODIFIED:20260205T230433Z
UID:169982-1798848000-1798934399@cevibasel.ch
SUMMARY:Jungschar Angebote
DESCRIPTION:
URL:https://cevibasel.ch/veranstaltung/jungscharangebote-53/
END:VEVENT
BEGIN:VEVENT
DTSTART;TZID=Europe/Zurich:20270102T133000
DTEND;TZID=Europe/Zurich:20270102T153000
DTSTAMP:20260425T171612
CREATED:20250114T012829Z
LAST-MODIFIED:20251120T120917Z
UID:147225-1798896600-1798903800@cevibasel.ch
SUMMARY:Hattrick Gundeli (6-11 Jahre)
DESCRIPTION:
URL:https://cevibasel.ch/veranstaltung/hattrick-gundeli-6-11-jahre-189/
LOCATION:Margarethenpark
END:VEVENT
BEGIN:VEVENT
DTSTART;TZID=Europe/Zurich:20270102T140000
DTEND;TZID=Europe/Zurich:20270102T170000
DTSTAMP:20260425T171612
CREATED:20250114T012829Z
LAST-MODIFIED:20251117T005653Z
UID:147226-1798898400-1798909200@cevibasel.ch
SUMMARY:Jungschi Thomas
DESCRIPTION:
URL:https://cevibasel.ch/veranstaltung/jungschi-thomas-189/
END:VEVENT
BEGIN:VEVENT
DTSTART;TZID=Europe/Zurich:20270102T140000
DTEND;TZID=Europe/Zurich:20270102T170000
DTSTAMP:20260425T171612
CREATED:20250114T012829Z
LAST-MODIFIED:20251117T005656Z
UID:147227-1798898400-1798909200@cevibasel.ch
SUMMARY:Jungschi Bubendorf
DESCRIPTION:
URL:https://cevibasel.ch/veranstaltung/jungschi-bubendorf-189/
END:VEVENT
BEGIN:VEVENT
DTSTART;TZID=Europe/Zurich:20270102T140000
DTEND;TZID=Europe/Zurich:20270102T170000
DTSTAMP:20260425T171612
CREATED:20250114T012829Z
LAST-MODIFIED:20251117T005759Z
UID:147228-1798898400-1798909200@cevibasel.ch
SUMMARY:Jungschi Allschwil
DESCRIPTION:
URL:https://cevibasel.ch/veranstaltung/jungschi-allschwil-189/
END:VEVENT
BEGIN:VEVENT
DTSTART;TZID=Europe/Zurich:20270102T140000
DTEND;TZID=Europe/Zurich:20270102T170000
DTSTAMP:20260425T171612
CREATED:20250114T012829Z
LAST-MODIFIED:20251117T005656Z
UID:147229-1798898400-1798909200@cevibasel.ch
SUMMARY:Jungschi Titus
DESCRIPTION:
URL:https://cevibasel.ch/veranstaltung/jungschi-titus-189/
END:VEVENT
BEGIN:VEVENT
DTSTART;TZID=Europe/Zurich:20270102T140000
DTEND;TZID=Europe/Zurich:20270102T170000
DTSTAMP:20260425T171612
CREATED:20250114T012841Z
LAST-MODIFIED:20251117T005656Z
UID:147230-1798898400-1798909200@cevibasel.ch
SUMMARY:Jungschi Binningen
DESCRIPTION:
URL:https://cevibasel.ch/veranstaltung/jungschi-binningen-189/
END:VEVENT
BEGIN:VEVENT
DTSTART;TZID=Europe/Zurich:20270102T140000
DTEND;TZID=Europe/Zurich:20270102T170000
DTSTAMP:20260425T171612
CREATED:20250114T012841Z
LAST-MODIFIED:20251117T005653Z
UID:147231-1798898400-1798909200@cevibasel.ch
SUMMARY:Jungschi Gotthelf-Neubad
DESCRIPTION:
URL:https://cevibasel.ch/veranstaltung/jungschi-gotthelf-neubad-189/
END:VEVENT
BEGIN:VEVENT
DTSTART;TZID=Europe/Zurich:20270102T140000
DTEND;TZID=Europe/Zurich:20270102T170000
DTSTAMP:20260425T171612
CREATED:20250114T012841Z
LAST-MODIFIED:20251117T005656Z
UID:147232-1798898400-1798909200@cevibasel.ch
SUMMARY:Jungschi Ettigen & Therwil
DESCRIPTION:
URL:https://cevibasel.ch/veranstaltung/jungschi-ettigen-therwil-189/
END:VEVENT
END:VCALENDAR