BEGIN:VCALENDAR
VERSION:2.0
PRODID:-//Cevi Region Basel - ECPv6.15.20//NONSGML v1.0//EN
CALSCALE:GREGORIAN
METHOD:PUBLISH
X-WR-CALNAME:Cevi Region Basel
X-ORIGINAL-URL:https://cevibasel.ch
X-WR-CALDESC:Events for Cevi Region Basel
REFRESH-INTERVAL;VALUE=DURATION:PT1H
X-Robots-Tag:noindex
X-PUBLISHED-TTL:PT1H
BEGIN:VTIMEZONE
TZID:Europe/Zurich
BEGIN:DAYLIGHT
TZOFFSETFROM:+0100
TZOFFSETTO:+0200
TZNAME:CEST
DTSTART:20260329T010000
END:DAYLIGHT
BEGIN:STANDARD
TZOFFSETFROM:+0200
TZOFFSETTO:+0100
TZNAME:CET
DTSTART:20261025T010000
END:STANDARD
BEGIN:DAYLIGHT
TZOFFSETFROM:+0100
TZOFFSETTO:+0200
TZNAME:CEST
DTSTART:20270328T010000
END:DAYLIGHT
BEGIN:STANDARD
TZOFFSETFROM:+0200
TZOFFSETTO:+0100
TZNAME:CET
DTSTART:20271031T010000
END:STANDARD
BEGIN:DAYLIGHT
TZOFFSETFROM:+0100
TZOFFSETTO:+0200
TZNAME:CEST
DTSTART:20280326T010000
END:DAYLIGHT
BEGIN:STANDARD
TZOFFSETFROM:+0200
TZOFFSETTO:+0100
TZNAME:CET
DTSTART:20281029T010000
END:STANDARD
END:VTIMEZONE
BEGIN:VEVENT
DTSTART;VALUE=DATE:20270109
DTEND;VALUE=DATE:20270110
DTSTAMP:20260425T233042
CREATED:20251120T033434Z
LAST-MODIFIED:20260205T230434Z
UID:169983-1799452800-1799539199@cevibasel.ch
SUMMARY:Jungschar Angebote
DESCRIPTION:
URL:https://cevibasel.ch/veranstaltung/jungscharangebote-54/
END:VEVENT
BEGIN:VEVENT
DTSTART;TZID=Europe/Zurich:20270109T133000
DTEND;TZID=Europe/Zurich:20270109T153000
DTSTAMP:20260425T233042
CREATED:20250114T012845Z
LAST-MODIFIED:20251120T120922Z
UID:147246-1799501400-1799508600@cevibasel.ch
SUMMARY:Hattrick Gundeli (6-11 Jahre)
DESCRIPTION:
URL:https://cevibasel.ch/veranstaltung/hattrick-gundeli-6-11-jahre-190/
LOCATION:Margarethenpark
END:VEVENT
BEGIN:VEVENT
DTSTART;TZID=Europe/Zurich:20270109T140000
DTEND;TZID=Europe/Zurich:20270109T170000
DTSTAMP:20260425T233042
CREATED:20250114T012844Z
LAST-MODIFIED:20251117T005802Z
UID:147243-1799503200-1799514000@cevibasel.ch
SUMMARY:Jungschi Allschwil
DESCRIPTION:
URL:https://cevibasel.ch/veranstaltung/jungschi-allschwil-190/
END:VEVENT
BEGIN:VEVENT
DTSTART;TZID=Europe/Zurich:20270109T140000
DTEND;TZID=Europe/Zurich:20270109T170000
DTSTAMP:20260425T233042
CREATED:20250114T012844Z
LAST-MODIFIED:20251117T005801Z
UID:147244-1799503200-1799514000@cevibasel.ch
SUMMARY:Jungschi Ettigen & Therwil
DESCRIPTION:
URL:https://cevibasel.ch/veranstaltung/jungschi-ettigen-therwil-190/
END:VEVENT
BEGIN:VEVENT
DTSTART;TZID=Europe/Zurich:20270109T140000
DTEND;TZID=Europe/Zurich:20270109T170000
DTSTAMP:20260425T233042
CREATED:20250114T012845Z
LAST-MODIFIED:20251117T005802Z
UID:147248-1799503200-1799514000@cevibasel.ch
SUMMARY:Jungschi Titus
DESCRIPTION:
URL:https://cevibasel.ch/veranstaltung/jungschi-titus-190/
END:VEVENT
BEGIN:VEVENT
DTSTART;TZID=Europe/Zurich:20270109T140000
DTEND;TZID=Europe/Zurich:20270109T170000
DTSTAMP:20260425T233042
CREATED:20250114T012845Z
LAST-MODIFIED:20251117T005802Z
UID:147249-1799503200-1799514000@cevibasel.ch
SUMMARY:Jungschi Bubendorf
DESCRIPTION:
URL:https://cevibasel.ch/veranstaltung/jungschi-bubendorf-190/
END:VEVENT
BEGIN:VEVENT
DTSTART;TZID=Europe/Zurich:20270109T140000
DTEND;TZID=Europe/Zurich:20270109T170000
DTSTAMP:20260425T233042
CREATED:20250114T012845Z
LAST-MODIFIED:20251117T005802Z
UID:147245-1799503200-1799514000@cevibasel.ch
SUMMARY:Jungschi Thomas
DESCRIPTION:
URL:https://cevibasel.ch/veranstaltung/jungschi-thomas-190/
END:VEVENT
BEGIN:VEVENT
DTSTART;TZID=Europe/Zurich:20270109T140000
DTEND;TZID=Europe/Zurich:20270109T170000
DTSTAMP:20260425T233042
CREATED:20250114T012845Z
LAST-MODIFIED:20251117T005802Z
UID:147247-1799503200-1799514000@cevibasel.ch
SUMMARY:Jungschi Gotthelf-Neubad
DESCRIPTION:
URL:https://cevibasel.ch/veranstaltung/jungschi-gotthelf-neubad-190/
END:VEVENT
BEGIN:VEVENT
DTSTART;TZID=Europe/Zurich:20270109T140000
DTEND;TZID=Europe/Zurich:20270109T170000
DTSTAMP:20260425T233042
CREATED:20250114T012846Z
LAST-MODIFIED:20251117T005802Z
UID:147250-1799503200-1799514000@cevibasel.ch
SUMMARY:Jungschi Binningen
DESCRIPTION:
URL:https://cevibasel.ch/veranstaltung/jungschi-binningen-190/
END:VEVENT
END:VCALENDAR