BEGIN:VCALENDAR
VERSION:2.0
PRODID:-//Cevi Region Basel - ECPv6.15.20//NONSGML v1.0//EN
CALSCALE:GREGORIAN
METHOD:PUBLISH
X-ORIGINAL-URL:https://cevibasel.ch
X-WR-CALDESC:Events for Cevi Region Basel
REFRESH-INTERVAL;VALUE=DURATION:PT1H
X-Robots-Tag:noindex
X-PUBLISHED-TTL:PT1H
BEGIN:VTIMEZONE
TZID:Europe/Zurich
BEGIN:DAYLIGHT
TZOFFSETFROM:+0100
TZOFFSETTO:+0200
TZNAME:CEST
DTSTART:20260329T010000
END:DAYLIGHT
BEGIN:STANDARD
TZOFFSETFROM:+0200
TZOFFSETTO:+0100
TZNAME:CET
DTSTART:20261025T010000
END:STANDARD
BEGIN:DAYLIGHT
TZOFFSETFROM:+0100
TZOFFSETTO:+0200
TZNAME:CEST
DTSTART:20270328T010000
END:DAYLIGHT
BEGIN:STANDARD
TZOFFSETFROM:+0200
TZOFFSETTO:+0100
TZNAME:CET
DTSTART:20271031T010000
END:STANDARD
BEGIN:DAYLIGHT
TZOFFSETFROM:+0100
TZOFFSETTO:+0200
TZNAME:CEST
DTSTART:20280326T010000
END:DAYLIGHT
BEGIN:STANDARD
TZOFFSETFROM:+0200
TZOFFSETTO:+0100
TZNAME:CET
DTSTART:20281029T010000
END:STANDARD
END:VTIMEZONE
BEGIN:VEVENT
DTSTART;VALUE=DATE:20270206
DTEND;VALUE=DATE:20270207
DTSTAMP:20260426T044340
CREATED:20251120T111715Z
LAST-MODIFIED:20260205T063858Z
UID:169999-1801872000-1801958399@cevibasel.ch
SUMMARY:Jungschar Angebote
DESCRIPTION:
URL:https://cevibasel.ch/veranstaltung/jungscharangebote-58/
END:VEVENT
BEGIN:VEVENT
DTSTART;TZID=Europe/Zurich:20270206T133000
DTEND;TZID=Europe/Zurich:20270206T153000
DTSTAMP:20260426T044340
CREATED:20250212T180147Z
LAST-MODIFIED:20251120T120935Z
UID:149935-1801920600-1801927800@cevibasel.ch
SUMMARY:Hattrick Gundeli (6-11 Jahre)
DESCRIPTION:
URL:https://cevibasel.ch/veranstaltung/hattrick-gundeli-6-11-jahre-194/
LOCATION:Margarethenpark
END:VEVENT
BEGIN:VEVENT
DTSTART;TZID=Europe/Zurich:20270206T140000
DTEND;TZID=Europe/Zurich:20270206T170000
DTSTAMP:20260426T044340
CREATED:20250212T180147Z
LAST-MODIFIED:20251117T005816Z
UID:149936-1801922400-1801933200@cevibasel.ch
SUMMARY:Jungschi Ettigen & Therwil
DESCRIPTION:
URL:https://cevibasel.ch/veranstaltung/jungschi-ettigen-therwil-194/
END:VEVENT
BEGIN:VEVENT
DTSTART;TZID=Europe/Zurich:20270206T140000
DTEND;TZID=Europe/Zurich:20270206T170000
DTSTAMP:20260426T044340
CREATED:20250212T180148Z
LAST-MODIFIED:20251117T005817Z
UID:149940-1801922400-1801933200@cevibasel.ch
SUMMARY:Jungschi Thomas
DESCRIPTION:
URL:https://cevibasel.ch/veranstaltung/jungschi-thomas-194/
END:VEVENT
BEGIN:VEVENT
DTSTART;TZID=Europe/Zurich:20270206T140000
DTEND;TZID=Europe/Zurich:20270206T170000
DTSTAMP:20260426T044340
CREATED:20250212T180148Z
LAST-MODIFIED:20251117T005817Z
UID:149941-1801922400-1801933200@cevibasel.ch
SUMMARY:Jungschi Titus
DESCRIPTION:
URL:https://cevibasel.ch/veranstaltung/jungschi-titus-194/
END:VEVENT
BEGIN:VEVENT
DTSTART;TZID=Europe/Zurich:20270206T140000
DTEND;TZID=Europe/Zurich:20270206T170000
DTSTAMP:20260426T044340
CREATED:20250212T180148Z
LAST-MODIFIED:20251117T005817Z
UID:149937-1801922400-1801933200@cevibasel.ch
SUMMARY:Jungschi Gotthelf-Neubad
DESCRIPTION:
URL:https://cevibasel.ch/veranstaltung/jungschi-gotthelf-neubad-194/
END:VEVENT
BEGIN:VEVENT
DTSTART;TZID=Europe/Zurich:20270206T140000
DTEND;TZID=Europe/Zurich:20270206T170000
DTSTAMP:20260426T044340
CREATED:20250212T180148Z
LAST-MODIFIED:20251117T005818Z
UID:149938-1801922400-1801933200@cevibasel.ch
SUMMARY:Jungschi Binningen
DESCRIPTION:
URL:https://cevibasel.ch/veranstaltung/jungschi-binningen-194/
END:VEVENT
BEGIN:VEVENT
DTSTART;TZID=Europe/Zurich:20270206T140000
DTEND;TZID=Europe/Zurich:20270206T170000
DTSTAMP:20260426T044340
CREATED:20250212T180148Z
LAST-MODIFIED:20251117T005817Z
UID:149939-1801922400-1801933200@cevibasel.ch
SUMMARY:Jungschi Allschwil
DESCRIPTION:
URL:https://cevibasel.ch/veranstaltung/jungschi-allschwil-194/
END:VEVENT
BEGIN:VEVENT
DTSTART;TZID=Europe/Zurich:20270206T140000
DTEND;TZID=Europe/Zurich:20270206T170000
DTSTAMP:20260426T044340
CREATED:20250212T180155Z
LAST-MODIFIED:20251117T005817Z
UID:149942-1801922400-1801933200@cevibasel.ch
SUMMARY:Jungschi Bubendorf
DESCRIPTION:
URL:https://cevibasel.ch/veranstaltung/jungschi-bubendorf-194/
END:VEVENT
END:VCALENDAR