BEGIN:VCALENDAR
VERSION:2.0
PRODID:-//Cevi Region Basel - ECPv6.15.20//NONSGML v1.0//EN
CALSCALE:GREGORIAN
METHOD:PUBLISH
X-WR-CALNAME:Cevi Region Basel
X-ORIGINAL-URL:https://cevibasel.ch
X-WR-CALDESC:Events for Cevi Region Basel
REFRESH-INTERVAL;VALUE=DURATION:PT1H
X-Robots-Tag:noindex
X-PUBLISHED-TTL:PT1H
BEGIN:VTIMEZONE
TZID:Europe/Zurich
BEGIN:DAYLIGHT
TZOFFSETFROM:+0100
TZOFFSETTO:+0200
TZNAME:CEST
DTSTART:20190331T010000
END:DAYLIGHT
BEGIN:STANDARD
TZOFFSETFROM:+0200
TZOFFSETTO:+0100
TZNAME:CET
DTSTART:20191027T010000
END:STANDARD
BEGIN:DAYLIGHT
TZOFFSETFROM:+0100
TZOFFSETTO:+0200
TZNAME:CEST
DTSTART:20200329T010000
END:DAYLIGHT
BEGIN:STANDARD
TZOFFSETFROM:+0200
TZOFFSETTO:+0100
TZNAME:CET
DTSTART:20201025T010000
END:STANDARD
BEGIN:DAYLIGHT
TZOFFSETFROM:+0100
TZOFFSETTO:+0200
TZNAME:CEST
DTSTART:20210328T010000
END:DAYLIGHT
BEGIN:STANDARD
TZOFFSETFROM:+0200
TZOFFSETTO:+0100
TZNAME:CET
DTSTART:20211031T010000
END:STANDARD
BEGIN:DAYLIGHT
TZOFFSETFROM:+0100
TZOFFSETTO:+0200
TZNAME:CEST
DTSTART:20220327T010000
END:DAYLIGHT
BEGIN:STANDARD
TZOFFSETFROM:+0200
TZOFFSETTO:+0100
TZNAME:CET
DTSTART:20221030T010000
END:STANDARD
END:VTIMEZONE
BEGIN:VTIMEZONE
TZID:Europe/Paris
BEGIN:DAYLIGHT
TZOFFSETFROM:+0100
TZOFFSETTO:+0200
TZNAME:CEST
DTSTART:20190331T010000
END:DAYLIGHT
BEGIN:STANDARD
TZOFFSETFROM:+0200
TZOFFSETTO:+0100
TZNAME:CET
DTSTART:20191027T010000
END:STANDARD
BEGIN:DAYLIGHT
TZOFFSETFROM:+0100
TZOFFSETTO:+0200
TZNAME:CEST
DTSTART:20200329T010000
END:DAYLIGHT
BEGIN:STANDARD
TZOFFSETFROM:+0200
TZOFFSETTO:+0100
TZNAME:CET
DTSTART:20201025T010000
END:STANDARD
BEGIN:DAYLIGHT
TZOFFSETFROM:+0100
TZOFFSETTO:+0200
TZNAME:CEST
DTSTART:20210328T010000
END:DAYLIGHT
BEGIN:STANDARD
TZOFFSETFROM:+0200
TZOFFSETTO:+0100
TZNAME:CET
DTSTART:20211031T010000
END:STANDARD
END:VTIMEZONE
BEGIN:VEVENT
DTSTART;VALUE=DATE:20201228
DTEND;VALUE=DATE:20210102
DTSTAMP:20260423T125306
CREATED:20191224T130219Z
LAST-MODIFIED:20210102T005437Z
UID:78013-1609113600-1609545599@cevibasel.ch
SUMMARY:Praisecamp 2020
DESCRIPTION:
URL:https://cevibasel.ch/veranstaltung/praisecamp-2020/
END:VEVENT
BEGIN:VEVENT
DTSTART;VALUE=DATE:20201205
DTEND;VALUE=DATE:20201206
DTSTAMP:20260423T125306
CREATED:20191223T124710Z
LAST-MODIFIED:20201206T005406Z
UID:77895-1607126400-1607212799@cevibasel.ch
SUMMARY:Hattrick Cup
DESCRIPTION:
URL:https://cevibasel.ch/veranstaltung/hattrick-cup-2/
END:VEVENT
BEGIN:VEVENT
DTSTART;VALUE=DATE:20201203
DTEND;VALUE=DATE:20201204
DTSTAMP:20260423T125306
CREATED:20191224T125914Z
LAST-MODIFIED:20201113T114732Z
UID:77982-1606953600-1607039999@cevibasel.ch
SUMMARY:Winternachtsfest
DESCRIPTION:  \nWird geladen…
URL:https://cevibasel.ch/veranstaltung/winternachtsfest-3/
END:VEVENT
BEGIN:VEVENT
DTSTART;VALUE=DATE:20201203
DTEND;VALUE=DATE:20201204
DTSTAMP:20260423T125306
CREATED:20191223T124709Z
LAST-MODIFIED:20201126T142014Z
UID:77894-1606953600-1607039999@cevibasel.ch
SUMMARY:Riesenrad-Aktion
DESCRIPTION:
URL:https://cevibasel.ch/veranstaltung/winternachtsfest-2/
END:VEVENT
BEGIN:VEVENT
DTSTART;VALUE=DATE:20201129
DTEND;VALUE=DATE:20201130
DTSTAMP:20260423T125306
CREATED:20191223T124709Z
LAST-MODIFIED:20201130T005856Z
UID:77893-1606608000-1606694399@cevibasel.ch
SUMMARY:TenSing Show
DESCRIPTION:
URL:https://cevibasel.ch/veranstaltung/tensing-show-2/
END:VEVENT
BEGIN:VEVENT
DTSTART;VALUE=DATE:20201128
DTEND;VALUE=DATE:20201129
DTSTAMP:20260423T125306
CREATED:20191223T124709Z
LAST-MODIFIED:20201129T005153Z
UID:77892-1606521600-1606607999@cevibasel.ch
SUMMARY:TenSing Show
DESCRIPTION:
URL:https://cevibasel.ch/veranstaltung/tensing-show/
END:VEVENT
BEGIN:VEVENT
DTSTART;VALUE=DATE:20201128
DTEND;VALUE=DATE:20201129
DTSTAMP:20260423T125306
CREATED:20191223T124709Z
LAST-MODIFIED:20201129T005153Z
UID:77891-1606521600-1606607999@cevibasel.ch
SUMMARY:Worship Cafe
DESCRIPTION:
URL:https://cevibasel.ch/veranstaltung/worship-cafe-5/
END:VEVENT
BEGIN:VEVENT
DTSTART;VALUE=DATE:20201121
DTEND;VALUE=DATE:20201122
DTSTAMP:20260423T125306
CREATED:20191223T124709Z
LAST-MODIFIED:20201122T000521Z
UID:77890-1605916800-1606003199@cevibasel.ch
SUMMARY:TenSing Auswärtsshow
DESCRIPTION:
URL:https://cevibasel.ch/veranstaltung/tensing-auswaertsshow/
END:VEVENT
BEGIN:VEVENT
DTSTART;VALUE=DATE:20201107
DTEND;VALUE=DATE:20201108
DTSTAMP:20260423T125306
CREATED:20191223T124708Z
LAST-MODIFIED:20201108T002055Z
UID:77889-1604707200-1604793599@cevibasel.ch
SUMMARY:Hattrickday
DESCRIPTION:
URL:https://cevibasel.ch/veranstaltung/hattrickday-4/
END:VEVENT
BEGIN:VEVENT
DTSTART;VALUE=DATE:20201106
DTEND;VALUE=DATE:20201109
DTSTAMP:20260423T125306
CREATED:20191224T130218Z
LAST-MODIFIED:20201109T002011Z
UID:78011-1604620800-1604879999@cevibasel.ch
SUMMARY:Treffpunkt CEVI CH
DESCRIPTION:
URL:https://cevibasel.ch/veranstaltung/treffpunkt-cevi-ch-2/
END:VEVENT
BEGIN:VEVENT
DTSTART;TZID=Europe/Zurich:20201029T193000
DTEND;TZID=Europe/Zurich:20201029T200000
DTSTAMP:20260423T125306
CREATED:20200814T082514Z
LAST-MODIFIED:20201029T195135Z
UID:82983-1603999800-1604001600@cevibasel.ch
SUMMARY:AL - Treffen
DESCRIPTION:
URL:https://cevibasel.ch/veranstaltung/al-treffen/
END:VEVENT
BEGIN:VEVENT
DTSTART;VALUE=DATE:20201024
DTEND;VALUE=DATE:20201025
DTSTAMP:20260423T125306
CREATED:20201019T185454Z
LAST-MODIFIED:20201024T235303Z
UID:84280-1603497600-1603583999@cevibasel.ch
SUMMARY:Kinderartikelbörse
DESCRIPTION:
URL:https://cevibasel.ch/veranstaltung/kinderartikelboerse/
END:VEVENT
BEGIN:VEVENT
DTSTART;VALUE=DATE:20201016
DTEND;VALUE=DATE:20201017
DTSTAMP:20260423T125306
CREATED:20200910T184109Z
LAST-MODIFIED:20201016T235215Z
UID:83666-1602806400-1602892799@cevibasel.ch
SUMMARY:HLK-Nachtreffen
DESCRIPTION:
URL:https://cevibasel.ch/veranstaltung/hlk-nachtreffen/
END:VEVENT
BEGIN:VEVENT
DTSTART;VALUE=DATE:20201004
DTEND;VALUE=DATE:20201010
DTSTAMP:20260423T125306
CREATED:20191224T130218Z
LAST-MODIFIED:20201009T235207Z
UID:78010-1601769600-1602287999@cevibasel.ch
SUMMARY:Konfestival-Lager-B
DESCRIPTION:
URL:https://cevibasel.ch/veranstaltung/konfestival-lager-b/
END:VEVENT
BEGIN:VEVENT
DTSTART;VALUE=DATE:20200928
DTEND;VALUE=DATE:20201004
DTSTAMP:20260423T125306
CREATED:20191224T130218Z
LAST-MODIFIED:20201003T234812Z
UID:78009-1601251200-1601769599@cevibasel.ch
SUMMARY:Konfestival-Lager-A
DESCRIPTION:
URL:https://cevibasel.ch/veranstaltung/konfestival-lager-a/
END:VEVENT
BEGIN:VEVENT
DTSTART;VALUE=DATE:20200926
DTEND;VALUE=DATE:20201005
DTSTAMP:20260423T125306
CREATED:20191224T130218Z
LAST-MODIFIED:20201004T230602Z
UID:78007-1601078400-1601855999@cevibasel.ch
SUMMARY:Helferkurs
DESCRIPTION:
URL:https://cevibasel.ch/veranstaltung/helferkurs/
END:VEVENT
BEGIN:VEVENT
DTSTART;VALUE=DATE:20200926
DTEND;VALUE=DATE:20201005
DTSTAMP:20260423T125306
CREATED:20191224T130218Z
LAST-MODIFIED:20201004T230602Z
UID:78008-1601078400-1601855999@cevibasel.ch
SUMMARY:Helferinnenkurs
DESCRIPTION:
URL:https://cevibasel.ch/veranstaltung/helferinnenkurs/
END:VEVENT
BEGIN:VEVENT
DTSTART;VALUE=DATE:20200926
DTEND;VALUE=DATE:20201005
DTSTAMP:20260423T125306
CREATED:20190815T101810Z
LAST-MODIFIED:20200528T085058Z
UID:75915-1601078400-1601855999@cevibasel.ch
SUMMARY:HLK-F/M
DESCRIPTION:
URL:https://cevibasel.ch/veranstaltung/hlk-f-m/
END:VEVENT
BEGIN:VEVENT
DTSTART;TZID=Europe/Zurich:20200919T190000
DTEND;TZID=Europe/Zurich:20200919T214500
DTSTAMP:20260423T125306
CREATED:20191224T130217Z
LAST-MODIFIED:20200919T193119Z
UID:78006-1600542000-1600551900@cevibasel.ch
SUMMARY:Worship Cafe
DESCRIPTION:
URL:https://cevibasel.ch/veranstaltung/worship-cafe-4/
LOCATION:Kornfeldkirche Riehen
END:VEVENT
BEGIN:VEVENT
DTSTART;VALUE=DATE:20200918
DTEND;VALUE=DATE:20200921
DTSTAMP:20260423T125306
CREATED:20191224T130217Z
LAST-MODIFIED:20200903T212531Z
UID:78005-1600387200-1600646399@cevibasel.ch
SUMMARY:Stuttgart Buabencup
DESCRIPTION:
URL:https://cevibasel.ch/veranstaltung/stuttgart-buabencup/
END:VEVENT
BEGIN:VEVENT
DTSTART;VALUE=DATE:20200912
DTEND;VALUE=DATE:20200914
DTSTAMP:20260423T125306
CREATED:20191224T130217Z
LAST-MODIFIED:20200913T235653Z
UID:78004-1599868800-1600041599@cevibasel.ch
SUMMARY:Gellertcup
DESCRIPTION:
URL:https://cevibasel.ch/veranstaltung/gellertcup/
END:VEVENT
BEGIN:VEVENT
DTSTART;VALUE=DATE:20200912
DTEND;VALUE=DATE:20200913
DTSTAMP:20260423T125306
CREATED:20191224T130217Z
LAST-MODIFIED:20200912T235231Z
UID:78003-1599868800-1599955199@cevibasel.ch
SUMMARY:Hattrickday
DESCRIPTION:
URL:https://cevibasel.ch/veranstaltung/hattrickday-3/
END:VEVENT
BEGIN:VEVENT
DTSTART;VALUE=DATE:20200906
DTEND;VALUE=DATE:20200907
DTSTAMP:20260423T125306
CREATED:20200820T182646Z
LAST-MODIFIED:20200906T235651Z
UID:83127-1599350400-1599436799@cevibasel.ch
SUMMARY:VP
DESCRIPTION:
URL:https://cevibasel.ch/veranstaltung/vp/
END:VEVENT
BEGIN:VEVENT
DTSTART;TZID=Europe/Zurich:20200824T180000
DTEND;TZID=Europe/Zurich:20200824T233000
DTSTAMP:20260423T125306
CREATED:20200616T160624Z
LAST-MODIFIED:20200824T085327Z
UID:81728-1598292000-1598311800@cevibasel.ch
SUMMARY:Jubiläumsfest zu 20 Jahren Ten Sing Basel
DESCRIPTION:HerzlicheEinladung  zumJubiläumsfest zu 20 Jahren Ten Sing Basel a m Mittwoch\, 24. Juni2020 ab 18.00 Uhr in der Orangerie in den Meriangärten  \nDas Fest soll ehemalige und aktuelle Ten Singer*innenvereinen und den langjährigen Bestand dieser erfolgreichen Jugendarbeit feiern.Ten Sing Basel ist so viel mehr als die Show\, die wir am Ende des Jahrespräsentieren. Dahinter stehen nicht nur die Teilnehmenden und das Leitungsteam\,sondern auch eine umfassende Unterstützung des Cevi Basel\, unsererPassivmitglieder\, vieler kleinen und grossen Helfern\, Unterstützern\, Freundenund Familie\, zahlreichen Personen und Gruppen die uns im Gebet Rückendeckung gebenund in Gedanken begleiten. Dafür möchten wir uns von ganzem Herzen bedanken!  \nAm Fest wird es ein süsses Buffet von Leslie’sCupcakes geben sowie eine Sirup-Bar und lokales Bier. Zwei Baristi verwöhnen unsmit frisch gebrühtem Kaffee und die Vito Pizza Bros. schauen mit ihrem Pizza Bike vorbei. Zudem steht Gaspard von Druckbus mit seiner mobilen Siebdruckstation bereit (#supportyourlocals). Ein vomDesign-Workshop entwickeltes Motiv kann somit auf alle – vorzugsweise hellen –Textilien gedruckt werden. Taschen liegen bereit\, alles andere darf man selbstmitbringen und bedrucken. Weitere Aktionen und Programmpunkte tragen dazu bei\,die Entstehung und Entwicklung des Ten Sing Basel in lebhafter Erinnerung zubehalten.  \nWir freuen uns auf ein buntes und liebevollesFest! 
URL:https://cevibasel.ch/veranstaltung/jubilaeumsfest-zu-20-jahren-ten-sing-basel/
LOCATION:Orangerie in den Meriangärten
END:VEVENT
BEGIN:VEVENT
DTSTART;TZID=Europe/Paris:20200818T183000
DTEND;TZID=Europe/Paris:20200818T223000
DTSTAMP:20260423T125306
CREATED:20190726T125020Z
LAST-MODIFIED:20200703T100650Z
UID:75475-1597775400-1597789800@cevibasel.ch
SUMMARY:Sommernachtsfest
DESCRIPTION:MIT DIESEM FEST BEDANKEN WIR UNS BEI DIR FÜR DEIN ENGAGEMENT IM CEVI REGION BASEL. \nWir freuen uns auf einen gemütlichen Abend mit feinem Essen\, Musik\, Unterhaltung und tollen Begegnungen. \nEingeladen sind alle YMCA Members und sonstige Mitarbeitende des Cevi Region Basel ab 17 Jahren. \nWir treffen uns am Dienstag\, 18. August 2020 um 18:30 Uhr beim Spittelmatthof in Riehen (Tramhaltestelle «Eglisee»). \n  \nAnmeldung bis Montag\, 10. August 2020 an nicole.leuenberger@cevibasel.ch oder mit unterstehendem Formular. Dieses Mal muss jede Person einzeln angemeldet werden\, um so die Vorgaben des Contact Tracing zu erfüllen. \n\nDas Sommernachtsfest findet bei jedem Wetter statt.\nWer mit dem Auto kommt\, soll das Auto bitte beim Eglisee abstellen. Beim Hof darf nicht parkiert werden.\n\n  \nWird geladen…
URL:https://cevibasel.ch/veranstaltung/sommernachtsfest/
LOCATION:Spittelmatthof\, Spittelmattweg 31\, Riehen\, 4125\, Switzerland
END:VEVENT
BEGIN:VEVENT
DTSTART;VALUE=DATE:20200818
DTEND;VALUE=DATE:20200819
DTSTAMP:20260423T125306
CREATED:20191224T130216Z
LAST-MODIFIED:20200818T235113Z
UID:78000-1597708800-1597795199@cevibasel.ch
SUMMARY:Sommernachtsfest
DESCRIPTION:
URL:https://cevibasel.ch/veranstaltung/sommernachtsfest-2/
END:VEVENT
BEGIN:VEVENT
DTSTART;VALUE=DATE:20200718
DTEND;VALUE=DATE:20200726
DTSTAMP:20260423T125306
CREATED:20200616T120708Z
LAST-MODIFIED:20200725T235218Z
UID:81694-1595030400-1595721599@cevibasel.ch
SUMMARY:Familienlager 2
DESCRIPTION:
URL:https://cevibasel.ch/veranstaltung/familienlager-2/
END:VEVENT
BEGIN:VEVENT
DTSTART;VALUE=DATE:20200711
DTEND;VALUE=DATE:20200719
DTSTAMP:20260423T125306
CREATED:20200616T120708Z
LAST-MODIFIED:20200718T235229Z
UID:81695-1594425600-1595116799@cevibasel.ch
SUMMARY:Familienlager 1
DESCRIPTION:
URL:https://cevibasel.ch/veranstaltung/familienlager-1/
END:VEVENT
BEGIN:VEVENT
DTSTART;VALUE=DATE:20200629
DTEND;VALUE=DATE:20200704
DTSTAMP:20260423T125306
CREATED:20191224T130216Z
LAST-MODIFIED:20200703T234006Z
UID:77998-1593388800-1593820799@cevibasel.ch
SUMMARY:Hattrick-Tageslager
DESCRIPTION:
URL:https://cevibasel.ch/veranstaltung/hattrick-tageslager-2/
END:VEVENT
BEGIN:VEVENT
DTSTART;TZID=Europe/Zurich:20200624T180000
DTEND;TZID=Europe/Zurich:20200624T220000
DTSTAMP:20260423T125306
CREATED:20200616T190519Z
LAST-MODIFIED:20200624T195344Z
UID:81737-1593021600-1593036000@cevibasel.ch
SUMMARY:Jubiläumsfest 20 Jahre Ten Sing Basel
DESCRIPTION:Das Fest soll ehemalige und aktuelle Ten Singer*innenvereinen und den langjährigen Bestand dieser erfolgreichen Jugendarbeit feiern.Ten Sing Basel ist so viel mehr als die Show\, die wir am Ende des Jahrespräsentieren. Dahinter stehen nicht nur die Teilnehmenden und das Leitungsteam\,sondern auch eine umfassende Unterstützung des Cevi Basel\, unsererPassivmitglieder\, vieler kleinen und grossen Helfern\, Unterstützern\, Freundenund Familie\, zahlreichen Personen und Gruppen die uns im Gebet Rückendeckunggeben und in Gedanken begleiten. Dafür möchten wir uns von ganzem Herzenbedanken!  \nAm Fest wird es ein süsses Buffet von Leslie’sCupcakes geben sowie eine Sirup-Bar und lokales Bier. Zwei Baristi verwöhnen unsmit frisch gebrühtem Kaffee und die Vito Pizza Bros. schauen mit ihrem Pizza Bike vorbei. Zudem steht Gaspard von Druckbus mit seiner mobilen Siebdruckstation bereit (#supportyourlocals). Ein vomDesign-Workshop entwickeltes Motiv kann somit auf alle – vorzugsweise hellen –Textilien gedruckt werden. Taschen liegen bereit\, alles andere darf man selbstmitbringen und bedrucken. Weitere Aktionen und Programmpunkte tragen dazu bei\,die Entstehung und Entwicklung des Ten Sing Basel in lebhafter Erinnerung zubehalten.  \nWir freuen uns auf ein buntes und liebevollesFest! 
URL:https://cevibasel.ch/veranstaltung/jubilaeumsfest-20-jahre-ten-sing-basel/
LOCATION:Orangerie in den Meriangärten
END:VEVENT
END:VCALENDAR