BEGIN:VCALENDAR
VERSION:2.0
PRODID:-//Cevi Region Basel - ECPv6.15.20//NONSGML v1.0//EN
CALSCALE:GREGORIAN
METHOD:PUBLISH
X-WR-CALNAME:Cevi Region Basel
X-ORIGINAL-URL:https://cevibasel.ch
X-WR-CALDESC:Events for Cevi Region Basel
REFRESH-INTERVAL;VALUE=DURATION:PT1H
X-Robots-Tag:noindex
X-PUBLISHED-TTL:PT1H
BEGIN:VTIMEZONE
TZID:Europe/Zurich
BEGIN:DAYLIGHT
TZOFFSETFROM:+0100
TZOFFSETTO:+0200
TZNAME:CEST
DTSTART:20190331T010000
END:DAYLIGHT
BEGIN:STANDARD
TZOFFSETFROM:+0200
TZOFFSETTO:+0100
TZNAME:CET
DTSTART:20191027T010000
END:STANDARD
BEGIN:DAYLIGHT
TZOFFSETFROM:+0100
TZOFFSETTO:+0200
TZNAME:CEST
DTSTART:20200329T010000
END:DAYLIGHT
BEGIN:STANDARD
TZOFFSETFROM:+0200
TZOFFSETTO:+0100
TZNAME:CET
DTSTART:20201025T010000
END:STANDARD
BEGIN:DAYLIGHT
TZOFFSETFROM:+0100
TZOFFSETTO:+0200
TZNAME:CEST
DTSTART:20210328T010000
END:DAYLIGHT
BEGIN:STANDARD
TZOFFSETFROM:+0200
TZOFFSETTO:+0100
TZNAME:CET
DTSTART:20211031T010000
END:STANDARD
BEGIN:DAYLIGHT
TZOFFSETFROM:+0100
TZOFFSETTO:+0200
TZNAME:CEST
DTSTART:20220327T010000
END:DAYLIGHT
BEGIN:STANDARD
TZOFFSETFROM:+0200
TZOFFSETTO:+0100
TZNAME:CET
DTSTART:20221030T010000
END:STANDARD
BEGIN:DAYLIGHT
TZOFFSETFROM:+0100
TZOFFSETTO:+0200
TZNAME:CEST
DTSTART:20230326T010000
END:DAYLIGHT
BEGIN:STANDARD
TZOFFSETFROM:+0200
TZOFFSETTO:+0100
TZNAME:CET
DTSTART:20231029T010000
END:STANDARD
BEGIN:DAYLIGHT
TZOFFSETFROM:+0100
TZOFFSETTO:+0200
TZNAME:CEST
DTSTART:20240331T010000
END:DAYLIGHT
BEGIN:STANDARD
TZOFFSETFROM:+0200
TZOFFSETTO:+0100
TZNAME:CET
DTSTART:20241027T010000
END:STANDARD
END:VTIMEZONE
BEGIN:VTIMEZONE
TZID:Europe/Helsinki
BEGIN:DAYLIGHT
TZOFFSETFROM:+0200
TZOFFSETTO:+0300
TZNAME:EEST
DTSTART:20200329T010000
END:DAYLIGHT
BEGIN:STANDARD
TZOFFSETFROM:+0300
TZOFFSETTO:+0200
TZNAME:EET
DTSTART:20201025T010000
END:STANDARD
BEGIN:DAYLIGHT
TZOFFSETFROM:+0200
TZOFFSETTO:+0300
TZNAME:EEST
DTSTART:20210328T010000
END:DAYLIGHT
BEGIN:STANDARD
TZOFFSETFROM:+0300
TZOFFSETTO:+0200
TZNAME:EET
DTSTART:20211031T010000
END:STANDARD
BEGIN:DAYLIGHT
TZOFFSETFROM:+0200
TZOFFSETTO:+0300
TZNAME:EEST
DTSTART:20220327T010000
END:DAYLIGHT
BEGIN:STANDARD
TZOFFSETFROM:+0300
TZOFFSETTO:+0200
TZNAME:EET
DTSTART:20221030T010000
END:STANDARD
END:VTIMEZONE
BEGIN:VEVENT
DTSTART;VALUE=DATE:20210528
DTEND;VALUE=DATE:20210601
DTSTAMP:20260423T000145
CREATED:20200903T100634Z
LAST-MODIFIED:20210531T232017Z
UID:83477-1622160000-1622505599@cevibasel.ch
SUMMARY:Big Church Day Out - Festival in GB
DESCRIPTION:
URL:https://cevibasel.ch/veranstaltung/big-church-day-out-festival-in-gb/
END:VEVENT
BEGIN:VEVENT
DTSTART;VALUE=DATE:20210528
DTEND;VALUE=DATE:20210529
DTSTAMP:20260423T000145
CREATED:20200903T100634Z
LAST-MODIFIED:20210528T233638Z
UID:83476-1622160000-1622246399@cevibasel.ch
SUMMARY:SOS-Jugendgottesdienst
DESCRIPTION:
URL:https://cevibasel.ch/veranstaltung/sos-jugendgottesdienst-12/
END:VEVENT
BEGIN:VEVENT
DTSTART;VALUE=DATE:20210507
DTEND;VALUE=DATE:20210510
DTSTAMP:20260423T000145
CREATED:20200916T124820Z
LAST-MODIFIED:20210509T234457Z
UID:83743-1620345600-1620604799@cevibasel.ch
SUMMARY:Hattrick Leadership
DESCRIPTION:
URL:https://cevibasel.ch/veranstaltung/hattrick-leadership-2/
END:VEVENT
BEGIN:VEVENT
DTSTART;VALUE=DATE:20210507
DTEND;VALUE=DATE:20210509
DTSTAMP:20260423T000145
CREATED:20210420T075501Z
LAST-MODIFIED:20210508T233815Z
UID:88118-1620345600-1620518399@cevibasel.ch
SUMMARY:Kinderartikelbörse(GEC)
DESCRIPTION:
URL:https://cevibasel.ch/veranstaltung/kinderartikelboersegec/
END:VEVENT
BEGIN:VEVENT
DTSTART;VALUE=DATE:20210504
DTEND;VALUE=DATE:20210506
DTSTAMP:20260423T000145
CREATED:20200609T131724Z
LAST-MODIFIED:20210423T112149Z
UID:81500-1620086400-1620259199@cevibasel.ch
SUMMARY:NAK
DESCRIPTION:
URL:https://cevibasel.ch/veranstaltung/nak/
END:VEVENT
BEGIN:VEVENT
DTSTART;VALUE=DATE:20210429
DTEND;VALUE=DATE:20210430
DTSTAMP:20260423T000145
CREATED:20200903T090750Z
LAST-MODIFIED:20210429T235933Z
UID:83457-1619654400-1619740799@cevibasel.ch
SUMMARY:Abteilungsleitertreffen
DESCRIPTION:
URL:https://cevibasel.ch/veranstaltung/abteilungsleitertreffen/
END:VEVENT
BEGIN:VEVENT
DTSTART;VALUE=DATE:20230507
DTEND;VALUE=DATE:20230508
DTSTAMP:20260423T000145
CREATED:20200925T140203Z
LAST-MODIFIED:20230215T093249Z
UID:83852-1683417600-1683503999@cevibasel.ch
SUMMARY:MF
DESCRIPTION:Wird geladen…
URL:https://cevibasel.ch/veranstaltung/mf/
END:VEVENT
BEGIN:VEVENT
DTSTART;VALUE=DATE:20210423
DTEND;VALUE=DATE:20210424
DTSTAMP:20260423T000145
CREATED:20200903T100630Z
LAST-MODIFIED:20210423T235635Z
UID:83474-1619136000-1619222399@cevibasel.ch
SUMMARY:SOS-Jugendgottesdienst
DESCRIPTION:
URL:https://cevibasel.ch/veranstaltung/sos-jugendgottesdienst-11/
END:VEVENT
BEGIN:VEVENT
DTSTART;VALUE=DATE:20210417
DTEND;VALUE=DATE:20210418
DTSTAMP:20260423T000145
CREATED:20200916T124819Z
LAST-MODIFIED:20210417T235541Z
UID:83742-1618617600-1618703999@cevibasel.ch
SUMMARY:Hattrick Day
DESCRIPTION:
URL:https://cevibasel.ch/veranstaltung/hattrick-day-2/
END:VEVENT
BEGIN:VEVENT
DTSTART;VALUE=DATE:20210402
DTEND;VALUE=DATE:20210409
DTSTAMP:20260423T000145
CREATED:20200903T080909Z
LAST-MODIFIED:20210408T232310Z
UID:83442-1617321600-1617926399@cevibasel.ch
SUMMARY:J&S-Lagerleiterkurs
DESCRIPTION:
URL:https://cevibasel.ch/veranstaltung/js-lagerleiterkurs/
END:VEVENT
BEGIN:VEVENT
DTSTART;VALUE=DATE:20210401
DTEND;VALUE=DATE:20210411
DTSTAMP:20260423T000145
CREATED:20200903T080909Z
LAST-MODIFIED:20210410T235400Z
UID:83441-1617235200-1618099199@cevibasel.ch
SUMMARY:Gruppenleiterkurs
DESCRIPTION:
URL:https://cevibasel.ch/veranstaltung/gruppenleiterkurs-2/
END:VEVENT
BEGIN:VEVENT
DTSTART;VALUE=DATE:20210320
DTEND;VALUE=DATE:20210321
DTSTAMP:20260423T000145
CREATED:20200907T150940Z
LAST-MODIFIED:20210321T005647Z
UID:83584-1616198400-1616284799@cevibasel.ch
SUMMARY:WorshipCafe
DESCRIPTION:
URL:https://cevibasel.ch/veranstaltung/worshipcafe-2/
END:VEVENT
BEGIN:VEVENT
DTSTART;TZID=Europe/Helsinki:20210319T190000
DTEND;TZID=Europe/Helsinki:20210319T210000
DTSTAMP:20260423T000145
CREATED:20210218T102436Z
LAST-MODIFIED:20210222T090949Z
UID:86887-1616180400-1616187600@cevibasel.ch
SUMMARY:DV Cevi Regionalverband Basel 2021
DESCRIPTION:  \n  \nWird geladen…
URL:https://cevibasel.ch/veranstaltung/dv-cevi-regionalverband-basel-2021/
LOCATION:Zoom – digital
END:VEVENT
BEGIN:VEVENT
DTSTART;VALUE=DATE:20210319
DTEND;VALUE=DATE:20210320
DTSTAMP:20260423T000145
CREATED:20200903T100630Z
LAST-MODIFIED:20210320T005717Z
UID:83473-1616112000-1616198399@cevibasel.ch
SUMMARY:SOS-Jugendgottesdienst
DESCRIPTION:
URL:https://cevibasel.ch/veranstaltung/sos-jugendgottesdienst-10/
END:VEVENT
BEGIN:VEVENT
DTSTART;VALUE=DATE:20210306
DTEND;VALUE=DATE:20210307
DTSTAMP:20260423T000145
CREATED:20200916T124818Z
LAST-MODIFIED:20210307T005144Z
UID:83741-1614988800-1615075199@cevibasel.ch
SUMMARY:Season Opening Cup 21
DESCRIPTION:
URL:https://cevibasel.ch/veranstaltung/season-opening-cup-21/
END:VEVENT
BEGIN:VEVENT
DTSTART;VALUE=DATE:20210221
DTEND;VALUE=DATE:20210222
DTSTAMP:20260423T000145
CREATED:20200903T080909Z
LAST-MODIFIED:20210222T005139Z
UID:83440-1613865600-1613951999@cevibasel.ch
SUMMARY:Frösch-up
DESCRIPTION:
URL:https://cevibasel.ch/veranstaltung/froesch-up/
END:VEVENT
BEGIN:VEVENT
DTSTART;VALUE=DATE:20210220
DTEND;VALUE=DATE:20210228
DTSTAMP:20260423T000145
CREATED:20200903T090749Z
LAST-MODIFIED:20210228T002139Z
UID:83452-1613779200-1614470399@cevibasel.ch
SUMMARY:Winter-Touren-Lager
DESCRIPTION:
URL:https://cevibasel.ch/veranstaltung/winter-touren-lager/
END:VEVENT
BEGIN:VEVENT
DTSTART;VALUE=DATE:20210213
DTEND;VALUE=DATE:20210221
DTSTAMP:20260423T000145
CREATED:20200903T090749Z
LAST-MODIFIED:20210119T162350Z
UID:83453-1613174400-1613865599@cevibasel.ch
SUMMARY:Regio-Skilager
DESCRIPTION:
URL:https://cevibasel.ch/veranstaltung/regio-skilager/
END:VEVENT
BEGIN:VEVENT
DTSTART;VALUE=DATE:20210213
DTEND;VALUE=DATE:20210221
DTSTAMP:20260423T000145
CREATED:20200903T080909Z
LAST-MODIFIED:20210119T162350Z
UID:83439-1613174400-1613865599@cevibasel.ch
SUMMARY:Snow-Camp-2021
DESCRIPTION:
URL:https://cevibasel.ch/veranstaltung/snow-camp-2021/
END:VEVENT
BEGIN:VEVENT
DTSTART;VALUE=DATE:20210206
DTEND;VALUE=DATE:20210207
DTSTAMP:20260423T000145
CREATED:20200916T124526Z
LAST-MODIFIED:20210207T004249Z
UID:83740-1612569600-1612655999@cevibasel.ch
SUMMARY:Hattrick Day
DESCRIPTION:
URL:https://cevibasel.ch/veranstaltung/hattrick-day/
END:VEVENT
BEGIN:VEVENT
DTSTART;VALUE=DATE:20210206
DTEND;VALUE=DATE:20210207
DTSTAMP:20260423T000145
CREATED:20200903T080841Z
LAST-MODIFIED:20220213T003631Z
UID:83438-1612569600-1612655999@cevibasel.ch
SUMMARY:Ehe-Tag
DESCRIPTION:
URL:https://cevibasel.ch/veranstaltung/ehe-tag/
END:VEVENT
BEGIN:VEVENT
DTSTART;VALUE=DATE:20210205
DTEND;VALUE=DATE:20210206
DTSTAMP:20260423T000145
CREATED:20200903T100613Z
LAST-MODIFIED:20210206T003518Z
UID:83470-1612483200-1612569599@cevibasel.ch
SUMMARY:SOS-Jugendgottesdienst
DESCRIPTION:
URL:https://cevibasel.ch/veranstaltung/sos-jugendgottesdienst-9/
END:VEVENT
BEGIN:VEVENT
DTSTART;VALUE=DATE:20210130
DTEND;VALUE=DATE:20210201
DTSTAMP:20260423T000145
CREATED:20200903T080841Z
LAST-MODIFIED:20210201T003647Z
UID:83437-1611964800-1612137599@cevibasel.ch
SUMMARY:J&S Coachkurs
DESCRIPTION:
URL:https://cevibasel.ch/veranstaltung/js-coachkurs/
END:VEVENT
BEGIN:VEVENT
DTSTART;VALUE=DATE:20210122
DTEND;VALUE=DATE:20210123
DTSTAMP:20260423T000145
CREATED:20200903T100610Z
LAST-MODIFIED:20210123T005404Z
UID:83469-1611273600-1611359999@cevibasel.ch
SUMMARY:SOS-Jugendgottesdienst
DESCRIPTION:
URL:https://cevibasel.ch/veranstaltung/sos-jugendgottesdienst-8/
END:VEVENT
BEGIN:VEVENT
DTSTART;VALUE=DATE:20201228
DTEND;VALUE=DATE:20210102
DTSTAMP:20260423T000145
CREATED:20191224T130219Z
LAST-MODIFIED:20210102T005437Z
UID:78013-1609113600-1609545599@cevibasel.ch
SUMMARY:Praisecamp 2020
DESCRIPTION:
URL:https://cevibasel.ch/veranstaltung/praisecamp-2020/
END:VEVENT
BEGIN:VEVENT
DTSTART;VALUE=DATE:20201205
DTEND;VALUE=DATE:20201206
DTSTAMP:20260423T000145
CREATED:20191223T124710Z
LAST-MODIFIED:20201206T005406Z
UID:77895-1607126400-1607212799@cevibasel.ch
SUMMARY:Hattrick Cup
DESCRIPTION:
URL:https://cevibasel.ch/veranstaltung/hattrick-cup-2/
END:VEVENT
BEGIN:VEVENT
DTSTART;VALUE=DATE:20201203
DTEND;VALUE=DATE:20201204
DTSTAMP:20260423T000145
CREATED:20191224T125914Z
LAST-MODIFIED:20201113T114732Z
UID:77982-1606953600-1607039999@cevibasel.ch
SUMMARY:Winternachtsfest
DESCRIPTION:  \nWird geladen…
URL:https://cevibasel.ch/veranstaltung/winternachtsfest-3/
END:VEVENT
BEGIN:VEVENT
DTSTART;VALUE=DATE:20201203
DTEND;VALUE=DATE:20201204
DTSTAMP:20260423T000145
CREATED:20191223T124709Z
LAST-MODIFIED:20201126T142014Z
UID:77894-1606953600-1607039999@cevibasel.ch
SUMMARY:Riesenrad-Aktion
DESCRIPTION:
URL:https://cevibasel.ch/veranstaltung/winternachtsfest-2/
END:VEVENT
BEGIN:VEVENT
DTSTART;VALUE=DATE:20201129
DTEND;VALUE=DATE:20201130
DTSTAMP:20260423T000145
CREATED:20191223T124709Z
LAST-MODIFIED:20201130T005856Z
UID:77893-1606608000-1606694399@cevibasel.ch
SUMMARY:TenSing Show
DESCRIPTION:
URL:https://cevibasel.ch/veranstaltung/tensing-show-2/
END:VEVENT
BEGIN:VEVENT
DTSTART;VALUE=DATE:20201128
DTEND;VALUE=DATE:20201129
DTSTAMP:20260423T000145
CREATED:20191223T124709Z
LAST-MODIFIED:20201129T005153Z
UID:77892-1606521600-1606607999@cevibasel.ch
SUMMARY:TenSing Show
DESCRIPTION:
URL:https://cevibasel.ch/veranstaltung/tensing-show/
END:VEVENT
END:VCALENDAR