BEGIN:VCALENDAR
VERSION:2.0
PRODID:-//Cevi Region Basel - ECPv6.15.20//NONSGML v1.0//EN
CALSCALE:GREGORIAN
METHOD:PUBLISH
X-WR-CALNAME:Cevi Region Basel
X-ORIGINAL-URL:https://cevibasel.ch
X-WR-CALDESC:Events for Cevi Region Basel
REFRESH-INTERVAL;VALUE=DURATION:PT1H
X-Robots-Tag:noindex
X-PUBLISHED-TTL:PT1H
BEGIN:VTIMEZONE
TZID:Europe/Zurich
BEGIN:DAYLIGHT
TZOFFSETFROM:+0100
TZOFFSETTO:+0200
TZNAME:CEST
DTSTART:20240331T010000
END:DAYLIGHT
BEGIN:STANDARD
TZOFFSETFROM:+0200
TZOFFSETTO:+0100
TZNAME:CET
DTSTART:20241027T010000
END:STANDARD
BEGIN:DAYLIGHT
TZOFFSETFROM:+0100
TZOFFSETTO:+0200
TZNAME:CEST
DTSTART:20250330T010000
END:DAYLIGHT
BEGIN:STANDARD
TZOFFSETFROM:+0200
TZOFFSETTO:+0100
TZNAME:CET
DTSTART:20251026T010000
END:STANDARD
BEGIN:DAYLIGHT
TZOFFSETFROM:+0100
TZOFFSETTO:+0200
TZNAME:CEST
DTSTART:20260329T010000
END:DAYLIGHT
BEGIN:STANDARD
TZOFFSETFROM:+0200
TZOFFSETTO:+0100
TZNAME:CET
DTSTART:20261025T010000
END:STANDARD
END:VTIMEZONE
BEGIN:VEVENT
DTSTART;TZID=Europe/Zurich:20250909T190000
DTEND;TZID=Europe/Zurich:20250909T203000
DTSTAMP:20260426T003445
CREATED:20240625T134658Z
LAST-MODIFIED:20250909T182032Z
UID:121724-1757444400-1757449800@cevibasel.ch
SUMMARY:Hattrick Riehen (6. bis 7. Klasse)
DESCRIPTION:
URL:https://cevibasel.ch/veranstaltung/hattrick-riehen-6-bis-7-klasse-121/
LOCATION:Fussballplatz Andreasmatte
END:VEVENT
BEGIN:VEVENT
DTSTART;TZID=Europe/Zurich:20250909T180000
DTEND;TZID=Europe/Zurich:20250909T193000
DTSTAMP:20260426T003445
CREATED:20240625T134657Z
LAST-MODIFIED:20250909T172010Z
UID:121723-1757440800-1757446200@cevibasel.ch
SUMMARY:Hattrick Gellert (7-12 Jahre)
DESCRIPTION:
URL:https://cevibasel.ch/veranstaltung/hattrick-gellert-7-12-jahre-121/
LOCATION:Fussballplatz Luftmatt
END:VEVENT
BEGIN:VEVENT
DTSTART;TZID=Europe/Zurich:20250909T173000
DTEND;TZID=Europe/Zurich:20250909T190000
DTSTAMP:20260426T003445
CREATED:20240625T134657Z
LAST-MODIFIED:20250909T164948Z
UID:121722-1757439000-1757444400@cevibasel.ch
SUMMARY:Hattrick Riehen (1. bis 3. Klasse)
DESCRIPTION:
URL:https://cevibasel.ch/veranstaltung/hattrick-riehen-1-bis-3-klasse-121/
LOCATION:Fussballplatz Andreasmatte
END:VEVENT
BEGIN:VEVENT
DTSTART;TZID=Europe/Zurich:20250908T203000
DTEND;TZID=Europe/Zurich:20250908T220000
DTSTAMP:20260426T003445
CREATED:20240625T134656Z
LAST-MODIFIED:20250908T195012Z
UID:121720-1757363400-1757368800@cevibasel.ch
SUMMARY:Hattrick Ladies\, 20.30-22.00
DESCRIPTION:
URL:https://cevibasel.ch/veranstaltung/hattrick-ladies-20-30-22-00-156/
LOCATION:Fussballfelder Pfaffenholz
END:VEVENT
BEGIN:VEVENT
DTSTART;TZID=Europe/Zurich:20250908T190000
DTEND;TZID=Europe/Zurich:20250908T203000
DTSTAMP:20260426T003445
CREATED:20240625T134657Z
LAST-MODIFIED:20250908T181952Z
UID:121721-1757358000-1757363400@cevibasel.ch
SUMMARY:Hattrick Men\, 19.00-20.30
DESCRIPTION:
URL:https://cevibasel.ch/veranstaltung/hattrick-men-19-00-20-30-155/
LOCATION:Fussballfelder Pfaffenholz
END:VEVENT
BEGIN:VEVENT
DTSTART;TZID=Europe/Zurich:20250906T140000
DTEND;TZID=Europe/Zurich:20250906T170000
DTSTAMP:20260426T003445
CREATED:20240625T134656Z
LAST-MODIFIED:20241105T110011Z
UID:121718-1757167200-1757178000@cevibasel.ch
SUMMARY:Jungschi Reinach
DESCRIPTION:
URL:https://cevibasel.ch/veranstaltung/jungschi-reinach-120/
END:VEVENT
BEGIN:VEVENT
DTSTART;TZID=Europe/Zurich:20250906T140000
DTEND;TZID=Europe/Zurich:20250906T170000
DTSTAMP:20260426T003445
CREATED:20240625T134656Z
LAST-MODIFIED:20250906T144951Z
UID:121719-1757167200-1757178000@cevibasel.ch
SUMMARY:Jungschi Thomas
DESCRIPTION:
URL:https://cevibasel.ch/veranstaltung/jungschi-thomas-120/
END:VEVENT
BEGIN:VEVENT
DTSTART;TZID=Europe/Zurich:20250906T140000
DTEND;TZID=Europe/Zurich:20250906T170000
DTSTAMP:20260426T003445
CREATED:20240625T134655Z
LAST-MODIFIED:20250906T144949Z
UID:121716-1757167200-1757178000@cevibasel.ch
SUMMARY:Jungschi Ettigen & Therwil
DESCRIPTION:
URL:https://cevibasel.ch/veranstaltung/jungschi-ettigen-therwil-120/
END:VEVENT
BEGIN:VEVENT
DTSTART;TZID=Europe/Zurich:20250906T140000
DTEND;TZID=Europe/Zurich:20250906T170000
DTSTAMP:20260426T003445
CREATED:20240625T134655Z
LAST-MODIFIED:20250906T144951Z
UID:121717-1757167200-1757178000@cevibasel.ch
SUMMARY:Jungschi Gotthelf-Neubad
DESCRIPTION:
URL:https://cevibasel.ch/veranstaltung/jungschi-gotthelf-neubad-120/
END:VEVENT
BEGIN:VEVENT
DTSTART;TZID=Europe/Zurich:20250906T140000
DTEND;TZID=Europe/Zurich:20250906T170000
DTSTAMP:20260426T003445
CREATED:20240625T134651Z
LAST-MODIFIED:20250906T144949Z
UID:121711-1757167200-1757178000@cevibasel.ch
SUMMARY:Jungschi Binningen
DESCRIPTION:
URL:https://cevibasel.ch/veranstaltung/jungschi-binningen-120/
END:VEVENT
BEGIN:VEVENT
DTSTART;TZID=Europe/Zurich:20250906T140000
DTEND;TZID=Europe/Zurich:20250906T170000
DTSTAMP:20260426T003445
CREATED:20240625T134651Z
LAST-MODIFIED:20250906T144949Z
UID:121712-1757167200-1757178000@cevibasel.ch
SUMMARY:Jungschi Bubendorf
DESCRIPTION:
URL:https://cevibasel.ch/veranstaltung/jungschi-bubendorf-120/
END:VEVENT
BEGIN:VEVENT
DTSTART;TZID=Europe/Zurich:20250906T140000
DTEND;TZID=Europe/Zurich:20250906T170000
DTSTAMP:20260426T003445
CREATED:20240625T134651Z
LAST-MODIFIED:20250906T144949Z
UID:121713-1757167200-1757178000@cevibasel.ch
SUMMARY:Jungschi Allschwil
DESCRIPTION:
URL:https://cevibasel.ch/veranstaltung/jungschi-allschwil-120/
END:VEVENT
BEGIN:VEVENT
DTSTART;TZID=Europe/Zurich:20250906T140000
DTEND;TZID=Europe/Zurich:20250906T170000
DTSTAMP:20260426T003445
CREATED:20240625T134651Z
LAST-MODIFIED:20241105T110012Z
UID:121714-1757167200-1757178000@cevibasel.ch
SUMMARY:Jungschi Muttenz
DESCRIPTION:
URL:https://cevibasel.ch/veranstaltung/jungschi-muttenz-120/
END:VEVENT
BEGIN:VEVENT
DTSTART;TZID=Europe/Zurich:20250906T140000
DTEND;TZID=Europe/Zurich:20250906T170000
DTSTAMP:20260426T003445
CREATED:20240625T134650Z
LAST-MODIFIED:20250906T144949Z
UID:121710-1757167200-1757178000@cevibasel.ch
SUMMARY:Jungschi Titus
DESCRIPTION:
URL:https://cevibasel.ch/veranstaltung/jungschi-titus-120/
END:VEVENT
BEGIN:VEVENT
DTSTART;TZID=Europe/Zurich:20250906T133000
DTEND;TZID=Europe/Zurich:20250906T153000
DTSTAMP:20260426T003445
CREATED:20240625T134652Z
LAST-MODIFIED:20250906T131947Z
UID:121715-1757165400-1757172600@cevibasel.ch
SUMMARY:Hattrick Gundeli (6-11 Jahre)
DESCRIPTION:
URL:https://cevibasel.ch/veranstaltung/hattrick-gundeli-6-11-jahre-120/
LOCATION:Margarethenpark
END:VEVENT
BEGIN:VEVENT
DTSTART;VALUE=DATE:20250906
DTEND;VALUE=DATE:20250907
DTSTAMP:20260426T003445
CREATED:20250228T213244Z
LAST-MODIFIED:20250906T235256Z
UID:150983-1757116800-1757203199@cevibasel.ch
SUMMARY:Domino Spnsorenlauf
DESCRIPTION:
URL:https://cevibasel.ch/veranstaltung/domino-2025/
END:VEVENT
BEGIN:VEVENT
DTSTART;TZID=Europe/Zurich:20250905T190000
DTEND;TZID=Europe/Zurich:20250905T203000
DTSTAMP:20260426T003445
CREATED:20240625T134650Z
LAST-MODIFIED:20250905T182410Z
UID:121708-1757098800-1757104200@cevibasel.ch
SUMMARY:Hattrick Basel West (16-18 Jahre)
DESCRIPTION:
URL:https://cevibasel.ch/veranstaltung/hattrick-basel-west-16-18-jahre-120/
LOCATION:Fussballfelder Pfaffenholz
END:VEVENT
BEGIN:VEVENT
DTSTART;TZID=Europe/Zurich:20250905T173000
DTEND;TZID=Europe/Zurich:20250905T190000
DTSTAMP:20260426T003445
CREATED:20240625T134650Z
LAST-MODIFIED:20250905T165155Z
UID:121709-1757093400-1757098800@cevibasel.ch
SUMMARY:Hattrick Basel West (7-15 Jahre)
DESCRIPTION:
URL:https://cevibasel.ch/veranstaltung/hattrick-basel-west-7-15-jahre-120/
END:VEVENT
BEGIN:VEVENT
DTSTART;TZID=Europe/Zurich:20250905T173000
DTEND;TZID=Europe/Zurich:20250905T190000
DTSTAMP:20260426T003445
CREATED:20240625T134650Z
LAST-MODIFIED:20250905T165155Z
UID:121707-1757093400-1757098800@cevibasel.ch
SUMMARY:Hattrick Riehen (4. bis 5. Klasse)
DESCRIPTION:
URL:https://cevibasel.ch/veranstaltung/hattrick-riehen-4-bis-5-klasse-120/
LOCATION:Andreasmatte
END:VEVENT
BEGIN:VEVENT
DTSTART;TZID=Europe/Zurich:20250904T080000
DTEND;TZID=Europe/Zurich:20250904T103000
DTSTAMP:20260426T003445
CREATED:20240625T134649Z
LAST-MODIFIED:20240812T095922Z
UID:121706-1756972800-1756981800@cevibasel.ch
SUMMARY:Mütterngruppe
DESCRIPTION:
URL:https://cevibasel.ch/veranstaltung/muetterngruppe-70/
LOCATION:Cevi Seki
END:VEVENT
BEGIN:VEVENT
DTSTART;TZID=Europe/Zurich:20250903T183000
DTEND;TZID=Europe/Zurich:20250903T210000
DTSTAMP:20260426T003445
CREATED:20240625T134648Z
LAST-MODIFIED:20250903T184953Z
UID:121705-1756924200-1756933200@cevibasel.ch
SUMMARY:Ten Sing
DESCRIPTION:
URL:https://cevibasel.ch/veranstaltung/ten-sing-119/
LOCATION:CVJM Haus Kleinbasel
END:VEVENT
BEGIN:VEVENT
DTSTART;TZID=Europe/Zurich:20250903T083000
DTEND;TZID=Europe/Zurich:20250903T110000
DTSTAMP:20260426T003445
CREATED:20240812T101842Z
LAST-MODIFIED:20250903T084958Z
UID:127584-1756888200-1756897200@cevibasel.ch
SUMMARY:Mütterngruppe
DESCRIPTION:
URL:https://cevibasel.ch/veranstaltung/mutterngruppe-242/
LOCATION:Cevi Seki
END:VEVENT
BEGIN:VEVENT
DTSTART;TZID=Europe/Zurich:20250902T190000
DTEND;TZID=Europe/Zurich:20250902T203000
DTSTAMP:20260426T003445
CREATED:20240625T134648Z
LAST-MODIFIED:20250902T182024Z
UID:121703-1756839600-1756845000@cevibasel.ch
SUMMARY:Hattrick Riehen (6. bis 7. Klasse)
DESCRIPTION:
URL:https://cevibasel.ch/veranstaltung/hattrick-riehen-6-bis-7-klasse-120/
LOCATION:Fussballplatz Andreasmatte
END:VEVENT
BEGIN:VEVENT
DTSTART;TZID=Europe/Zurich:20250902T180000
DTEND;TZID=Europe/Zurich:20250902T193000
DTSTAMP:20260426T003445
CREATED:20240625T134648Z
LAST-MODIFIED:20250902T172024Z
UID:121702-1756836000-1756841400@cevibasel.ch
SUMMARY:Hattrick Gellert (7-12 Jahre)
DESCRIPTION:
URL:https://cevibasel.ch/veranstaltung/hattrick-gellert-7-12-jahre-120/
LOCATION:Fussballplatz Luftmatt
END:VEVENT
BEGIN:VEVENT
DTSTART;TZID=Europe/Zurich:20250902T173000
DTEND;TZID=Europe/Zurich:20250902T190000
DTSTAMP:20260426T003445
CREATED:20240625T134648Z
LAST-MODIFIED:20250902T164956Z
UID:121704-1756834200-1756839600@cevibasel.ch
SUMMARY:Hattrick Riehen (1. bis 3. Klasse)
DESCRIPTION:
URL:https://cevibasel.ch/veranstaltung/hattrick-riehen-1-bis-3-klasse-120/
LOCATION:Fussballplatz Andreasmatte
END:VEVENT
BEGIN:VEVENT
DTSTART;TZID=Europe/Zurich:20250901T203000
DTEND;TZID=Europe/Zurich:20250901T220000
DTSTAMP:20260426T003445
CREATED:20240625T134648Z
LAST-MODIFIED:20250901T195008Z
UID:121701-1756758600-1756764000@cevibasel.ch
SUMMARY:Hattrick Ladies\, 20.30-22.00
DESCRIPTION:
URL:https://cevibasel.ch/veranstaltung/hattrick-ladies-20-30-22-00-155/
LOCATION:Fussballfelder Pfaffenholz
END:VEVENT
BEGIN:VEVENT
DTSTART;TZID=Europe/Zurich:20250901T190000
DTEND;TZID=Europe/Zurich:20250901T203000
DTSTAMP:20260426T003445
CREATED:20240625T134644Z
LAST-MODIFIED:20250901T182103Z
UID:121700-1756753200-1756758600@cevibasel.ch
SUMMARY:Hattrick Men\, 19.00-20.30
DESCRIPTION:
URL:https://cevibasel.ch/veranstaltung/hattrick-men-19-00-20-30-154/
LOCATION:Fussballfelder Pfaffenholz
END:VEVENT
BEGIN:VEVENT
DTSTART;TZID=Europe/Zurich:20250830T140000
DTEND;TZID=Europe/Zurich:20250830T170000
DTSTAMP:20260426T003445
CREATED:20240625T134644Z
LAST-MODIFIED:20250830T144955Z
UID:121699-1756562400-1756573200@cevibasel.ch
SUMMARY:Jungschi Ettigen & Therwil
DESCRIPTION:
URL:https://cevibasel.ch/veranstaltung/jungschi-ettigen-therwil-119/
END:VEVENT
BEGIN:VEVENT
DTSTART;TZID=Europe/Zurich:20250830T140000
DTEND;TZID=Europe/Zurich:20250830T170000
DTSTAMP:20260426T003445
CREATED:20240625T134644Z
LAST-MODIFIED:20250830T145052Z
UID:121697-1756562400-1756573200@cevibasel.ch
SUMMARY:Jungschi Thomas
DESCRIPTION:
URL:https://cevibasel.ch/veranstaltung/jungschi-thomas-119/
END:VEVENT
BEGIN:VEVENT
DTSTART;TZID=Europe/Zurich:20250830T140000
DTEND;TZID=Europe/Zurich:20250830T170000
DTSTAMP:20260426T003445
CREATED:20240625T134644Z
LAST-MODIFIED:20250830T144955Z
UID:121698-1756562400-1756573200@cevibasel.ch
SUMMARY:Jungschi Binningen
DESCRIPTION:
URL:https://cevibasel.ch/veranstaltung/jungschi-binningen-119/
END:VEVENT
END:VCALENDAR