BEGIN:VCALENDAR
VERSION:2.0
PRODID:-//Cevi Region Basel - ECPv6.15.20//NONSGML v1.0//EN
CALSCALE:GREGORIAN
METHOD:PUBLISH
X-WR-CALNAME:Cevi Region Basel
X-ORIGINAL-URL:https://cevibasel.ch
X-WR-CALDESC:Events for Cevi Region Basel
REFRESH-INTERVAL;VALUE=DURATION:PT1H
X-Robots-Tag:noindex
X-PUBLISHED-TTL:PT1H
BEGIN:VTIMEZONE
TZID:Europe/Zurich
BEGIN:DAYLIGHT
TZOFFSETFROM:+0100
TZOFFSETTO:+0200
TZNAME:CEST
DTSTART:20240331T010000
END:DAYLIGHT
BEGIN:STANDARD
TZOFFSETFROM:+0200
TZOFFSETTO:+0100
TZNAME:CET
DTSTART:20241027T010000
END:STANDARD
BEGIN:DAYLIGHT
TZOFFSETFROM:+0100
TZOFFSETTO:+0200
TZNAME:CEST
DTSTART:20250330T010000
END:DAYLIGHT
BEGIN:STANDARD
TZOFFSETFROM:+0200
TZOFFSETTO:+0100
TZNAME:CET
DTSTART:20251026T010000
END:STANDARD
BEGIN:DAYLIGHT
TZOFFSETFROM:+0100
TZOFFSETTO:+0200
TZNAME:CEST
DTSTART:20260329T010000
END:DAYLIGHT
BEGIN:STANDARD
TZOFFSETFROM:+0200
TZOFFSETTO:+0100
TZNAME:CET
DTSTART:20261025T010000
END:STANDARD
BEGIN:DAYLIGHT
TZOFFSETFROM:+0100
TZOFFSETTO:+0200
TZNAME:CEST
DTSTART:20270328T010000
END:DAYLIGHT
BEGIN:STANDARD
TZOFFSETFROM:+0200
TZOFFSETTO:+0100
TZNAME:CET
DTSTART:20271031T010000
END:STANDARD
END:VTIMEZONE
BEGIN:VEVENT
DTSTART;TZID=Europe/Zurich:20260102T190000
DTEND;TZID=Europe/Zurich:20260102T203000
DTSTAMP:20260423T191139
CREATED:20240625T140245Z
LAST-MODIFIED:20260102T192013Z
UID:122863-1767380400-1767385800@cevibasel.ch
SUMMARY:Hattrick Basel West (16-18 Jahre)
DESCRIPTION:
URL:https://cevibasel.ch/veranstaltung/hattrick-basel-west-16-18-jahre-137/
LOCATION:Fussballfelder Pfaffenholz
END:VEVENT
BEGIN:VEVENT
DTSTART;TZID=Europe/Zurich:20260102T173000
DTEND;TZID=Europe/Zurich:20260102T190000
DTSTAMP:20260423T191139
CREATED:20240625T140245Z
LAST-MODIFIED:20260102T175016Z
UID:122864-1767375000-1767380400@cevibasel.ch
SUMMARY:Hattrick Basel West (7-15 Jahre)
DESCRIPTION:
URL:https://cevibasel.ch/veranstaltung/hattrick-basel-west-7-15-jahre-137/
END:VEVENT
BEGIN:VEVENT
DTSTART;TZID=Europe/Zurich:20260102T173000
DTEND;TZID=Europe/Zurich:20260102T190000
DTSTAMP:20260423T191139
CREATED:20240625T140245Z
LAST-MODIFIED:20260102T175016Z
UID:122862-1767375000-1767380400@cevibasel.ch
SUMMARY:Hattrick Riehen (4. bis 5. Klasse)
DESCRIPTION:
URL:https://cevibasel.ch/veranstaltung/hattrick-riehen-4-bis-5-klasse-137/
LOCATION:Andreasmatte
END:VEVENT
BEGIN:VEVENT
DTSTART;TZID=Europe/Zurich:20260101T083000
DTEND;TZID=Europe/Zurich:20260101T113000
DTSTAMP:20260423T191139
CREATED:20240812T103442Z
LAST-MODIFIED:20250702T200148Z
UID:127932-1767256200-1767267000@cevibasel.ch
SUMMARY:Mütterngruppe
DESCRIPTION:
URL:https://cevibasel.ch/veranstaltung/mutterngruppe-331/
LOCATION:Cevi Seki
END:VEVENT
BEGIN:VEVENT
DTSTART;TZID=Europe/Zurich:20260101T083000
DTEND;TZID=Europe/Zurich:20260101T113000
DTSTAMP:20260423T191139
CREATED:20240812T103438Z
LAST-MODIFIED:20241224T064136Z
UID:127928-1767256200-1767267000@cevibasel.ch
SUMMARY:Mütterngruppe
DESCRIPTION:
URL:https://cevibasel.ch/veranstaltung/mutterngruppe-327/
LOCATION:Cevi Seki
END:VEVENT
BEGIN:VEVENT
DTSTART;TZID=Europe/Zurich:20260101T083000
DTEND;TZID=Europe/Zurich:20260101T113000
DTSTAMP:20260423T191139
CREATED:20240812T103438Z
LAST-MODIFIED:20241231T233441Z
UID:127929-1767256200-1767267000@cevibasel.ch
SUMMARY:Mütterngruppe
DESCRIPTION:
URL:https://cevibasel.ch/veranstaltung/mutterngruppe-328/
LOCATION:Cevi Seki
END:VEVENT
BEGIN:VEVENT
DTSTART;TZID=Europe/Zurich:20260101T083000
DTEND;TZID=Europe/Zurich:20260101T113000
DTSTAMP:20260423T191139
CREATED:20240812T103438Z
LAST-MODIFIED:20241224T064134Z
UID:127930-1767256200-1767267000@cevibasel.ch
SUMMARY:Mütterngruppe
DESCRIPTION:
URL:https://cevibasel.ch/veranstaltung/mutterngruppe-329/
LOCATION:Cevi Seki
END:VEVENT
BEGIN:VEVENT
DTSTART;TZID=Europe/Zurich:20260101T083000
DTEND;TZID=Europe/Zurich:20260101T113000
DTSTAMP:20260423T191139
CREATED:20240812T103438Z
LAST-MODIFIED:20241224T064134Z
UID:127931-1767256200-1767267000@cevibasel.ch
SUMMARY:Mütterngruppe
DESCRIPTION:
URL:https://cevibasel.ch/veranstaltung/mutterngruppe-330/
LOCATION:Cevi Seki
END:VEVENT
BEGIN:VEVENT
DTSTART;TZID=Europe/Zurich:20260101T083000
DTEND;TZID=Europe/Zurich:20260101T113000
DTSTAMP:20260423T191139
CREATED:20240812T103438Z
LAST-MODIFIED:20241224T064136Z
UID:127927-1767256200-1767267000@cevibasel.ch
SUMMARY:Mütterngruppe
DESCRIPTION:
URL:https://cevibasel.ch/veranstaltung/mutterngruppe-326/
LOCATION:Cevi Seki
END:VEVENT
BEGIN:VEVENT
DTSTART;TZID=Europe/Zurich:20260101T083000
DTEND;TZID=Europe/Zurich:20260101T113000
DTSTAMP:20260423T191139
CREATED:20240812T103435Z
LAST-MODIFIED:20241231T233441Z
UID:127924-1767256200-1767267000@cevibasel.ch
SUMMARY:Mütterngruppe
DESCRIPTION:
URL:https://cevibasel.ch/veranstaltung/mutterngruppe-323/
LOCATION:Cevi Seki
END:VEVENT
BEGIN:VEVENT
DTSTART;TZID=Europe/Zurich:20260101T083000
DTEND;TZID=Europe/Zurich:20260101T113000
DTSTAMP:20260423T191139
CREATED:20240812T103435Z
LAST-MODIFIED:20241224T064137Z
UID:127925-1767256200-1767267000@cevibasel.ch
SUMMARY:Mütterngruppe
DESCRIPTION:
URL:https://cevibasel.ch/veranstaltung/mutterngruppe-324/
LOCATION:Cevi Seki
END:VEVENT
BEGIN:VEVENT
DTSTART;TZID=Europe/Zurich:20260101T083000
DTEND;TZID=Europe/Zurich:20260101T113000
DTSTAMP:20260423T191139
CREATED:20240812T103435Z
LAST-MODIFIED:20241224T064136Z
UID:127926-1767256200-1767267000@cevibasel.ch
SUMMARY:Mütterngruppe
DESCRIPTION:
URL:https://cevibasel.ch/veranstaltung/mutterngruppe-325/
LOCATION:Cevi Seki
END:VEVENT
BEGIN:VEVENT
DTSTART;TZID=Europe/Zurich:20251231T183000
DTEND;TZID=Europe/Zurich:20251231T210000
DTSTAMP:20260423T191139
CREATED:20240625T140245Z
LAST-MODIFIED:20251231T194946Z
UID:122861-1767205800-1767214800@cevibasel.ch
SUMMARY:Ten Sing
DESCRIPTION:
URL:https://cevibasel.ch/veranstaltung/ten-sing-136/
LOCATION:CVJM Haus Kleinbasel
END:VEVENT
BEGIN:VEVENT
DTSTART;TZID=Europe/Zurich:20251230T190000
DTEND;TZID=Europe/Zurich:20251230T203000
DTSTAMP:20260423T191139
CREATED:20240625T140244Z
LAST-MODIFIED:20251230T192021Z
UID:122858-1767121200-1767126600@cevibasel.ch
SUMMARY:Hattrick Riehen (6. bis 7. Klasse)
DESCRIPTION:
URL:https://cevibasel.ch/veranstaltung/hattrick-riehen-6-bis-7-klasse-137/
LOCATION:Fussballplatz Andreasmatte
END:VEVENT
BEGIN:VEVENT
DTSTART;TZID=Europe/Zurich:20251230T180000
DTEND;TZID=Europe/Zurich:20251230T193000
DTSTAMP:20260423T191139
CREATED:20240625T140244Z
LAST-MODIFIED:20251230T182107Z
UID:122859-1767117600-1767123000@cevibasel.ch
SUMMARY:Hattrick Gellert (7-12 Jahre)
DESCRIPTION:
URL:https://cevibasel.ch/veranstaltung/hattrick-gellert-7-12-jahre-137/
LOCATION:Fussballplatz Luftmatt
END:VEVENT
BEGIN:VEVENT
DTSTART;TZID=Europe/Zurich:20251230T173000
DTEND;TZID=Europe/Zurich:20251230T190000
DTSTAMP:20260423T191139
CREATED:20240625T140245Z
LAST-MODIFIED:20251230T175022Z
UID:122860-1767115800-1767121200@cevibasel.ch
SUMMARY:Hattrick Riehen (1. bis 3. Klasse)
DESCRIPTION:
URL:https://cevibasel.ch/veranstaltung/hattrick-riehen-1-bis-3-klasse-137/
LOCATION:Fussballplatz Andreasmatte
END:VEVENT
BEGIN:VEVENT
DTSTART;TZID=Europe/Zurich:20251229T203000
DTEND;TZID=Europe/Zurich:20251229T220000
DTSTAMP:20260423T191139
CREATED:20240625T140243Z
LAST-MODIFIED:20251229T205010Z
UID:122856-1767040200-1767045600@cevibasel.ch
SUMMARY:Hattrick Ladies\, 20.30-22.00
DESCRIPTION:
URL:https://cevibasel.ch/veranstaltung/hattrick-ladies-20-30-22-00-172/
LOCATION:Fussballfelder Pfaffenholz
END:VEVENT
BEGIN:VEVENT
DTSTART;TZID=Europe/Zurich:20251229T190000
DTEND;TZID=Europe/Zurich:20251229T203000
DTSTAMP:20260423T191139
CREATED:20240625T140243Z
LAST-MODIFIED:20251229T192039Z
UID:122857-1767034800-1767040200@cevibasel.ch
SUMMARY:Hattrick Men\, 19.00-20.30
DESCRIPTION:
URL:https://cevibasel.ch/veranstaltung/hattrick-men-19-00-20-30-171/
LOCATION:Fussballfelder Pfaffenholz
END:VEVENT
BEGIN:VEVENT
DTSTART;TZID=Europe/Zurich:20251227T140000
DTEND;TZID=Europe/Zurich:20251227T170000
DTSTAMP:20260423T191139
CREATED:20240625T140243Z
LAST-MODIFIED:20251227T154954Z
UID:122855-1766844000-1766854800@cevibasel.ch
SUMMARY:Jungschi Bubendorf
DESCRIPTION:
URL:https://cevibasel.ch/veranstaltung/jungschi-bubendorf-136/
END:VEVENT
BEGIN:VEVENT
DTSTART;TZID=Europe/Zurich:20251227T140000
DTEND;TZID=Europe/Zurich:20251227T170000
DTSTAMP:20260423T191139
CREATED:20240625T140242Z
LAST-MODIFIED:20241105T110110Z
UID:122853-1766844000-1766854800@cevibasel.ch
SUMMARY:Jungschi Muttenz
DESCRIPTION:
URL:https://cevibasel.ch/veranstaltung/jungschi-muttenz-136/
END:VEVENT
BEGIN:VEVENT
DTSTART;TZID=Europe/Zurich:20251227T140000
DTEND;TZID=Europe/Zurich:20251227T170000
DTSTAMP:20260423T191139
CREATED:20240625T140242Z
LAST-MODIFIED:20251227T154952Z
UID:122854-1766844000-1766854800@cevibasel.ch
SUMMARY:Jungschi Allschwil
DESCRIPTION:
URL:https://cevibasel.ch/veranstaltung/jungschi-allschwil-136/
END:VEVENT
BEGIN:VEVENT
DTSTART;TZID=Europe/Zurich:20251227T140000
DTEND;TZID=Europe/Zurich:20251227T170000
DTSTAMP:20260423T191139
CREATED:20240625T140241Z
LAST-MODIFIED:20251227T154952Z
UID:122851-1766844000-1766854800@cevibasel.ch
SUMMARY:Jungschi Ettigen & Therwil
DESCRIPTION:
URL:https://cevibasel.ch/veranstaltung/jungschi-ettigen-therwil-136/
END:VEVENT
BEGIN:VEVENT
DTSTART;TZID=Europe/Zurich:20251227T140000
DTEND;TZID=Europe/Zurich:20251227T170000
DTSTAMP:20260423T191139
CREATED:20240625T140241Z
LAST-MODIFIED:20251227T154951Z
UID:122852-1766844000-1766854800@cevibasel.ch
SUMMARY:Jungschi Gotthelf-Neubad
DESCRIPTION:
URL:https://cevibasel.ch/veranstaltung/jungschi-gotthelf-neubad-136/
END:VEVENT
BEGIN:VEVENT
DTSTART;TZID=Europe/Zurich:20251227T140000
DTEND;TZID=Europe/Zurich:20251227T170000
DTSTAMP:20260423T191139
CREATED:20240625T140240Z
LAST-MODIFIED:20241105T110110Z
UID:122848-1766844000-1766854800@cevibasel.ch
SUMMARY:Jungschi Reinach
DESCRIPTION:
URL:https://cevibasel.ch/veranstaltung/jungschi-reinach-136/
END:VEVENT
BEGIN:VEVENT
DTSTART;TZID=Europe/Zurich:20251227T140000
DTEND;TZID=Europe/Zurich:20251227T170000
DTSTAMP:20260423T191139
CREATED:20240625T140240Z
LAST-MODIFIED:20251227T154954Z
UID:122849-1766844000-1766854800@cevibasel.ch
SUMMARY:Jungschi Titus
DESCRIPTION:
URL:https://cevibasel.ch/veranstaltung/jungschi-titus-136/
END:VEVENT
BEGIN:VEVENT
DTSTART;TZID=Europe/Zurich:20251227T140000
DTEND;TZID=Europe/Zurich:20251227T170000
DTSTAMP:20260423T191139
CREATED:20240625T140240Z
LAST-MODIFIED:20251227T154951Z
UID:122846-1766844000-1766854800@cevibasel.ch
SUMMARY:Jungschi Thomas
DESCRIPTION:
URL:https://cevibasel.ch/veranstaltung/jungschi-thomas-136/
END:VEVENT
BEGIN:VEVENT
DTSTART;TZID=Europe/Zurich:20251227T140000
DTEND;TZID=Europe/Zurich:20251227T170000
DTSTAMP:20260423T191139
CREATED:20240625T140240Z
LAST-MODIFIED:20251227T154951Z
UID:122847-1766844000-1766854800@cevibasel.ch
SUMMARY:Jungschi Binningen
DESCRIPTION:
URL:https://cevibasel.ch/veranstaltung/jungschi-binningen-136/
END:VEVENT
BEGIN:VEVENT
DTSTART;TZID=Europe/Zurich:20251227T133000
DTEND;TZID=Europe/Zurich:20251227T153000
DTSTAMP:20260423T191139
CREATED:20240625T140241Z
LAST-MODIFIED:20251120T120527Z
UID:122850-1766842200-1766849400@cevibasel.ch
SUMMARY:Hattrick Gundeli (6-11 Jahre)
DESCRIPTION:
URL:https://cevibasel.ch/veranstaltung/hattrick-gundeli-6-11-jahre-136/
LOCATION:Margarethenpark
END:VEVENT
BEGIN:VEVENT
DTSTART;TZID=Europe/Zurich:20251226T190000
DTEND;TZID=Europe/Zurich:20251226T203000
DTSTAMP:20260423T191139
CREATED:20240625T140236Z
LAST-MODIFIED:20251226T192215Z
UID:122843-1766775600-1766781000@cevibasel.ch
SUMMARY:Hattrick Basel West (16-18 Jahre)
DESCRIPTION:
URL:https://cevibasel.ch/veranstaltung/hattrick-basel-west-16-18-jahre-136/
LOCATION:Fussballfelder Pfaffenholz
END:VEVENT
BEGIN:VEVENT
DTSTART;TZID=Europe/Zurich:20251226T173000
DTEND;TZID=Europe/Zurich:20251226T190000
DTSTAMP:20260423T191139
CREATED:20240625T140239Z
LAST-MODIFIED:20251226T175154Z
UID:122845-1766770200-1766775600@cevibasel.ch
SUMMARY:Hattrick Basel West (7-15 Jahre)
DESCRIPTION:
URL:https://cevibasel.ch/veranstaltung/hattrick-basel-west-7-15-jahre-136/
END:VEVENT
END:VCALENDAR