BEGIN:VCALENDAR
VERSION:2.0
PRODID:-//Cevi Region Basel - ECPv6.15.20//NONSGML v1.0//EN
CALSCALE:GREGORIAN
METHOD:PUBLISH
X-WR-CALNAME:Cevi Region Basel
X-ORIGINAL-URL:https://cevibasel.ch
X-WR-CALDESC:Events for Cevi Region Basel
REFRESH-INTERVAL;VALUE=DURATION:PT1H
X-Robots-Tag:noindex
X-PUBLISHED-TTL:PT1H
BEGIN:VTIMEZONE
TZID:Europe/Zurich
BEGIN:DAYLIGHT
TZOFFSETFROM:+0100
TZOFFSETTO:+0200
TZNAME:CEST
DTSTART:20250330T010000
END:DAYLIGHT
BEGIN:STANDARD
TZOFFSETFROM:+0200
TZOFFSETTO:+0100
TZNAME:CET
DTSTART:20251026T010000
END:STANDARD
BEGIN:DAYLIGHT
TZOFFSETFROM:+0100
TZOFFSETTO:+0200
TZNAME:CEST
DTSTART:20260329T010000
END:DAYLIGHT
BEGIN:STANDARD
TZOFFSETFROM:+0200
TZOFFSETTO:+0100
TZNAME:CET
DTSTART:20261025T010000
END:STANDARD
BEGIN:DAYLIGHT
TZOFFSETFROM:+0100
TZOFFSETTO:+0200
TZNAME:CEST
DTSTART:20270328T010000
END:DAYLIGHT
BEGIN:STANDARD
TZOFFSETFROM:+0200
TZOFFSETTO:+0100
TZNAME:CET
DTSTART:20271031T010000
END:STANDARD
END:VTIMEZONE
BEGIN:VEVENT
DTSTART;TZID=Europe/Zurich:20260929T190000
DTEND;TZID=Europe/Zurich:20260929T203000
DTSTAMP:20260423T192312
CREATED:20240929T020307Z
LAST-MODIFIED:20260205T231450Z
UID:135411-1790708400-1790713800@cevibasel.ch
SUMMARY:Hattrick Riehen (6. bis 7. Klasse)
DESCRIPTION:
URL:https://cevibasel.ch/veranstaltung/hattrick-riehen-6-bis-7-klasse-176/
LOCATION:Fussballplatz Andreasmatte
END:VEVENT
BEGIN:VEVENT
DTSTART;TZID=Europe/Zurich:20260929T180000
DTEND;TZID=Europe/Zurich:20260929T193000
DTSTAMP:20260423T192312
CREATED:20240929T020307Z
LAST-MODIFIED:20260205T231453Z
UID:135412-1790704800-1790710200@cevibasel.ch
SUMMARY:Hattrick Gellert (7-12 Jahre)
DESCRIPTION:
URL:https://cevibasel.ch/veranstaltung/hattrick-gellert-7-12-jahre-176/
LOCATION:Fussballplatz Luftmatt
END:VEVENT
BEGIN:VEVENT
DTSTART;TZID=Europe/Zurich:20260929T173000
DTEND;TZID=Europe/Zurich:20260929T190000
DTSTAMP:20260423T192312
CREATED:20240929T020308Z
LAST-MODIFIED:20260205T231450Z
UID:135413-1790703000-1790708400@cevibasel.ch
SUMMARY:Hattrick Riehen (1. bis 3. Klasse)
DESCRIPTION:
URL:https://cevibasel.ch/veranstaltung/hattrick-riehen-1-bis-3-klasse-176/
LOCATION:Fussballplatz Andreasmatte
END:VEVENT
BEGIN:VEVENT
DTSTART;TZID=Europe/Zurich:20260928T203000
DTEND;TZID=Europe/Zurich:20260928T220000
DTSTAMP:20260423T192312
CREATED:20240928T014710Z
LAST-MODIFIED:20260205T231448Z
UID:135384-1790627400-1790632800@cevibasel.ch
SUMMARY:Hattrick Ladies\, 20.30-22.00
DESCRIPTION:
URL:https://cevibasel.ch/veranstaltung/hattrick-ladies-20-30-22-00-211/
LOCATION:Fussballfelder Pfaffenholz
END:VEVENT
BEGIN:VEVENT
DTSTART;TZID=Europe/Zurich:20260928T190000
DTEND;TZID=Europe/Zurich:20260928T203000
DTSTAMP:20260423T192312
CREATED:20240928T014710Z
LAST-MODIFIED:20260205T231448Z
UID:135385-1790622000-1790627400@cevibasel.ch
SUMMARY:Hattrick Men\, 19.00-20.30
DESCRIPTION:
URL:https://cevibasel.ch/veranstaltung/hattrick-men-19-00-20-30-210/
LOCATION:Fussballfelder Pfaffenholz
END:VEVENT
BEGIN:VEVENT
DTSTART;TZID=Europe/Zurich:20260926T140000
DTEND;TZID=Europe/Zurich:20260926T170000
DTSTAMP:20260423T192312
CREATED:20240926T011846Z
LAST-MODIFIED:20251117T005559Z
UID:135328-1790431200-1790442000@cevibasel.ch
SUMMARY:Jungschi Binningen
DESCRIPTION:
URL:https://cevibasel.ch/veranstaltung/jungschi-binningen-175/
END:VEVENT
BEGIN:VEVENT
DTSTART;TZID=Europe/Zurich:20260926T140000
DTEND;TZID=Europe/Zurich:20260926T170000
DTSTAMP:20260423T192312
CREATED:20240926T011845Z
LAST-MODIFIED:20251117T005558Z
UID:135323-1790431200-1790442000@cevibasel.ch
SUMMARY:Jungschi Gotthelf-Neubad
DESCRIPTION:
URL:https://cevibasel.ch/veranstaltung/jungschi-gotthelf-neubad-175/
END:VEVENT
BEGIN:VEVENT
DTSTART;TZID=Europe/Zurich:20260926T140000
DTEND;TZID=Europe/Zurich:20260926T170000
DTSTAMP:20260423T192312
CREATED:20240926T011845Z
LAST-MODIFIED:20251117T005559Z
UID:135324-1790431200-1790442000@cevibasel.ch
SUMMARY:Jungschi Ettigen & Therwil
DESCRIPTION:
URL:https://cevibasel.ch/veranstaltung/jungschi-ettigen-therwil-175/
END:VEVENT
BEGIN:VEVENT
DTSTART;TZID=Europe/Zurich:20260926T140000
DTEND;TZID=Europe/Zurich:20260926T170000
DTSTAMP:20260423T192312
CREATED:20240926T011845Z
LAST-MODIFIED:20251117T005600Z
UID:135319-1790431200-1790442000@cevibasel.ch
SUMMARY:Jungschi Titus
DESCRIPTION:
URL:https://cevibasel.ch/veranstaltung/jungschi-titus-175/
END:VEVENT
BEGIN:VEVENT
DTSTART;TZID=Europe/Zurich:20260926T140000
DTEND;TZID=Europe/Zurich:20260926T170000
DTSTAMP:20260423T192312
CREATED:20240926T011845Z
LAST-MODIFIED:20251117T005559Z
UID:135325-1790431200-1790442000@cevibasel.ch
SUMMARY:Jungschi Bubendorf
DESCRIPTION:
URL:https://cevibasel.ch/veranstaltung/jungschi-bubendorf-175/
END:VEVENT
BEGIN:VEVENT
DTSTART;TZID=Europe/Zurich:20260926T140000
DTEND;TZID=Europe/Zurich:20260926T170000
DTSTAMP:20260423T192312
CREATED:20240926T011845Z
LAST-MODIFIED:20251117T005559Z
UID:135320-1790431200-1790442000@cevibasel.ch
SUMMARY:Jungschi Thomas
DESCRIPTION:
URL:https://cevibasel.ch/veranstaltung/jungschi-thomas-175/
END:VEVENT
BEGIN:VEVENT
DTSTART;TZID=Europe/Zurich:20260926T140000
DTEND;TZID=Europe/Zurich:20260926T170000
DTSTAMP:20260423T192312
CREATED:20240926T011845Z
LAST-MODIFIED:20241105T013010Z
UID:135326-1790431200-1790442000@cevibasel.ch
SUMMARY:Jungschi Reinach
DESCRIPTION:
URL:https://cevibasel.ch/veranstaltung/jungschi-reinach-175/
END:VEVENT
BEGIN:VEVENT
DTSTART;TZID=Europe/Zurich:20260926T140000
DTEND;TZID=Europe/Zurich:20260926T170000
DTSTAMP:20260423T192312
CREATED:20240926T011845Z
LAST-MODIFIED:20241105T013008Z
UID:135321-1790431200-1790442000@cevibasel.ch
SUMMARY:Jungschi Muttenz
DESCRIPTION:
URL:https://cevibasel.ch/veranstaltung/jungschi-muttenz-175/
END:VEVENT
BEGIN:VEVENT
DTSTART;TZID=Europe/Zurich:20260926T140000
DTEND;TZID=Europe/Zurich:20260926T170000
DTSTAMP:20260423T192312
CREATED:20240926T011845Z
LAST-MODIFIED:20251117T005557Z
UID:135322-1790431200-1790442000@cevibasel.ch
SUMMARY:Jungschi Allschwil
DESCRIPTION:
URL:https://cevibasel.ch/veranstaltung/jungschi-allschwil-175/
END:VEVENT
BEGIN:VEVENT
DTSTART;TZID=Europe/Zurich:20260926T133000
DTEND;TZID=Europe/Zurich:20260926T153000
DTSTAMP:20260423T192312
CREATED:20240926T011846Z
LAST-MODIFIED:20251120T120802Z
UID:135327-1790429400-1790436600@cevibasel.ch
SUMMARY:Hattrick Gundeli (6-11 Jahre)
DESCRIPTION:
URL:https://cevibasel.ch/veranstaltung/hattrick-gundeli-6-11-jahre-175/
LOCATION:Margarethenpark
END:VEVENT
BEGIN:VEVENT
DTSTART;VALUE=DATE:20260926
DTEND;VALUE=DATE:20260927
DTSTAMP:20260423T192312
CREATED:20251120T031751Z
LAST-MODIFIED:20260205T231448Z
UID:169952-1790380800-1790467199@cevibasel.ch
SUMMARY:Jungschar Angebote
DESCRIPTION:
URL:https://cevibasel.ch/veranstaltung/jungscharangebote-39/
END:VEVENT
BEGIN:VEVENT
DTSTART;TZID=Europe/Zurich:20260925T190000
DTEND;TZID=Europe/Zurich:20260925T203000
DTSTAMP:20260423T192312
CREATED:20240925T021925Z
LAST-MODIFIED:20260205T231441Z
UID:134103-1790362800-1790368200@cevibasel.ch
SUMMARY:Hattrick Basel West (16-18 Jahre)
DESCRIPTION:
URL:https://cevibasel.ch/veranstaltung/hattrick-basel-west-16-18-jahre-175/
LOCATION:Fussballfelder Pfaffenholz
END:VEVENT
BEGIN:VEVENT
DTSTART;TZID=Europe/Zurich:20260925T173000
DTEND;TZID=Europe/Zurich:20260925T190000
DTSTAMP:20260423T192312
CREATED:20240925T021924Z
LAST-MODIFIED:20260205T231448Z
UID:134102-1790357400-1790362800@cevibasel.ch
SUMMARY:Hattrick Basel West (7-15 Jahre)
DESCRIPTION:
URL:https://cevibasel.ch/veranstaltung/hattrick-basel-west-7-15-jahre-175/
END:VEVENT
BEGIN:VEVENT
DTSTART;TZID=Europe/Zurich:20260925T173000
DTEND;TZID=Europe/Zurich:20260925T190000
DTSTAMP:20260423T192312
CREATED:20240925T021924Z
LAST-MODIFIED:20260205T231448Z
UID:134101-1790357400-1790362800@cevibasel.ch
SUMMARY:Hattrick Riehen (4. bis 5. Klasse)
DESCRIPTION:
URL:https://cevibasel.ch/veranstaltung/hattrick-riehen-4-bis-5-klasse-175/
LOCATION:Andreasmatte
END:VEVENT
BEGIN:VEVENT
DTSTART;TZID=Europe/Zurich:20260924T083000
DTEND;TZID=Europe/Zurich:20260924T113000
DTSTAMP:20260423T192312
CREATED:20240924T171455Z
LAST-MODIFIED:20241213T141938Z
UID:134087-1790238600-1790249400@cevibasel.ch
SUMMARY:Mütterngruppe
DESCRIPTION:
URL:https://cevibasel.ch/veranstaltung/mutterngruppe-519/
LOCATION:Cevi Seki
END:VEVENT
BEGIN:VEVENT
DTSTART;TZID=Europe/Zurich:20260924T083000
DTEND;TZID=Europe/Zurich:20260924T113000
DTSTAMP:20260423T192312
CREATED:20240924T171455Z
LAST-MODIFIED:20241213T141938Z
UID:134088-1790238600-1790249400@cevibasel.ch
SUMMARY:Mütterngruppe
DESCRIPTION:
URL:https://cevibasel.ch/veranstaltung/mutterngruppe-520/
LOCATION:Cevi Seki
END:VEVENT
BEGIN:VEVENT
DTSTART;TZID=Europe/Zurich:20260924T083000
DTEND;TZID=Europe/Zurich:20260924T113000
DTSTAMP:20260423T192312
CREATED:20240924T171455Z
LAST-MODIFIED:20241213T141938Z
UID:134089-1790238600-1790249400@cevibasel.ch
SUMMARY:Mütterngruppe
DESCRIPTION:
URL:https://cevibasel.ch/veranstaltung/mutterngruppe-521/
LOCATION:Cevi Seki
END:VEVENT
BEGIN:VEVENT
DTSTART;TZID=Europe/Zurich:20260924T083000
DTEND;TZID=Europe/Zurich:20260924T113000
DTSTAMP:20260423T192312
CREATED:20240924T171454Z
LAST-MODIFIED:20241213T141939Z
UID:134086-1790238600-1790249400@cevibasel.ch
SUMMARY:Mütterngruppe
DESCRIPTION:
URL:https://cevibasel.ch/veranstaltung/mutterngruppe-518/
LOCATION:Cevi Seki
END:VEVENT
BEGIN:VEVENT
DTSTART;TZID=Europe/Zurich:20260924T083000
DTEND;TZID=Europe/Zurich:20260924T113000
DTSTAMP:20260423T192312
CREATED:20240924T171454Z
LAST-MODIFIED:20241213T141939Z
UID:134085-1790238600-1790249400@cevibasel.ch
SUMMARY:Mütterngruppe
DESCRIPTION:
URL:https://cevibasel.ch/veranstaltung/mutterngruppe-517/
LOCATION:Cevi Seki
END:VEVENT
BEGIN:VEVENT
DTSTART;TZID=Europe/Zurich:20260924T083000
DTEND;TZID=Europe/Zurich:20260924T113000
DTSTAMP:20260423T192312
CREATED:20240924T171453Z
LAST-MODIFIED:20260205T231441Z
UID:134081-1790238600-1790249400@cevibasel.ch
SUMMARY:Mütterngruppe
DESCRIPTION:
URL:https://cevibasel.ch/veranstaltung/mutterngruppe-513/
LOCATION:Cevi Seki
END:VEVENT
BEGIN:VEVENT
DTSTART;TZID=Europe/Zurich:20260924T083000
DTEND;TZID=Europe/Zurich:20260924T113000
DTSTAMP:20260423T192312
CREATED:20240924T171453Z
LAST-MODIFIED:20241213T141939Z
UID:134082-1790238600-1790249400@cevibasel.ch
SUMMARY:Mütterngruppe
DESCRIPTION:
URL:https://cevibasel.ch/veranstaltung/mutterngruppe-514/
LOCATION:Cevi Seki
END:VEVENT
BEGIN:VEVENT
DTSTART;TZID=Europe/Zurich:20260924T083000
DTEND;TZID=Europe/Zurich:20260924T113000
DTSTAMP:20260423T192312
CREATED:20240924T171453Z
LAST-MODIFIED:20241213T141939Z
UID:134083-1790238600-1790249400@cevibasel.ch
SUMMARY:Mütterngruppe
DESCRIPTION:
URL:https://cevibasel.ch/veranstaltung/mutterngruppe-515/
LOCATION:Cevi Seki
END:VEVENT
BEGIN:VEVENT
DTSTART;TZID=Europe/Zurich:20260924T083000
DTEND;TZID=Europe/Zurich:20260924T113000
DTSTAMP:20260423T192312
CREATED:20240924T171453Z
LAST-MODIFIED:20241213T141938Z
UID:134084-1790238600-1790249400@cevibasel.ch
SUMMARY:Mütterngruppe
DESCRIPTION:
URL:https://cevibasel.ch/veranstaltung/mutterngruppe-516/
LOCATION:Cevi Seki
END:VEVENT
BEGIN:VEVENT
DTSTART;TZID=Europe/Zurich:20260923T183000
DTEND;TZID=Europe/Zurich:20260923T210000
DTSTAMP:20260423T192312
CREATED:20240923T040345Z
LAST-MODIFIED:20260205T231441Z
UID:134070-1790188200-1790197200@cevibasel.ch
SUMMARY:Ten Sing
DESCRIPTION:
URL:https://cevibasel.ch/veranstaltung/ten-sing-174/
LOCATION:CVJM Haus Kleinbasel
END:VEVENT
BEGIN:VEVENT
DTSTART;TZID=Europe/Zurich:20260922T190000
DTEND;TZID=Europe/Zurich:20260922T203000
DTSTAMP:20260423T192312
CREATED:20240923T040345Z
LAST-MODIFIED:20260205T231439Z
UID:134069-1790103600-1790109000@cevibasel.ch
SUMMARY:Hattrick Riehen (6. bis 7. Klasse)
DESCRIPTION:
URL:https://cevibasel.ch/veranstaltung/hattrick-riehen-6-bis-7-klasse-175/
LOCATION:Fussballplatz Andreasmatte
END:VEVENT
END:VCALENDAR