BEGIN:VCALENDAR
VERSION:2.0
PRODID:-//Cevi Region Basel - ECPv6.15.20//NONSGML v1.0//EN
CALSCALE:GREGORIAN
METHOD:PUBLISH
X-WR-CALNAME:Cevi Region Basel
X-ORIGINAL-URL:https://cevibasel.ch
X-WR-CALDESC:Events for Cevi Region Basel
REFRESH-INTERVAL;VALUE=DURATION:PT1H
X-Robots-Tag:noindex
X-PUBLISHED-TTL:PT1H
BEGIN:VTIMEZONE
TZID:Europe/Zurich
BEGIN:DAYLIGHT
TZOFFSETFROM:+0100
TZOFFSETTO:+0200
TZNAME:CEST
DTSTART:20240331T010000
END:DAYLIGHT
BEGIN:STANDARD
TZOFFSETFROM:+0200
TZOFFSETTO:+0100
TZNAME:CET
DTSTART:20241027T010000
END:STANDARD
BEGIN:DAYLIGHT
TZOFFSETFROM:+0100
TZOFFSETTO:+0200
TZNAME:CEST
DTSTART:20250330T010000
END:DAYLIGHT
BEGIN:STANDARD
TZOFFSETFROM:+0200
TZOFFSETTO:+0100
TZNAME:CET
DTSTART:20251026T010000
END:STANDARD
BEGIN:DAYLIGHT
TZOFFSETFROM:+0100
TZOFFSETTO:+0200
TZNAME:CEST
DTSTART:20260329T010000
END:DAYLIGHT
BEGIN:STANDARD
TZOFFSETFROM:+0200
TZOFFSETTO:+0100
TZNAME:CET
DTSTART:20261025T010000
END:STANDARD
END:VTIMEZONE
BEGIN:VEVENT
DTSTART;TZID=Europe/Zurich:20250707T190000
DTEND;TZID=Europe/Zurich:20250707T203000
DTSTAMP:20260426T052513
CREATED:20240625T134519Z
LAST-MODIFIED:20250707T182203Z
UID:121544-1751914800-1751920200@cevibasel.ch
SUMMARY:Hattrick Men\, 19.00-20.30
DESCRIPTION:
URL:https://cevibasel.ch/veranstaltung/hattrick-men-19-00-20-30-146/
LOCATION:Fussballfelder Pfaffenholz
END:VEVENT
BEGIN:VEVENT
DTSTART;TZID=Europe/Zurich:20250707T203000
DTEND;TZID=Europe/Zurich:20250707T220000
DTSTAMP:20260426T052513
CREATED:20240625T134519Z
LAST-MODIFIED:20250707T194956Z
UID:121543-1751920200-1751925600@cevibasel.ch
SUMMARY:Hattrick Ladies\, 20.30-22.00
DESCRIPTION:
URL:https://cevibasel.ch/veranstaltung/hattrick-ladies-20-30-22-00-147/
LOCATION:Fussballfelder Pfaffenholz
END:VEVENT
BEGIN:VEVENT
DTSTART;TZID=Europe/Zurich:20250708T173000
DTEND;TZID=Europe/Zurich:20250708T190000
DTSTAMP:20260426T052513
CREATED:20240625T134523Z
LAST-MODIFIED:20250708T165007Z
UID:121546-1751995800-1752001200@cevibasel.ch
SUMMARY:Hattrick Riehen (1. bis 3. Klasse)
DESCRIPTION:
URL:https://cevibasel.ch/veranstaltung/hattrick-riehen-1-bis-3-klasse-112/
LOCATION:Fussballplatz Andreasmatte
END:VEVENT
BEGIN:VEVENT
DTSTART;TZID=Europe/Zurich:20250708T180000
DTEND;TZID=Europe/Zurich:20250708T193000
DTSTAMP:20260426T052513
CREATED:20240625T134523Z
LAST-MODIFIED:20250708T171952Z
UID:121547-1751997600-1752003000@cevibasel.ch
SUMMARY:Hattrick Gellert (7-12 Jahre)
DESCRIPTION:
URL:https://cevibasel.ch/veranstaltung/hattrick-gellert-7-12-jahre-112/
LOCATION:Fussballplatz Luftmatt
END:VEVENT
BEGIN:VEVENT
DTSTART;TZID=Europe/Zurich:20250708T190000
DTEND;TZID=Europe/Zurich:20250708T203000
DTSTAMP:20260426T052513
CREATED:20240625T134523Z
LAST-MODIFIED:20250708T182129Z
UID:121545-1752001200-1752006600@cevibasel.ch
SUMMARY:Hattrick Riehen (6. bis 7. Klasse)
DESCRIPTION:
URL:https://cevibasel.ch/veranstaltung/hattrick-riehen-6-bis-7-klasse-112/
LOCATION:Fussballplatz Andreasmatte
END:VEVENT
BEGIN:VEVENT
DTSTART;TZID=Europe/Zurich:20250709T083000
DTEND;TZID=Europe/Zurich:20250709T110000
DTSTAMP:20260426T052513
CREATED:20240812T101654Z
LAST-MODIFIED:20250709T085133Z
UID:127544-1752049800-1752058800@cevibasel.ch
SUMMARY:Mütterngruppe
DESCRIPTION:
URL:https://cevibasel.ch/veranstaltung/mutterngruppe-202/
LOCATION:Cevi Seki
END:VEVENT
BEGIN:VEVENT
DTSTART;TZID=Europe/Zurich:20250709T183000
DTEND;TZID=Europe/Zurich:20250709T210000
DTSTAMP:20260426T052513
CREATED:20240625T134523Z
LAST-MODIFIED:20250709T184955Z
UID:121548-1752085800-1752094800@cevibasel.ch
SUMMARY:Ten Sing
DESCRIPTION:
URL:https://cevibasel.ch/veranstaltung/ten-sing-111/
LOCATION:CVJM Haus Kleinbasel
END:VEVENT
BEGIN:VEVENT
DTSTART;TZID=Europe/Zurich:20250710T080000
DTEND;TZID=Europe/Zurich:20250710T103000
DTSTAMP:20260426T052513
CREATED:20240625T134524Z
LAST-MODIFIED:20240812T095758Z
UID:121549-1752134400-1752143400@cevibasel.ch
SUMMARY:Mütterngruppe
DESCRIPTION:
URL:https://cevibasel.ch/veranstaltung/muetterngruppe-66/
LOCATION:Cevi Seki
END:VEVENT
BEGIN:VEVENT
DTSTART;TZID=Europe/Zurich:20250711T173000
DTEND;TZID=Europe/Zurich:20250711T190000
DTSTAMP:20260426T052513
CREATED:20240625T134527Z
LAST-MODIFIED:20250711T165134Z
UID:121550-1752255000-1752260400@cevibasel.ch
SUMMARY:Hattrick Basel West (7-15 Jahre)
DESCRIPTION:
URL:https://cevibasel.ch/veranstaltung/hattrick-basel-west-7-15-jahre-112/
END:VEVENT
BEGIN:VEVENT
DTSTART;TZID=Europe/Zurich:20250711T173000
DTEND;TZID=Europe/Zurich:20250711T190000
DTSTAMP:20260426T052513
CREATED:20240625T134528Z
LAST-MODIFIED:20250711T165134Z
UID:121552-1752255000-1752260400@cevibasel.ch
SUMMARY:Hattrick Riehen (4. bis 5. Klasse)
DESCRIPTION:
URL:https://cevibasel.ch/veranstaltung/hattrick-riehen-4-bis-5-klasse-112/
LOCATION:Andreasmatte
END:VEVENT
BEGIN:VEVENT
DTSTART;TZID=Europe/Zurich:20250711T190000
DTEND;TZID=Europe/Zurich:20250711T203000
DTSTAMP:20260426T052513
CREATED:20240625T134528Z
LAST-MODIFIED:20250711T181949Z
UID:121551-1752260400-1752265800@cevibasel.ch
SUMMARY:Hattrick Basel West (16-18 Jahre)
DESCRIPTION:
URL:https://cevibasel.ch/veranstaltung/hattrick-basel-west-16-18-jahre-112/
LOCATION:Fussballfelder Pfaffenholz
END:VEVENT
BEGIN:VEVENT
DTSTART;TZID=Europe/Zurich:20250712T133000
DTEND;TZID=Europe/Zurich:20250712T153000
DTSTAMP:20260426T052513
CREATED:20240625T134531Z
LAST-MODIFIED:20250712T132114Z
UID:121558-1752327000-1752334200@cevibasel.ch
SUMMARY:Hattrick Gundeli (6-11 Jahre)
DESCRIPTION:
URL:https://cevibasel.ch/veranstaltung/hattrick-gundeli-6-11-jahre-112/
LOCATION:Margarethenpark
END:VEVENT
BEGIN:VEVENT
DTSTART;TZID=Europe/Zurich:20250712T140000
DTEND;TZID=Europe/Zurich:20250712T170000
DTSTAMP:20260426T052513
CREATED:20240625T134528Z
LAST-MODIFIED:20241105T105936Z
UID:121554-1752328800-1752339600@cevibasel.ch
SUMMARY:Jungschi Reinach
DESCRIPTION:
URL:https://cevibasel.ch/veranstaltung/jungschi-reinach-112/
END:VEVENT
BEGIN:VEVENT
DTSTART;TZID=Europe/Zurich:20250712T140000
DTEND;TZID=Europe/Zurich:20250712T170000
DTSTAMP:20260426T052513
CREATED:20240625T134528Z
LAST-MODIFIED:20250712T145109Z
UID:121553-1752328800-1752339600@cevibasel.ch
SUMMARY:Jungschi Ettigen & Therwil
DESCRIPTION:
URL:https://cevibasel.ch/veranstaltung/jungschi-ettigen-therwil-112/
END:VEVENT
BEGIN:VEVENT
DTSTART;TZID=Europe/Zurich:20250712T140000
DTEND;TZID=Europe/Zurich:20250712T170000
DTSTAMP:20260426T052513
CREATED:20240625T134531Z
LAST-MODIFIED:20250712T145109Z
UID:121559-1752328800-1752339600@cevibasel.ch
SUMMARY:Jungschi Bubendorf
DESCRIPTION:
URL:https://cevibasel.ch/veranstaltung/jungschi-bubendorf-112/
END:VEVENT
BEGIN:VEVENT
DTSTART;TZID=Europe/Zurich:20250712T140000
DTEND;TZID=Europe/Zurich:20250712T170000
DTSTAMP:20260426T052513
CREATED:20240625T134531Z
LAST-MODIFIED:20250712T145121Z
UID:121555-1752328800-1752339600@cevibasel.ch
SUMMARY:Jungschi Gotthelf-Neubad
DESCRIPTION:
URL:https://cevibasel.ch/veranstaltung/jungschi-gotthelf-neubad-112/
END:VEVENT
BEGIN:VEVENT
DTSTART;TZID=Europe/Zurich:20250712T140000
DTEND;TZID=Europe/Zurich:20250712T170000
DTSTAMP:20260426T052513
CREATED:20240625T134531Z
LAST-MODIFIED:20241105T105938Z
UID:121556-1752328800-1752339600@cevibasel.ch
SUMMARY:Jungschi Muttenz
DESCRIPTION:
URL:https://cevibasel.ch/veranstaltung/jungschi-muttenz-112/
END:VEVENT
BEGIN:VEVENT
DTSTART;TZID=Europe/Zurich:20250712T140000
DTEND;TZID=Europe/Zurich:20250712T170000
DTSTAMP:20260426T052513
CREATED:20240625T134531Z
LAST-MODIFIED:20250712T145109Z
UID:121557-1752328800-1752339600@cevibasel.ch
SUMMARY:Jungschi Thomas
DESCRIPTION:
URL:https://cevibasel.ch/veranstaltung/jungschi-thomas-112/
END:VEVENT
BEGIN:VEVENT
DTSTART;TZID=Europe/Zurich:20250712T140000
DTEND;TZID=Europe/Zurich:20250712T170000
DTSTAMP:20260426T052513
CREATED:20240625T134533Z
LAST-MODIFIED:20250712T145121Z
UID:121560-1752328800-1752339600@cevibasel.ch
SUMMARY:Jungschi Titus
DESCRIPTION:
URL:https://cevibasel.ch/veranstaltung/jungschi-titus-112/
END:VEVENT
BEGIN:VEVENT
DTSTART;TZID=Europe/Zurich:20250712T140000
DTEND;TZID=Europe/Zurich:20250712T170000
DTSTAMP:20260426T052513
CREATED:20240625T134533Z
LAST-MODIFIED:20250712T145109Z
UID:121561-1752328800-1752339600@cevibasel.ch
SUMMARY:Jungschi Binningen
DESCRIPTION:
URL:https://cevibasel.ch/veranstaltung/jungschi-binningen-112/
END:VEVENT
BEGIN:VEVENT
DTSTART;TZID=Europe/Zurich:20250712T140000
DTEND;TZID=Europe/Zurich:20250712T170000
DTSTAMP:20260426T052513
CREATED:20240625T134533Z
LAST-MODIFIED:20250712T145109Z
UID:121562-1752328800-1752339600@cevibasel.ch
SUMMARY:Jungschi Allschwil
DESCRIPTION:
URL:https://cevibasel.ch/veranstaltung/jungschi-allschwil-112/
END:VEVENT
BEGIN:VEVENT
DTSTART;TZID=Europe/Zurich:20250714T190000
DTEND;TZID=Europe/Zurich:20250714T203000
DTSTAMP:20260426T052513
CREATED:20240625T134533Z
LAST-MODIFIED:20250714T182109Z
UID:121563-1752519600-1752525000@cevibasel.ch
SUMMARY:Hattrick Men\, 19.00-20.30
DESCRIPTION:
URL:https://cevibasel.ch/veranstaltung/hattrick-men-19-00-20-30-147/
LOCATION:Fussballfelder Pfaffenholz
END:VEVENT
BEGIN:VEVENT
DTSTART;TZID=Europe/Zurich:20250714T203000
DTEND;TZID=Europe/Zurich:20250714T220000
DTSTAMP:20260426T052513
CREATED:20240625T134533Z
LAST-MODIFIED:20250714T195005Z
UID:121564-1752525000-1752530400@cevibasel.ch
SUMMARY:Hattrick Ladies\, 20.30-22.00
DESCRIPTION:
URL:https://cevibasel.ch/veranstaltung/hattrick-ladies-20-30-22-00-148/
LOCATION:Fussballfelder Pfaffenholz
END:VEVENT
BEGIN:VEVENT
DTSTART;TZID=Europe/Zurich:20250715T173000
DTEND;TZID=Europe/Zurich:20250715T190000
DTSTAMP:20260426T052513
CREATED:20240625T134536Z
LAST-MODIFIED:20250715T165057Z
UID:121566-1752600600-1752606000@cevibasel.ch
SUMMARY:Hattrick Riehen (1. bis 3. Klasse)
DESCRIPTION:
URL:https://cevibasel.ch/veranstaltung/hattrick-riehen-1-bis-3-klasse-113/
LOCATION:Fussballplatz Andreasmatte
END:VEVENT
BEGIN:VEVENT
DTSTART;TZID=Europe/Zurich:20250715T180000
DTEND;TZID=Europe/Zurich:20250715T193000
DTSTAMP:20260426T052513
CREATED:20240625T134535Z
LAST-MODIFIED:20250715T172043Z
UID:121565-1752602400-1752607800@cevibasel.ch
SUMMARY:Hattrick Gellert (7-12 Jahre)
DESCRIPTION:
URL:https://cevibasel.ch/veranstaltung/hattrick-gellert-7-12-jahre-113/
LOCATION:Fussballplatz Luftmatt
END:VEVENT
BEGIN:VEVENT
DTSTART;TZID=Europe/Zurich:20250715T190000
DTEND;TZID=Europe/Zurich:20250715T203000
DTSTAMP:20260426T052513
CREATED:20240625T134536Z
LAST-MODIFIED:20250715T181954Z
UID:121567-1752606000-1752611400@cevibasel.ch
SUMMARY:Hattrick Riehen (6. bis 7. Klasse)
DESCRIPTION:
URL:https://cevibasel.ch/veranstaltung/hattrick-riehen-6-bis-7-klasse-113/
LOCATION:Fussballplatz Andreasmatte
END:VEVENT
BEGIN:VEVENT
DTSTART;TZID=Europe/Zurich:20250716T183000
DTEND;TZID=Europe/Zurich:20250716T210000
DTSTAMP:20260426T052513
CREATED:20240625T134536Z
LAST-MODIFIED:20250716T184947Z
UID:121568-1752690600-1752699600@cevibasel.ch
SUMMARY:Ten Sing
DESCRIPTION:
URL:https://cevibasel.ch/veranstaltung/ten-sing-112/
LOCATION:CVJM Haus Kleinbasel
END:VEVENT
BEGIN:VEVENT
DTSTART;TZID=Europe/Zurich:20250717T083000
DTEND;TZID=Europe/Zurich:20250717T113000
DTSTAMP:20260426T052513
CREATED:20240812T101706Z
LAST-MODIFIED:20241227T021823Z
UID:127546-1752741000-1752751800@cevibasel.ch
SUMMARY:Mütterngruppe
DESCRIPTION:
URL:https://cevibasel.ch/veranstaltung/mutterngruppe-204/
LOCATION:Cevi Seki
END:VEVENT
BEGIN:VEVENT
DTSTART;TZID=Europe/Zurich:20250717T083000
DTEND;TZID=Europe/Zurich:20250717T113000
DTSTAMP:20260426T052513
CREATED:20240812T101706Z
LAST-MODIFIED:20241227T021823Z
UID:127547-1752741000-1752751800@cevibasel.ch
SUMMARY:Mütterngruppe
DESCRIPTION:
URL:https://cevibasel.ch/veranstaltung/mutterngruppe-205/
LOCATION:Cevi Seki
END:VEVENT
BEGIN:VEVENT
DTSTART;TZID=Europe/Zurich:20250717T083000
DTEND;TZID=Europe/Zurich:20250717T113000
DTSTAMP:20260426T052513
CREATED:20240812T101706Z
LAST-MODIFIED:20241227T021823Z
UID:127548-1752741000-1752751800@cevibasel.ch
SUMMARY:Mütterngruppe
DESCRIPTION:
URL:https://cevibasel.ch/veranstaltung/mutterngruppe-206/
LOCATION:Cevi Seki
END:VEVENT
END:VCALENDAR