BEGIN:VCALENDAR
VERSION:2.0
PRODID:-//Cevi Region Basel - ECPv6.15.20//NONSGML v1.0//EN
CALSCALE:GREGORIAN
METHOD:PUBLISH
X-WR-CALNAME:Cevi Region Basel
X-ORIGINAL-URL:https://cevibasel.ch
X-WR-CALDESC:Events for Cevi Region Basel
REFRESH-INTERVAL;VALUE=DURATION:PT1H
X-Robots-Tag:noindex
X-PUBLISHED-TTL:PT1H
BEGIN:VTIMEZONE
TZID:Europe/Zurich
BEGIN:DAYLIGHT
TZOFFSETFROM:+0100
TZOFFSETTO:+0200
TZNAME:CEST
DTSTART:20250330T010000
END:DAYLIGHT
BEGIN:STANDARD
TZOFFSETFROM:+0200
TZOFFSETTO:+0100
TZNAME:CET
DTSTART:20251026T010000
END:STANDARD
BEGIN:DAYLIGHT
TZOFFSETFROM:+0100
TZOFFSETTO:+0200
TZNAME:CEST
DTSTART:20260329T010000
END:DAYLIGHT
BEGIN:STANDARD
TZOFFSETFROM:+0200
TZOFFSETTO:+0100
TZNAME:CET
DTSTART:20261025T010000
END:STANDARD
BEGIN:DAYLIGHT
TZOFFSETFROM:+0100
TZOFFSETTO:+0200
TZNAME:CEST
DTSTART:20270328T010000
END:DAYLIGHT
BEGIN:STANDARD
TZOFFSETFROM:+0200
TZOFFSETTO:+0100
TZNAME:CET
DTSTART:20271031T010000
END:STANDARD
END:VTIMEZONE
BEGIN:VEVENT
DTSTART;TZID=Europe/Zurich:20260130T173000
DTEND;TZID=Europe/Zurich:20260130T190000
DTSTAMP:20260423T202910
CREATED:20240625T140328Z
LAST-MODIFIED:20260130T175009Z
UID:122941-1769794200-1769799600@cevibasel.ch
SUMMARY:Hattrick Riehen (4. bis 5. Klasse)
DESCRIPTION:
URL:https://cevibasel.ch/veranstaltung/hattrick-riehen-4-bis-5-klasse-141/
LOCATION:Andreasmatte
END:VEVENT
BEGIN:VEVENT
DTSTART;TZID=Europe/Zurich:20260130T173000
DTEND;TZID=Europe/Zurich:20260130T190000
DTSTAMP:20260423T202910
CREATED:20240625T140328Z
LAST-MODIFIED:20260130T175009Z
UID:122942-1769794200-1769799600@cevibasel.ch
SUMMARY:Hattrick Basel West (7-15 Jahre)
DESCRIPTION:
URL:https://cevibasel.ch/veranstaltung/hattrick-basel-west-7-15-jahre-141/
END:VEVENT
BEGIN:VEVENT
DTSTART;TZID=Europe/Zurich:20260130T190000
DTEND;TZID=Europe/Zurich:20260130T203000
DTSTAMP:20260423T202910
CREATED:20240625T140328Z
LAST-MODIFIED:20260130T192116Z
UID:122940-1769799600-1769805000@cevibasel.ch
SUMMARY:Hattrick Basel West (16-18 Jahre)
DESCRIPTION:
URL:https://cevibasel.ch/veranstaltung/hattrick-basel-west-16-18-jahre-141/
LOCATION:Fussballfelder Pfaffenholz
END:VEVENT
BEGIN:VEVENT
DTSTART;VALUE=DATE:20260131
DTEND;VALUE=DATE:20260201
DTSTAMP:20260423T202910
CREATED:20251119T113307Z
LAST-MODIFIED:20260131T225022Z
UID:169861-1769817600-1769903999@cevibasel.ch
SUMMARY:Jungschar Angebote
DESCRIPTION:
URL:https://cevibasel.ch/veranstaltung/jungscharangebote-5/
END:VEVENT
BEGIN:VEVENT
DTSTART;TZID=Europe/Zurich:20260131T133000
DTEND;TZID=Europe/Zurich:20260131T153000
DTSTAMP:20260423T202910
CREATED:20240625T140435Z
LAST-MODIFIED:20251120T120550Z
UID:122952-1769866200-1769873400@cevibasel.ch
SUMMARY:Hattrick Gundeli (6-11 Jahre)
DESCRIPTION:
URL:https://cevibasel.ch/veranstaltung/hattrick-gundeli-6-11-jahre-141/
LOCATION:Margarethenpark
END:VEVENT
BEGIN:VEVENT
DTSTART;TZID=Europe/Zurich:20260131T140000
DTEND;TZID=Europe/Zurich:20260131T170000
DTSTAMP:20260423T202910
CREATED:20240625T140328Z
LAST-MODIFIED:20251119T105015Z
UID:122943-1769868000-1769878800@cevibasel.ch
SUMMARY:Jungschi Bubendorf
DESCRIPTION:
URL:https://cevibasel.ch/veranstaltung/jungschi-bubendorf-141/
END:VEVENT
BEGIN:VEVENT
DTSTART;TZID=Europe/Zurich:20260131T140000
DTEND;TZID=Europe/Zurich:20260131T170000
DTSTAMP:20260423T202910
CREATED:20240625T140328Z
LAST-MODIFIED:20251119T102915Z
UID:122944-1769868000-1769878800@cevibasel.ch
SUMMARY:Jungschi Thomas
DESCRIPTION:
URL:https://cevibasel.ch/veranstaltung/jungschi-thomas-141/
END:VEVENT
BEGIN:VEVENT
DTSTART;TZID=Europe/Zurich:20260131T140000
DTEND;TZID=Europe/Zurich:20260131T170000
DTSTAMP:20260423T202910
CREATED:20240625T140435Z
LAST-MODIFIED:20241105T110129Z
UID:122950-1769868000-1769878800@cevibasel.ch
SUMMARY:Jungschi Muttenz
DESCRIPTION:
URL:https://cevibasel.ch/veranstaltung/jungschi-muttenz-141/
END:VEVENT
BEGIN:VEVENT
DTSTART;TZID=Europe/Zurich:20260131T140000
DTEND;TZID=Europe/Zurich:20260131T170000
DTSTAMP:20260423T202910
CREATED:20240625T140435Z
LAST-MODIFIED:20251119T102915Z
UID:122951-1769868000-1769878800@cevibasel.ch
SUMMARY:Jungschi Binningen
DESCRIPTION:
URL:https://cevibasel.ch/veranstaltung/jungschi-binningen-141/
END:VEVENT
BEGIN:VEVENT
DTSTART;TZID=Europe/Zurich:20260131T200000
DTEND;TZID=Europe/Zurich:20260131T233000
DTSTAMP:20260423T202910
CREATED:20251204T110533Z
LAST-MODIFIED:20260131T222014Z
UID:170273-1769889600-1769902200@cevibasel.ch
SUMMARY:Faith Hub
DESCRIPTION:
URL:https://cevibasel.ch/veranstaltung/faith-hub/
END:VEVENT
BEGIN:VEVENT
DTSTART;TZID=Europe/Zurich:20260202T190000
DTEND;TZID=Europe/Zurich:20260202T203000
DTSTAMP:20260423T202910
CREATED:20240625T140436Z
LAST-MODIFIED:20260202T192155Z
UID:122954-1770058800-1770064200@cevibasel.ch
SUMMARY:Hattrick Men\, 19.00-20.30
DESCRIPTION:
URL:https://cevibasel.ch/veranstaltung/hattrick-men-19-00-20-30-176/
LOCATION:Fussballfelder Pfaffenholz
END:VEVENT
BEGIN:VEVENT
DTSTART;TZID=Europe/Zurich:20260202T203000
DTEND;TZID=Europe/Zurich:20260202T220000
DTSTAMP:20260423T202910
CREATED:20240625T140435Z
LAST-MODIFIED:20260202T204958Z
UID:122953-1770064200-1770069600@cevibasel.ch
SUMMARY:Hattrick Ladies\, 20.30-22.00
DESCRIPTION:
URL:https://cevibasel.ch/veranstaltung/hattrick-ladies-20-30-22-00-177/
LOCATION:Fussballfelder Pfaffenholz
END:VEVENT
BEGIN:VEVENT
DTSTART;TZID=Europe/Zurich:20260203T173000
DTEND;TZID=Europe/Zurich:20260203T190000
DTSTAMP:20260423T202910
CREATED:20240625T140437Z
LAST-MODIFIED:20260203T175001Z
UID:122955-1770139800-1770145200@cevibasel.ch
SUMMARY:Hattrick Riehen (1. bis 3. Klasse)
DESCRIPTION:
URL:https://cevibasel.ch/veranstaltung/hattrick-riehen-1-bis-3-klasse-142/
LOCATION:Fussballplatz Andreasmatte
END:VEVENT
BEGIN:VEVENT
DTSTART;TZID=Europe/Zurich:20260203T180000
DTEND;TZID=Europe/Zurich:20260203T193000
DTSTAMP:20260423T202910
CREATED:20240625T140437Z
LAST-MODIFIED:20260203T182033Z
UID:122957-1770141600-1770147000@cevibasel.ch
SUMMARY:Hattrick Gellert (7-12 Jahre)
DESCRIPTION:
URL:https://cevibasel.ch/veranstaltung/hattrick-gellert-7-12-jahre-142/
LOCATION:Fussballplatz Luftmatt
END:VEVENT
BEGIN:VEVENT
DTSTART;TZID=Europe/Zurich:20260203T190000
DTEND;TZID=Europe/Zurich:20260203T203000
DTSTAMP:20260423T202910
CREATED:20240625T140437Z
LAST-MODIFIED:20260203T191950Z
UID:122956-1770145200-1770150600@cevibasel.ch
SUMMARY:Hattrick Riehen (6. bis 7. Klasse)
DESCRIPTION:
URL:https://cevibasel.ch/veranstaltung/hattrick-riehen-6-bis-7-klasse-142/
LOCATION:Fussballplatz Andreasmatte
END:VEVENT
BEGIN:VEVENT
DTSTART;TZID=Europe/Zurich:20260203T190000
DTEND;TZID=Europe/Zurich:20260203T220000
DTSTAMP:20260423T202910
CREATED:20251028T140150Z
LAST-MODIFIED:20260203T204951Z
UID:169532-1770145200-1770156000@cevibasel.ch
SUMMARY:Input Werkstatt
DESCRIPTION:
URL:https://cevibasel.ch/veranstaltung/input-werkstatt/
END:VEVENT
BEGIN:VEVENT
DTSTART;TZID=Europe/Zurich:20260204T083000
DTEND;TZID=Europe/Zurich:20260204T110000
DTSTAMP:20260423T202910
CREATED:20240812T214938Z
LAST-MODIFIED:20260204T095033Z
UID:128041-1770193800-1770202800@cevibasel.ch
SUMMARY:Mütterngruppe
DESCRIPTION:
URL:https://cevibasel.ch/veranstaltung/mutterngruppe-352/
LOCATION:Cevi Seki
END:VEVENT
BEGIN:VEVENT
DTSTART;TZID=Europe/Zurich:20260204T183000
DTEND;TZID=Europe/Zurich:20260204T210000
DTSTAMP:20260423T202910
CREATED:20240625T140437Z
LAST-MODIFIED:20260204T194947Z
UID:122958-1770229800-1770238800@cevibasel.ch
SUMMARY:Ten Sing
DESCRIPTION:
URL:https://cevibasel.ch/veranstaltung/ten-sing-141/
LOCATION:CVJM Haus Kleinbasel
END:VEVENT
BEGIN:VEVENT
DTSTART;TZID=Europe/Zurich:20260205T080000
DTEND;TZID=Europe/Zurich:20260205T103000
DTSTAMP:20260423T202910
CREATED:20240625T140438Z
LAST-MODIFIED:20240812T084914Z
UID:122959-1770278400-1770287400@cevibasel.ch
SUMMARY:Mütterngruppe
DESCRIPTION:
URL:https://cevibasel.ch/veranstaltung/muetterngruppe-81/
LOCATION:Cevi Seki
END:VEVENT
BEGIN:VEVENT
DTSTART;TZID=Europe/Zurich:20260206T173000
DTEND;TZID=Europe/Zurich:20260206T190000
DTSTAMP:20260423T202910
CREATED:20240625T140439Z
LAST-MODIFIED:20260206T031959Z
UID:122961-1770399000-1770404400@cevibasel.ch
SUMMARY:Hattrick Basel West (7-15 Jahre)
DESCRIPTION:
URL:https://cevibasel.ch/veranstaltung/hattrick-basel-west-7-15-jahre-142/
END:VEVENT
BEGIN:VEVENT
DTSTART;TZID=Europe/Zurich:20260206T173000
DTEND;TZID=Europe/Zurich:20260206T190000
DTSTAMP:20260423T202910
CREATED:20240625T140439Z
LAST-MODIFIED:20260206T031959Z
UID:122960-1770399000-1770404400@cevibasel.ch
SUMMARY:Hattrick Riehen (4. bis 5. Klasse)
DESCRIPTION:
URL:https://cevibasel.ch/veranstaltung/hattrick-riehen-4-bis-5-klasse-142/
LOCATION:Andreasmatte
END:VEVENT
BEGIN:VEVENT
DTSTART;TZID=Europe/Zurich:20260206T190000
DTEND;TZID=Europe/Zurich:20260206T203000
DTSTAMP:20260423T202910
CREATED:20240625T140439Z
LAST-MODIFIED:20260206T031959Z
UID:122962-1770404400-1770409800@cevibasel.ch
SUMMARY:Hattrick Basel West (16-18 Jahre)
DESCRIPTION:
URL:https://cevibasel.ch/veranstaltung/hattrick-basel-west-16-18-jahre-142/
LOCATION:Fussballfelder Pfaffenholz
END:VEVENT
BEGIN:VEVENT
DTSTART;VALUE=DATE:20260207
DTEND;VALUE=DATE:20260208
DTSTAMP:20260423T202910
CREATED:20251119T113402Z
LAST-MODIFIED:20260206T031959Z
UID:169862-1770422400-1770508799@cevibasel.ch
SUMMARY:Jungschar Angebote
DESCRIPTION:
URL:https://cevibasel.ch/veranstaltung/jungscharangebote-6/
END:VEVENT
BEGIN:VEVENT
DTSTART;TZID=Europe/Zurich:20260207T133000
DTEND;TZID=Europe/Zurich:20260207T153000
DTSTAMP:20260423T202910
CREATED:20240625T140443Z
LAST-MODIFIED:20251120T120554Z
UID:122967-1770471000-1770478200@cevibasel.ch
SUMMARY:Hattrick Gundeli (6-11 Jahre)
DESCRIPTION:
URL:https://cevibasel.ch/veranstaltung/hattrick-gundeli-6-11-jahre-142/
LOCATION:Margarethenpark
END:VEVENT
BEGIN:VEVENT
DTSTART;TZID=Europe/Zurich:20260207T140000
DTEND;TZID=Europe/Zurich:20260207T170000
DTSTAMP:20260423T202910
CREATED:20240625T140440Z
LAST-MODIFIED:20251119T103330Z
UID:122963-1770472800-1770483600@cevibasel.ch
SUMMARY:Jungschi Allschwil
DESCRIPTION:
URL:https://cevibasel.ch/veranstaltung/jungschi-allschwil-142/
END:VEVENT
BEGIN:VEVENT
DTSTART;TZID=Europe/Zurich:20260207T140000
DTEND;TZID=Europe/Zurich:20260207T170000
DTSTAMP:20260423T202910
CREATED:20240625T140440Z
LAST-MODIFIED:20251119T103517Z
UID:122964-1770472800-1770483600@cevibasel.ch
SUMMARY:Jungschi Gotthelf-Neubad
DESCRIPTION:
URL:https://cevibasel.ch/veranstaltung/jungschi-gotthelf-neubad-142/
END:VEVENT
BEGIN:VEVENT
DTSTART;TZID=Europe/Zurich:20260207T140000
DTEND;TZID=Europe/Zurich:20260207T170000
DTSTAMP:20260423T202910
CREATED:20240625T140443Z
LAST-MODIFIED:20251119T103330Z
UID:122966-1770472800-1770483600@cevibasel.ch
SUMMARY:Jungschi Thomas
DESCRIPTION:
URL:https://cevibasel.ch/veranstaltung/jungschi-thomas-142/
END:VEVENT
BEGIN:VEVENT
DTSTART;TZID=Europe/Zurich:20260207T140000
DTEND;TZID=Europe/Zurich:20260207T170000
DTSTAMP:20260423T202910
CREATED:20240625T140443Z
LAST-MODIFIED:20241105T110133Z
UID:122965-1770472800-1770483600@cevibasel.ch
SUMMARY:Jungschi Muttenz
DESCRIPTION:
URL:https://cevibasel.ch/veranstaltung/jungschi-muttenz-142/
END:VEVENT
BEGIN:VEVENT
DTSTART;TZID=Europe/Zurich:20260207T140000
DTEND;TZID=Europe/Zurich:20260207T170000
DTSTAMP:20260423T202910
CREATED:20240625T140444Z
LAST-MODIFIED:20251119T103517Z
UID:122968-1770472800-1770483600@cevibasel.ch
SUMMARY:Jungschi Bubendorf
DESCRIPTION:
URL:https://cevibasel.ch/veranstaltung/jungschi-bubendorf-142/
END:VEVENT
BEGIN:VEVENT
DTSTART;TZID=Europe/Zurich:20260207T140000
DTEND;TZID=Europe/Zurich:20260207T170000
DTSTAMP:20260423T202910
CREATED:20240625T140444Z
LAST-MODIFIED:20251119T103517Z
UID:122969-1770472800-1770483600@cevibasel.ch
SUMMARY:Jungschi Titus
DESCRIPTION:
URL:https://cevibasel.ch/veranstaltung/jungschi-titus-142/
END:VEVENT
END:VCALENDAR