BEGIN:VCALENDAR
VERSION:2.0
PRODID:-//Cevi Region Basel - ECPv6.15.20//NONSGML v1.0//EN
CALSCALE:GREGORIAN
METHOD:PUBLISH
X-WR-CALNAME:Cevi Region Basel
X-ORIGINAL-URL:https://cevibasel.ch
X-WR-CALDESC:Events for Cevi Region Basel
REFRESH-INTERVAL;VALUE=DURATION:PT1H
X-Robots-Tag:noindex
X-PUBLISHED-TTL:PT1H
BEGIN:VTIMEZONE
TZID:Europe/Zurich
BEGIN:DAYLIGHT
TZOFFSETFROM:+0100
TZOFFSETTO:+0200
TZNAME:CEST
DTSTART:20250330T010000
END:DAYLIGHT
BEGIN:STANDARD
TZOFFSETFROM:+0200
TZOFFSETTO:+0100
TZNAME:CET
DTSTART:20251026T010000
END:STANDARD
BEGIN:DAYLIGHT
TZOFFSETFROM:+0100
TZOFFSETTO:+0200
TZNAME:CEST
DTSTART:20260329T010000
END:DAYLIGHT
BEGIN:STANDARD
TZOFFSETFROM:+0200
TZOFFSETTO:+0100
TZNAME:CET
DTSTART:20261025T010000
END:STANDARD
BEGIN:DAYLIGHT
TZOFFSETFROM:+0100
TZOFFSETTO:+0200
TZNAME:CEST
DTSTART:20270328T010000
END:DAYLIGHT
BEGIN:STANDARD
TZOFFSETFROM:+0200
TZOFFSETTO:+0100
TZNAME:CET
DTSTART:20271031T010000
END:STANDARD
END:VTIMEZONE
BEGIN:VEVENT
DTSTART;TZID=Europe/Zurich:20260727T190000
DTEND;TZID=Europe/Zurich:20260727T203000
DTSTAMP:20260423T132103
CREATED:20240727T140243Z
LAST-MODIFIED:20260206T033400Z
UID:126168-1785178800-1785184200@cevibasel.ch
SUMMARY:Hattrick Men\, 19.00-20.30
DESCRIPTION:
URL:https://cevibasel.ch/veranstaltung/hattrick-men-19-00-20-30-201/
LOCATION:Fussballfelder Pfaffenholz
END:VEVENT
BEGIN:VEVENT
DTSTART;TZID=Europe/Zurich:20260727T203000
DTEND;TZID=Europe/Zurich:20260727T220000
DTSTAMP:20260423T132103
CREATED:20240727T140243Z
LAST-MODIFIED:20260206T033401Z
UID:126167-1785184200-1785189600@cevibasel.ch
SUMMARY:Hattrick Ladies\, 20.30-22.00
DESCRIPTION:
URL:https://cevibasel.ch/veranstaltung/hattrick-ladies-20-30-22-00-202/
LOCATION:Fussballfelder Pfaffenholz
END:VEVENT
BEGIN:VEVENT
DTSTART;TZID=Europe/Zurich:20260728T173000
DTEND;TZID=Europe/Zurich:20260728T190000
DTSTAMP:20260423T132103
CREATED:20240728T001925Z
LAST-MODIFIED:20260206T033418Z
UID:126176-1785259800-1785265200@cevibasel.ch
SUMMARY:Hattrick Riehen (1. bis 3. Klasse)
DESCRIPTION:
URL:https://cevibasel.ch/veranstaltung/hattrick-riehen-1-bis-3-klasse-167/
LOCATION:Fussballplatz Andreasmatte
END:VEVENT
BEGIN:VEVENT
DTSTART;TZID=Europe/Zurich:20260728T180000
DTEND;TZID=Europe/Zurich:20260728T193000
DTSTAMP:20260423T132103
CREATED:20240728T001925Z
LAST-MODIFIED:20260206T033418Z
UID:126178-1785261600-1785267000@cevibasel.ch
SUMMARY:Hattrick Gellert (7-12 Jahre)
DESCRIPTION:
URL:https://cevibasel.ch/veranstaltung/hattrick-gellert-7-12-jahre-167/
LOCATION:Fussballplatz Luftmatt
END:VEVENT
BEGIN:VEVENT
DTSTART;TZID=Europe/Zurich:20260728T190000
DTEND;TZID=Europe/Zurich:20260728T203000
DTSTAMP:20260423T132103
CREATED:20240728T001925Z
LAST-MODIFIED:20260206T033418Z
UID:126177-1785265200-1785270600@cevibasel.ch
SUMMARY:Hattrick Riehen (6. bis 7. Klasse)
DESCRIPTION:
URL:https://cevibasel.ch/veranstaltung/hattrick-riehen-6-bis-7-klasse-167/
LOCATION:Fussballplatz Andreasmatte
END:VEVENT
BEGIN:VEVENT
DTSTART;TZID=Europe/Zurich:20260729T183000
DTEND;TZID=Europe/Zurich:20260729T210000
DTSTAMP:20260423T132103
CREATED:20240729T043420Z
LAST-MODIFIED:20260206T033418Z
UID:126192-1785349800-1785358800@cevibasel.ch
SUMMARY:Ten Sing
DESCRIPTION:
URL:https://cevibasel.ch/veranstaltung/ten-sing-166/
LOCATION:CVJM Haus Kleinbasel
END:VEVENT
BEGIN:VEVENT
DTSTART;TZID=Europe/Zurich:20260730T083000
DTEND;TZID=Europe/Zurich:20260730T113000
DTSTAMP:20260423T132103
CREATED:20240815T050256Z
LAST-MODIFIED:20241214T033441Z
UID:129316-1785400200-1785411000@cevibasel.ch
SUMMARY:Mütterngruppe
DESCRIPTION:
URL:https://cevibasel.ch/veranstaltung/mutterngruppe-473/
LOCATION:Cevi Seki
END:VEVENT
BEGIN:VEVENT
DTSTART;TZID=Europe/Zurich:20260730T083000
DTEND;TZID=Europe/Zurich:20260730T113000
DTSTAMP:20260423T132103
CREATED:20240815T050256Z
LAST-MODIFIED:20241214T033439Z
UID:129317-1785400200-1785411000@cevibasel.ch
SUMMARY:Mütterngruppe
DESCRIPTION:
URL:https://cevibasel.ch/veranstaltung/mutterngruppe-474/
LOCATION:Cevi Seki
END:VEVENT
BEGIN:VEVENT
DTSTART;TZID=Europe/Zurich:20260730T083000
DTEND;TZID=Europe/Zurich:20260730T113000
DTSTAMP:20260423T132103
CREATED:20240815T050256Z
LAST-MODIFIED:20241214T033441Z
UID:129318-1785400200-1785411000@cevibasel.ch
SUMMARY:Mütterngruppe
DESCRIPTION:
URL:https://cevibasel.ch/veranstaltung/mutterngruppe-475/
LOCATION:Cevi Seki
END:VEVENT
BEGIN:VEVENT
DTSTART;TZID=Europe/Zurich:20260730T083000
DTEND;TZID=Europe/Zurich:20260730T113000
DTSTAMP:20260423T132103
CREATED:20240815T050258Z
LAST-MODIFIED:20260206T033418Z
UID:129320-1785400200-1785411000@cevibasel.ch
SUMMARY:Mütterngruppe
DESCRIPTION:
URL:https://cevibasel.ch/veranstaltung/mutterngruppe-477/
LOCATION:Cevi Seki
END:VEVENT
BEGIN:VEVENT
DTSTART;TZID=Europe/Zurich:20260730T083000
DTEND;TZID=Europe/Zurich:20260730T113000
DTSTAMP:20260423T132103
CREATED:20240815T050258Z
LAST-MODIFIED:20241214T033439Z
UID:129321-1785400200-1785411000@cevibasel.ch
SUMMARY:Mütterngruppe
DESCRIPTION:
URL:https://cevibasel.ch/veranstaltung/mutterngruppe-478/
LOCATION:Cevi Seki
END:VEVENT
BEGIN:VEVENT
DTSTART;TZID=Europe/Zurich:20260730T083000
DTEND;TZID=Europe/Zurich:20260730T113000
DTSTAMP:20260423T132103
CREATED:20240815T050258Z
LAST-MODIFIED:20241214T033439Z
UID:129322-1785400200-1785411000@cevibasel.ch
SUMMARY:Mütterngruppe
DESCRIPTION:
URL:https://cevibasel.ch/veranstaltung/mutterngruppe-479/
LOCATION:Cevi Seki
END:VEVENT
BEGIN:VEVENT
DTSTART;TZID=Europe/Zurich:20260730T083000
DTEND;TZID=Europe/Zurich:20260730T113000
DTSTAMP:20260423T132103
CREATED:20240815T050258Z
LAST-MODIFIED:20241214T033439Z
UID:129323-1785400200-1785411000@cevibasel.ch
SUMMARY:Mütterngruppe
DESCRIPTION:
URL:https://cevibasel.ch/veranstaltung/mutterngruppe-480/
LOCATION:Cevi Seki
END:VEVENT
BEGIN:VEVENT
DTSTART;TZID=Europe/Zurich:20260730T083000
DTEND;TZID=Europe/Zurich:20260730T113000
DTSTAMP:20260423T132103
CREATED:20240815T050258Z
LAST-MODIFIED:20241214T033441Z
UID:129319-1785400200-1785411000@cevibasel.ch
SUMMARY:Mütterngruppe
DESCRIPTION:
URL:https://cevibasel.ch/veranstaltung/mutterngruppe-476/
LOCATION:Cevi Seki
END:VEVENT
BEGIN:VEVENT
DTSTART;TZID=Europe/Zurich:20260730T083000
DTEND;TZID=Europe/Zurich:20260730T113000
DTSTAMP:20260423T132103
CREATED:20240815T050302Z
LAST-MODIFIED:20241214T033441Z
UID:129324-1785400200-1785411000@cevibasel.ch
SUMMARY:Mütterngruppe
DESCRIPTION:
URL:https://cevibasel.ch/veranstaltung/mutterngruppe-481/
LOCATION:Cevi Seki
END:VEVENT
BEGIN:VEVENT
DTSTART;TZID=Europe/Zurich:20260731T173000
DTEND;TZID=Europe/Zurich:20260731T190000
DTSTAMP:20260423T132103
CREATED:20240731T161930Z
LAST-MODIFIED:20260206T033431Z
UID:126209-1785519000-1785524400@cevibasel.ch
SUMMARY:Hattrick Basel West (7-15 Jahre)
DESCRIPTION:
URL:https://cevibasel.ch/veranstaltung/hattrick-basel-west-7-15-jahre-167/
END:VEVENT
BEGIN:VEVENT
DTSTART;TZID=Europe/Zurich:20260731T173000
DTEND;TZID=Europe/Zurich:20260731T190000
DTSTAMP:20260423T132103
CREATED:20240731T161933Z
LAST-MODIFIED:20260206T033431Z
UID:126211-1785519000-1785524400@cevibasel.ch
SUMMARY:Hattrick Riehen (4. bis 5. Klasse)
DESCRIPTION:
URL:https://cevibasel.ch/veranstaltung/hattrick-riehen-4-bis-5-klasse-167/
LOCATION:Andreasmatte
END:VEVENT
BEGIN:VEVENT
DTSTART;TZID=Europe/Zurich:20260731T190000
DTEND;TZID=Europe/Zurich:20260731T203000
DTSTAMP:20260423T132103
CREATED:20240731T161933Z
LAST-MODIFIED:20260206T033431Z
UID:126210-1785524400-1785529800@cevibasel.ch
SUMMARY:Hattrick Basel West (16-18 Jahre)
DESCRIPTION:
URL:https://cevibasel.ch/veranstaltung/hattrick-basel-west-16-18-jahre-167/
LOCATION:Fussballfelder Pfaffenholz
END:VEVENT
BEGIN:VEVENT
DTSTART;VALUE=DATE:20260801
DTEND;VALUE=DATE:20260802
DTSTAMP:20260423T132103
CREATED:20251120T030255Z
LAST-MODIFIED:20260206T033431Z
UID:169910-1785542400-1785628799@cevibasel.ch
SUMMARY:Jungschar Angebote
DESCRIPTION:
URL:https://cevibasel.ch/veranstaltung/jungscharangebote-31/
END:VEVENT
BEGIN:VEVENT
DTSTART;TZID=Europe/Zurich:20260801T080000
DTEND;TZID=Europe/Zurich:20260801T160000
DTSTAMP:20260423T132103
CREATED:20250625T133230Z
LAST-MODIFIED:20260206T033431Z
UID:162452-1785571200-1785600000@cevibasel.ch
SUMMARY:Cevi Action Day Wakeboarding
DESCRIPTION:
URL:https://cevibasel.ch/veranstaltung/cevi-action-day-wakeboarding-3/
END:VEVENT
BEGIN:VEVENT
DTSTART;TZID=Europe/Zurich:20260801T133000
DTEND;TZID=Europe/Zurich:20260801T153000
DTSTAMP:20260423T132103
CREATED:20240801T004631Z
LAST-MODIFIED:20251120T120723Z
UID:126226-1785591000-1785598200@cevibasel.ch
SUMMARY:Hattrick Gundeli (6-11 Jahre)
DESCRIPTION:
URL:https://cevibasel.ch/veranstaltung/hattrick-gundeli-6-11-jahre-167/
LOCATION:Margarethenpark
END:VEVENT
BEGIN:VEVENT
DTSTART;TZID=Europe/Zurich:20260801T140000
DTEND;TZID=Europe/Zurich:20260801T170000
DTSTAMP:20260423T132103
CREATED:20240801T004630Z
LAST-MODIFIED:20241105T080335Z
UID:126222-1785592800-1785603600@cevibasel.ch
SUMMARY:Jungschi Muttenz
DESCRIPTION:
URL:https://cevibasel.ch/veranstaltung/jungschi-muttenz-167/
END:VEVENT
BEGIN:VEVENT
DTSTART;TZID=Europe/Zurich:20260801T140000
DTEND;TZID=Europe/Zurich:20260801T170000
DTSTAMP:20260423T132103
CREATED:20240801T004630Z
LAST-MODIFIED:20251117T005415Z
UID:126223-1785592800-1785603600@cevibasel.ch
SUMMARY:Jungschi Allschwil
DESCRIPTION:
URL:https://cevibasel.ch/veranstaltung/jungschi-allschwil-167/
END:VEVENT
BEGIN:VEVENT
DTSTART;TZID=Europe/Zurich:20260801T140000
DTEND;TZID=Europe/Zurich:20260801T170000
DTSTAMP:20260423T132103
CREATED:20240801T004630Z
LAST-MODIFIED:20251117T005417Z
UID:126220-1785592800-1785603600@cevibasel.ch
SUMMARY:Jungschi Titus
DESCRIPTION:
URL:https://cevibasel.ch/veranstaltung/jungschi-titus-167/
END:VEVENT
BEGIN:VEVENT
DTSTART;TZID=Europe/Zurich:20260801T140000
DTEND;TZID=Europe/Zurich:20260801T170000
DTSTAMP:20260423T132103
CREATED:20240801T004630Z
LAST-MODIFIED:20251117T005417Z
UID:126221-1785592800-1785603600@cevibasel.ch
SUMMARY:Jungschi Gotthelf-Neubad
DESCRIPTION:
URL:https://cevibasel.ch/veranstaltung/jungschi-gotthelf-neubad-167/
END:VEVENT
BEGIN:VEVENT
DTSTART;TZID=Europe/Zurich:20260801T140000
DTEND;TZID=Europe/Zurich:20260801T170000
DTSTAMP:20260423T132103
CREATED:20240801T004631Z
LAST-MODIFIED:20251117T005417Z
UID:126227-1785592800-1785603600@cevibasel.ch
SUMMARY:Jungschi Bubendorf
DESCRIPTION:
URL:https://cevibasel.ch/veranstaltung/jungschi-bubendorf-167/
END:VEVENT
BEGIN:VEVENT
DTSTART;TZID=Europe/Zurich:20260801T140000
DTEND;TZID=Europe/Zurich:20260801T170000
DTSTAMP:20260423T132103
CREATED:20240801T004631Z
LAST-MODIFIED:20251117T005415Z
UID:126228-1785592800-1785603600@cevibasel.ch
SUMMARY:Jungschi Binningen
DESCRIPTION:
URL:https://cevibasel.ch/veranstaltung/jungschi-binningen-167/
END:VEVENT
BEGIN:VEVENT
DTSTART;TZID=Europe/Zurich:20260801T140000
DTEND;TZID=Europe/Zurich:20260801T170000
DTSTAMP:20260423T132103
CREATED:20240801T004631Z
LAST-MODIFIED:20241105T080333Z
UID:126224-1785592800-1785603600@cevibasel.ch
SUMMARY:Jungschi Reinach
DESCRIPTION:
URL:https://cevibasel.ch/veranstaltung/jungschi-reinach-167/
END:VEVENT
BEGIN:VEVENT
DTSTART;TZID=Europe/Zurich:20260801T140000
DTEND;TZID=Europe/Zurich:20260801T170000
DTSTAMP:20260423T132103
CREATED:20240801T004631Z
LAST-MODIFIED:20251117T005417Z
UID:126225-1785592800-1785603600@cevibasel.ch
SUMMARY:Jungschi Ettigen & Therwil
DESCRIPTION:
URL:https://cevibasel.ch/veranstaltung/jungschi-ettigen-therwil-167/
END:VEVENT
BEGIN:VEVENT
DTSTART;TZID=Europe/Zurich:20260801T140000
DTEND;TZID=Europe/Zurich:20260801T170000
DTSTAMP:20260423T132103
CREATED:20240801T004633Z
LAST-MODIFIED:20251117T005417Z
UID:126229-1785592800-1785603600@cevibasel.ch
SUMMARY:Jungschi Thomas
DESCRIPTION:
URL:https://cevibasel.ch/veranstaltung/jungschi-thomas-167/
END:VEVENT
END:VCALENDAR