BEGIN:VCALENDAR
VERSION:2.0
PRODID:-//Cevi Region Basel - ECPv6.15.20//NONSGML v1.0//EN
CALSCALE:GREGORIAN
METHOD:PUBLISH
X-WR-CALNAME:Cevi Region Basel
X-ORIGINAL-URL:https://cevibasel.ch
X-WR-CALDESC:Events for Cevi Region Basel
REFRESH-INTERVAL;VALUE=DURATION:PT1H
X-Robots-Tag:noindex
X-PUBLISHED-TTL:PT1H
BEGIN:VTIMEZONE
TZID:Europe/Zurich
BEGIN:DAYLIGHT
TZOFFSETFROM:+0100
TZOFFSETTO:+0200
TZNAME:CEST
DTSTART:20250330T010000
END:DAYLIGHT
BEGIN:STANDARD
TZOFFSETFROM:+0200
TZOFFSETTO:+0100
TZNAME:CET
DTSTART:20251026T010000
END:STANDARD
BEGIN:DAYLIGHT
TZOFFSETFROM:+0100
TZOFFSETTO:+0200
TZNAME:CEST
DTSTART:20260329T010000
END:DAYLIGHT
BEGIN:STANDARD
TZOFFSETFROM:+0200
TZOFFSETTO:+0100
TZNAME:CET
DTSTART:20261025T010000
END:STANDARD
BEGIN:DAYLIGHT
TZOFFSETFROM:+0100
TZOFFSETTO:+0200
TZNAME:CEST
DTSTART:20270328T010000
END:DAYLIGHT
BEGIN:STANDARD
TZOFFSETFROM:+0200
TZOFFSETTO:+0100
TZNAME:CET
DTSTART:20271031T010000
END:STANDARD
END:VTIMEZONE
BEGIN:VEVENT
DTSTART;TZID=Europe/Zurich:20260818T173000
DTEND;TZID=Europe/Zurich:20260818T190000
DTSTAMP:20260423T132114
CREATED:20240818T185934Z
LAST-MODIFIED:20260205T231319Z
UID:129436-1787074200-1787079600@cevibasel.ch
SUMMARY:Hattrick Riehen (1. bis 3. Klasse)
DESCRIPTION:
URL:https://cevibasel.ch/veranstaltung/hattrick-riehen-1-bis-3-klasse-170/
LOCATION:Fussballplatz Andreasmatte
END:VEVENT
BEGIN:VEVENT
DTSTART;TZID=Europe/Zurich:20260818T180000
DTEND;TZID=Europe/Zurich:20260818T193000
DTSTAMP:20260423T132114
CREATED:20240818T185934Z
LAST-MODIFIED:20260205T231319Z
UID:129435-1787076000-1787081400@cevibasel.ch
SUMMARY:Hattrick Gellert (7-12 Jahre)
DESCRIPTION:
URL:https://cevibasel.ch/veranstaltung/hattrick-gellert-7-12-jahre-170/
LOCATION:Fussballplatz Luftmatt
END:VEVENT
BEGIN:VEVENT
DTSTART;TZID=Europe/Zurich:20260818T180000
DTEND;TZID=Europe/Zurich:20260818T220000
DTSTAMP:20260423T132114
CREATED:20251023T045602Z
LAST-MODIFIED:20260205T231319Z
UID:169443-1787076000-1787090400@cevibasel.ch
SUMMARY:Sommernachtsfest
DESCRIPTION:
URL:https://cevibasel.ch/veranstaltung/sommernachtsfest-9/
END:VEVENT
BEGIN:VEVENT
DTSTART;TZID=Europe/Zurich:20260818T190000
DTEND;TZID=Europe/Zurich:20260818T203000
DTSTAMP:20260423T132114
CREATED:20240818T185933Z
LAST-MODIFIED:20260205T231319Z
UID:129434-1787079600-1787085000@cevibasel.ch
SUMMARY:Hattrick Riehen (6. bis 7. Klasse)
DESCRIPTION:
URL:https://cevibasel.ch/veranstaltung/hattrick-riehen-6-bis-7-klasse-170/
LOCATION:Fussballplatz Andreasmatte
END:VEVENT
BEGIN:VEVENT
DTSTART;TZID=Europe/Zurich:20260819T083000
DTEND;TZID=Europe/Zurich:20260819T110000
DTSTAMP:20260423T132114
CREATED:20240819T011858Z
LAST-MODIFIED:20260205T231319Z
UID:129444-1787128200-1787137200@cevibasel.ch
SUMMARY:Mütterngruppe
DESCRIPTION:
URL:https://cevibasel.ch/veranstaltung/mutterngruppe-492/
LOCATION:Cevi Seki
END:VEVENT
BEGIN:VEVENT
DTSTART;TZID=Europe/Zurich:20260819T183000
DTEND;TZID=Europe/Zurich:20260819T210000
DTSTAMP:20260423T132114
CREATED:20240819T011858Z
LAST-MODIFIED:20260205T231320Z
UID:129445-1787164200-1787173200@cevibasel.ch
SUMMARY:Ten Sing
DESCRIPTION:
URL:https://cevibasel.ch/veranstaltung/ten-sing-169/
LOCATION:CVJM Haus Kleinbasel
END:VEVENT
BEGIN:VEVENT
DTSTART;VALUE=DATE:20260821
DTEND;VALUE=DATE:20260824
DTSTAMP:20260423T132114
CREATED:20251120T030334Z
LAST-MODIFIED:20260205T231320Z
UID:169913-1787270400-1787529599@cevibasel.ch
SUMMARY:Konekta 26
DESCRIPTION:
URL:https://cevibasel.ch/veranstaltung/konekta-26/
END:VEVENT
BEGIN:VEVENT
DTSTART;TZID=Europe/Zurich:20260821T173000
DTEND;TZID=Europe/Zurich:20260821T190000
DTSTAMP:20260423T132114
CREATED:20240823T200212Z
LAST-MODIFIED:20260205T231320Z
UID:129493-1787333400-1787338800@cevibasel.ch
SUMMARY:Hattrick Basel West (7-15 Jahre)
DESCRIPTION:
URL:https://cevibasel.ch/veranstaltung/hattrick-basel-west-7-15-jahre-170/
END:VEVENT
BEGIN:VEVENT
DTSTART;TZID=Europe/Zurich:20260821T173000
DTEND;TZID=Europe/Zurich:20260821T190000
DTSTAMP:20260423T132114
CREATED:20240823T200212Z
LAST-MODIFIED:20260205T231320Z
UID:129494-1787333400-1787338800@cevibasel.ch
SUMMARY:Hattrick Riehen (4. bis 5. Klasse)
DESCRIPTION:
URL:https://cevibasel.ch/veranstaltung/hattrick-riehen-4-bis-5-klasse-170/
LOCATION:Andreasmatte
END:VEVENT
BEGIN:VEVENT
DTSTART;TZID=Europe/Zurich:20260821T190000
DTEND;TZID=Europe/Zurich:20260821T203000
DTSTAMP:20260423T132114
CREATED:20240823T200212Z
LAST-MODIFIED:20260205T231320Z
UID:129492-1787338800-1787344200@cevibasel.ch
SUMMARY:Hattrick Basel West (16-18 Jahre)
DESCRIPTION:
URL:https://cevibasel.ch/veranstaltung/hattrick-basel-west-16-18-jahre-170/
LOCATION:Fussballfelder Pfaffenholz
END:VEVENT
BEGIN:VEVENT
DTSTART;VALUE=DATE:20260822
DTEND;VALUE=DATE:20260823
DTSTAMP:20260423T132114
CREATED:20251120T030337Z
LAST-MODIFIED:20260205T231333Z
UID:169914-1787356800-1787443199@cevibasel.ch
SUMMARY:Jungschar Angebote
DESCRIPTION:
URL:https://cevibasel.ch/veranstaltung/jungscharangebote-34/
END:VEVENT
BEGIN:VEVENT
DTSTART;TZID=Europe/Zurich:20260822T133000
DTEND;TZID=Europe/Zurich:20260822T153000
DTSTAMP:20260423T132114
CREATED:20240823T200215Z
LAST-MODIFIED:20251120T120739Z
UID:129504-1787405400-1787412600@cevibasel.ch
SUMMARY:Hattrick Gundeli (6-11 Jahre)
DESCRIPTION:
URL:https://cevibasel.ch/veranstaltung/hattrick-gundeli-6-11-jahre-170/
LOCATION:Margarethenpark
END:VEVENT
BEGIN:VEVENT
DTSTART;TZID=Europe/Zurich:20260822T140000
DTEND;TZID=Europe/Zurich:20260822T170000
DTSTAMP:20260423T132114
CREATED:20240823T200212Z
LAST-MODIFIED:20251117T005431Z
UID:129495-1787407200-1787418000@cevibasel.ch
SUMMARY:Jungschi Gotthelf-Neubad
DESCRIPTION:
URL:https://cevibasel.ch/veranstaltung/jungschi-gotthelf-neubad-170/
END:VEVENT
BEGIN:VEVENT
DTSTART;TZID=Europe/Zurich:20260822T140000
DTEND;TZID=Europe/Zurich:20260822T170000
DTSTAMP:20260423T132114
CREATED:20240823T200213Z
LAST-MODIFIED:20251117T005430Z
UID:129498-1787407200-1787418000@cevibasel.ch
SUMMARY:Jungschi Titus
DESCRIPTION:
URL:https://cevibasel.ch/veranstaltung/jungschi-titus-170/
END:VEVENT
BEGIN:VEVENT
DTSTART;TZID=Europe/Zurich:20260822T140000
DTEND;TZID=Europe/Zurich:20260822T170000
DTSTAMP:20260423T132114
CREATED:20240823T200213Z
LAST-MODIFIED:20251117T005429Z
UID:129496-1787407200-1787418000@cevibasel.ch
SUMMARY:Jungschi Bubendorf
DESCRIPTION:
URL:https://cevibasel.ch/veranstaltung/jungschi-bubendorf-170/
END:VEVENT
BEGIN:VEVENT
DTSTART;TZID=Europe/Zurich:20260822T140000
DTEND;TZID=Europe/Zurich:20260822T170000
DTSTAMP:20260423T132114
CREATED:20240823T200213Z
LAST-MODIFIED:20251117T005430Z
UID:129497-1787407200-1787418000@cevibasel.ch
SUMMARY:Jungschi Thomas
DESCRIPTION:
URL:https://cevibasel.ch/veranstaltung/jungschi-thomas-170/
END:VEVENT
BEGIN:VEVENT
DTSTART;TZID=Europe/Zurich:20260822T140000
DTEND;TZID=Europe/Zurich:20260822T170000
DTSTAMP:20260423T132114
CREATED:20240823T200214Z
LAST-MODIFIED:20251117T005429Z
UID:129499-1787407200-1787418000@cevibasel.ch
SUMMARY:Jungschi Ettigen & Therwil
DESCRIPTION:
URL:https://cevibasel.ch/veranstaltung/jungschi-ettigen-therwil-170/
END:VEVENT
BEGIN:VEVENT
DTSTART;TZID=Europe/Zurich:20260822T140000
DTEND;TZID=Europe/Zurich:20260822T170000
DTSTAMP:20260423T132114
CREATED:20240823T200214Z
LAST-MODIFIED:20251117T005430Z
UID:129500-1787407200-1787418000@cevibasel.ch
SUMMARY:Jungschi Allschwil
DESCRIPTION:
URL:https://cevibasel.ch/veranstaltung/jungschi-allschwil-170/
END:VEVENT
BEGIN:VEVENT
DTSTART;TZID=Europe/Zurich:20260822T140000
DTEND;TZID=Europe/Zurich:20260822T170000
DTSTAMP:20260423T132114
CREATED:20240823T200215Z
LAST-MODIFIED:20241105T012937Z
UID:129503-1787407200-1787418000@cevibasel.ch
SUMMARY:Jungschi Reinach
DESCRIPTION:
URL:https://cevibasel.ch/veranstaltung/jungschi-reinach-170/
END:VEVENT
BEGIN:VEVENT
DTSTART;TZID=Europe/Zurich:20260822T140000
DTEND;TZID=Europe/Zurich:20260822T170000
DTSTAMP:20260423T132114
CREATED:20240823T200215Z
LAST-MODIFIED:20251117T005430Z
UID:129501-1787407200-1787418000@cevibasel.ch
SUMMARY:Jungschi Binningen
DESCRIPTION:
URL:https://cevibasel.ch/veranstaltung/jungschi-binningen-170/
END:VEVENT
BEGIN:VEVENT
DTSTART;TZID=Europe/Zurich:20260822T140000
DTEND;TZID=Europe/Zurich:20260822T170000
DTSTAMP:20260423T132114
CREATED:20240823T200215Z
LAST-MODIFIED:20241105T012939Z
UID:129502-1787407200-1787418000@cevibasel.ch
SUMMARY:Jungschi Muttenz
DESCRIPTION:
URL:https://cevibasel.ch/veranstaltung/jungschi-muttenz-170/
END:VEVENT
BEGIN:VEVENT
DTSTART;TZID=Europe/Zurich:20260824T190000
DTEND;TZID=Europe/Zurich:20260824T203000
DTSTAMP:20260423T132114
CREATED:20240825T094409Z
LAST-MODIFIED:20260205T231333Z
UID:129521-1787598000-1787603400@cevibasel.ch
SUMMARY:Hattrick Men\, 19.00-20.30
DESCRIPTION:
URL:https://cevibasel.ch/veranstaltung/hattrick-men-19-00-20-30-205/
LOCATION:Fussballfelder Pfaffenholz
END:VEVENT
BEGIN:VEVENT
DTSTART;TZID=Europe/Zurich:20260824T203000
DTEND;TZID=Europe/Zurich:20260824T220000
DTSTAMP:20260423T132114
CREATED:20240825T094410Z
LAST-MODIFIED:20260205T231333Z
UID:129522-1787603400-1787608800@cevibasel.ch
SUMMARY:Hattrick Ladies\, 20.30-22.00
DESCRIPTION:
URL:https://cevibasel.ch/veranstaltung/hattrick-ladies-20-30-22-00-206/
LOCATION:Fussballfelder Pfaffenholz
END:VEVENT
BEGIN:VEVENT
DTSTART;TZID=Europe/Zurich:20260825T173000
DTEND;TZID=Europe/Zurich:20260825T190000
DTSTAMP:20260423T132114
CREATED:20240825T094410Z
LAST-MODIFIED:20260205T231333Z
UID:129523-1787679000-1787684400@cevibasel.ch
SUMMARY:Hattrick Riehen (1. bis 3. Klasse)
DESCRIPTION:
URL:https://cevibasel.ch/veranstaltung/hattrick-riehen-1-bis-3-klasse-171/
LOCATION:Fussballplatz Andreasmatte
END:VEVENT
BEGIN:VEVENT
DTSTART;TZID=Europe/Zurich:20260825T180000
DTEND;TZID=Europe/Zurich:20260825T193000
DTSTAMP:20260423T132114
CREATED:20240825T094410Z
LAST-MODIFIED:20260205T231335Z
UID:129524-1787680800-1787686200@cevibasel.ch
SUMMARY:Hattrick Gellert (7-12 Jahre)
DESCRIPTION:
URL:https://cevibasel.ch/veranstaltung/hattrick-gellert-7-12-jahre-171/
LOCATION:Fussballplatz Luftmatt
END:VEVENT
BEGIN:VEVENT
DTSTART;TZID=Europe/Zurich:20260825T190000
DTEND;TZID=Europe/Zurich:20260825T203000
DTSTAMP:20260423T132114
CREATED:20240825T094410Z
LAST-MODIFIED:20260205T231333Z
UID:129525-1787684400-1787689800@cevibasel.ch
SUMMARY:Hattrick Riehen (6. bis 7. Klasse)
DESCRIPTION:
URL:https://cevibasel.ch/veranstaltung/hattrick-riehen-6-bis-7-klasse-171/
LOCATION:Fussballplatz Andreasmatte
END:VEVENT
BEGIN:VEVENT
DTSTART;TZID=Europe/Zurich:20260826T183000
DTEND;TZID=Europe/Zurich:20260826T210000
DTSTAMP:20260423T132114
CREATED:20240826T150313Z
LAST-MODIFIED:20260205T231335Z
UID:129534-1787769000-1787778000@cevibasel.ch
SUMMARY:Ten Sing
DESCRIPTION:
URL:https://cevibasel.ch/veranstaltung/ten-sing-170/
LOCATION:CVJM Haus Kleinbasel
END:VEVENT
BEGIN:VEVENT
DTSTART;TZID=Europe/Zurich:20260827T083000
DTEND;TZID=Europe/Zurich:20260827T113000
DTSTAMP:20260423T132114
CREATED:20240827T201822Z
LAST-MODIFIED:20241214T024915Z
UID:129597-1787819400-1787830200@cevibasel.ch
SUMMARY:Mütterngruppe
DESCRIPTION:
URL:https://cevibasel.ch/veranstaltung/mutterngruppe-493/
LOCATION:Cevi Seki
END:VEVENT
BEGIN:VEVENT
DTSTART;TZID=Europe/Zurich:20260827T083000
DTEND;TZID=Europe/Zurich:20260827T113000
DTSTAMP:20260423T132114
CREATED:20240827T201823Z
LAST-MODIFIED:20241214T024912Z
UID:129600-1787819400-1787830200@cevibasel.ch
SUMMARY:Mütterngruppe
DESCRIPTION:
URL:https://cevibasel.ch/veranstaltung/mutterngruppe-496/
LOCATION:Cevi Seki
END:VEVENT
BEGIN:VEVENT
DTSTART;TZID=Europe/Zurich:20260827T083000
DTEND;TZID=Europe/Zurich:20260827T113000
DTSTAMP:20260423T132114
CREATED:20240827T201823Z
LAST-MODIFIED:20241214T024912Z
UID:129601-1787819400-1787830200@cevibasel.ch
SUMMARY:Mütterngruppe
DESCRIPTION:
URL:https://cevibasel.ch/veranstaltung/mutterngruppe-497/
LOCATION:Cevi Seki
END:VEVENT
END:VCALENDAR