BEGIN:VCALENDAR
VERSION:2.0
PRODID:-//Cevi Region Basel - ECPv6.15.20//NONSGML v1.0//EN
CALSCALE:GREGORIAN
METHOD:PUBLISH
X-WR-CALNAME:Cevi Region Basel
X-ORIGINAL-URL:https://cevibasel.ch
X-WR-CALDESC:Events for Cevi Region Basel
REFRESH-INTERVAL;VALUE=DURATION:PT1H
X-Robots-Tag:noindex
X-PUBLISHED-TTL:PT1H
BEGIN:VTIMEZONE
TZID:Europe/Zurich
BEGIN:DAYLIGHT
TZOFFSETFROM:+0100
TZOFFSETTO:+0200
TZNAME:CEST
DTSTART:20250330T010000
END:DAYLIGHT
BEGIN:STANDARD
TZOFFSETFROM:+0200
TZOFFSETTO:+0100
TZNAME:CET
DTSTART:20251026T010000
END:STANDARD
BEGIN:DAYLIGHT
TZOFFSETFROM:+0100
TZOFFSETTO:+0200
TZNAME:CEST
DTSTART:20260329T010000
END:DAYLIGHT
BEGIN:STANDARD
TZOFFSETFROM:+0200
TZOFFSETTO:+0100
TZNAME:CET
DTSTART:20261025T010000
END:STANDARD
BEGIN:DAYLIGHT
TZOFFSETFROM:+0100
TZOFFSETTO:+0200
TZNAME:CEST
DTSTART:20270328T010000
END:DAYLIGHT
BEGIN:STANDARD
TZOFFSETFROM:+0200
TZOFFSETTO:+0100
TZNAME:CET
DTSTART:20271031T010000
END:STANDARD
END:VTIMEZONE
BEGIN:VEVENT
DTSTART;TZID=Europe/Zurich:20260826T183000
DTEND;TZID=Europe/Zurich:20260826T210000
DTSTAMP:20260423T132206
CREATED:20240826T150313Z
LAST-MODIFIED:20260205T231335Z
UID:129534-1787769000-1787778000@cevibasel.ch
SUMMARY:Ten Sing
DESCRIPTION:
URL:https://cevibasel.ch/veranstaltung/ten-sing-170/
LOCATION:CVJM Haus Kleinbasel
END:VEVENT
BEGIN:VEVENT
DTSTART;TZID=Europe/Zurich:20260827T083000
DTEND;TZID=Europe/Zurich:20260827T113000
DTSTAMP:20260423T132206
CREATED:20240827T201822Z
LAST-MODIFIED:20241214T024915Z
UID:129597-1787819400-1787830200@cevibasel.ch
SUMMARY:Mütterngruppe
DESCRIPTION:
URL:https://cevibasel.ch/veranstaltung/mutterngruppe-493/
LOCATION:Cevi Seki
END:VEVENT
BEGIN:VEVENT
DTSTART;TZID=Europe/Zurich:20260827T083000
DTEND;TZID=Europe/Zurich:20260827T113000
DTSTAMP:20260423T132206
CREATED:20240827T201823Z
LAST-MODIFIED:20241214T024912Z
UID:129601-1787819400-1787830200@cevibasel.ch
SUMMARY:Mütterngruppe
DESCRIPTION:
URL:https://cevibasel.ch/veranstaltung/mutterngruppe-497/
LOCATION:Cevi Seki
END:VEVENT
BEGIN:VEVENT
DTSTART;TZID=Europe/Zurich:20260827T083000
DTEND;TZID=Europe/Zurich:20260827T113000
DTSTAMP:20260423T132206
CREATED:20240827T201823Z
LAST-MODIFIED:20241214T024912Z
UID:129598-1787819400-1787830200@cevibasel.ch
SUMMARY:Mütterngruppe
DESCRIPTION:
URL:https://cevibasel.ch/veranstaltung/mutterngruppe-494/
LOCATION:Cevi Seki
END:VEVENT
BEGIN:VEVENT
DTSTART;TZID=Europe/Zurich:20260827T083000
DTEND;TZID=Europe/Zurich:20260827T113000
DTSTAMP:20260423T132206
CREATED:20240827T201823Z
LAST-MODIFIED:20241214T024915Z
UID:129599-1787819400-1787830200@cevibasel.ch
SUMMARY:Mütterngruppe
DESCRIPTION:
URL:https://cevibasel.ch/veranstaltung/mutterngruppe-495/
LOCATION:Cevi Seki
END:VEVENT
BEGIN:VEVENT
DTSTART;TZID=Europe/Zurich:20260827T083000
DTEND;TZID=Europe/Zurich:20260827T113000
DTSTAMP:20260423T132206
CREATED:20240827T201823Z
LAST-MODIFIED:20241214T024912Z
UID:129600-1787819400-1787830200@cevibasel.ch
SUMMARY:Mütterngruppe
DESCRIPTION:
URL:https://cevibasel.ch/veranstaltung/mutterngruppe-496/
LOCATION:Cevi Seki
END:VEVENT
BEGIN:VEVENT
DTSTART;TZID=Europe/Zurich:20260827T083000
DTEND;TZID=Europe/Zurich:20260827T113000
DTSTAMP:20260423T132206
CREATED:20240827T201824Z
LAST-MODIFIED:20260205T231335Z
UID:129602-1787819400-1787830200@cevibasel.ch
SUMMARY:Mütterngruppe
DESCRIPTION:
URL:https://cevibasel.ch/veranstaltung/mutterngruppe-498/
LOCATION:Cevi Seki
END:VEVENT
BEGIN:VEVENT
DTSTART;TZID=Europe/Zurich:20260827T083000
DTEND;TZID=Europe/Zurich:20260827T113000
DTSTAMP:20260423T132206
CREATED:20240827T201825Z
LAST-MODIFIED:20241214T024911Z
UID:129603-1787819400-1787830200@cevibasel.ch
SUMMARY:Mütterngruppe
DESCRIPTION:
URL:https://cevibasel.ch/veranstaltung/mutterngruppe-499/
LOCATION:Cevi Seki
END:VEVENT
BEGIN:VEVENT
DTSTART;TZID=Europe/Zurich:20260827T083000
DTEND;TZID=Europe/Zurich:20260827T113000
DTSTAMP:20260423T132206
CREATED:20240827T201826Z
LAST-MODIFIED:20241214T024912Z
UID:129604-1787819400-1787830200@cevibasel.ch
SUMMARY:Mütterngruppe
DESCRIPTION:
URL:https://cevibasel.ch/veranstaltung/mutterngruppe-500/
LOCATION:Cevi Seki
END:VEVENT
BEGIN:VEVENT
DTSTART;TZID=Europe/Zurich:20260827T083000
DTEND;TZID=Europe/Zurich:20260827T113000
DTSTAMP:20260423T132206
CREATED:20240827T201826Z
LAST-MODIFIED:20241214T024915Z
UID:129605-1787819400-1787830200@cevibasel.ch
SUMMARY:Mütterngruppe
DESCRIPTION:
URL:https://cevibasel.ch/veranstaltung/mutterngruppe-501/
LOCATION:Cevi Seki
END:VEVENT
BEGIN:VEVENT
DTSTART;TZID=Europe/Zurich:20260828T173000
DTEND;TZID=Europe/Zurich:20260828T190000
DTSTAMP:20260423T132206
CREATED:20240829T004836Z
LAST-MODIFIED:20260205T231346Z
UID:130853-1787938200-1787943600@cevibasel.ch
SUMMARY:Hattrick Basel West (7-15 Jahre)
DESCRIPTION:
URL:https://cevibasel.ch/veranstaltung/hattrick-basel-west-7-15-jahre-171/
END:VEVENT
BEGIN:VEVENT
DTSTART;TZID=Europe/Zurich:20260828T173000
DTEND;TZID=Europe/Zurich:20260828T190000
DTSTAMP:20260423T132206
CREATED:20240829T004836Z
LAST-MODIFIED:20260205T231335Z
UID:130854-1787938200-1787943600@cevibasel.ch
SUMMARY:Hattrick Riehen (4. bis 5. Klasse)
DESCRIPTION:
URL:https://cevibasel.ch/veranstaltung/hattrick-riehen-4-bis-5-klasse-171/
LOCATION:Andreasmatte
END:VEVENT
BEGIN:VEVENT
DTSTART;TZID=Europe/Zurich:20260828T190000
DTEND;TZID=Europe/Zurich:20260828T203000
DTSTAMP:20260423T132206
CREATED:20240829T004836Z
LAST-MODIFIED:20260205T231335Z
UID:130852-1787943600-1787949000@cevibasel.ch
SUMMARY:Hattrick Basel West (16-18 Jahre)
DESCRIPTION:
URL:https://cevibasel.ch/veranstaltung/hattrick-basel-west-16-18-jahre-171/
LOCATION:Fussballfelder Pfaffenholz
END:VEVENT
BEGIN:VEVENT
DTSTART;VALUE=DATE:20260829
DTEND;VALUE=DATE:20260830
DTSTAMP:20260423T132206
CREATED:20251120T030343Z
LAST-MODIFIED:20260205T231346Z
UID:169915-1787961600-1788047999@cevibasel.ch
SUMMARY:Jungschar Angebote
DESCRIPTION:
URL:https://cevibasel.ch/veranstaltung/jungscharangebote-35/
END:VEVENT
BEGIN:VEVENT
DTSTART;VALUE=DATE:20260829
DTEND;VALUE=DATE:20260831
DTSTAMP:20260423T132206
CREATED:20251125T185914Z
LAST-MODIFIED:20260205T231346Z
UID:170154-1787961600-1788134399@cevibasel.ch
SUMMARY:Cevi Beach Cup
DESCRIPTION:
URL:https://cevibasel.ch/veranstaltung/cevi-beach-cup-3/
END:VEVENT
BEGIN:VEVENT
DTSTART;TZID=Europe/Zurich:20260829T133000
DTEND;TZID=Europe/Zurich:20260829T153000
DTSTAMP:20260423T132206
CREATED:20240829T004844Z
LAST-MODIFIED:20251120T120742Z
UID:130860-1788010200-1788017400@cevibasel.ch
SUMMARY:Hattrick Gundeli (6-11 Jahre)
DESCRIPTION:
URL:https://cevibasel.ch/veranstaltung/hattrick-gundeli-6-11-jahre-171/
LOCATION:Margarethenpark
END:VEVENT
BEGIN:VEVENT
DTSTART;TZID=Europe/Zurich:20260829T140000
DTEND;TZID=Europe/Zurich:20260829T170000
DTSTAMP:20260423T132206
CREATED:20240829T004840Z
LAST-MODIFIED:20251117T005433Z
UID:130858-1788012000-1788022800@cevibasel.ch
SUMMARY:Jungschi Binningen
DESCRIPTION:
URL:https://cevibasel.ch/veranstaltung/jungschi-binningen-171/
END:VEVENT
BEGIN:VEVENT
DTSTART;TZID=Europe/Zurich:20260829T140000
DTEND;TZID=Europe/Zurich:20260829T170000
DTSTAMP:20260423T132206
CREATED:20240829T004840Z
LAST-MODIFIED:20251117T005434Z
UID:130859-1788012000-1788022800@cevibasel.ch
SUMMARY:Jungschi Titus
DESCRIPTION:
URL:https://cevibasel.ch/veranstaltung/jungschi-titus-171/
END:VEVENT
BEGIN:VEVENT
DTSTART;TZID=Europe/Zurich:20260829T140000
DTEND;TZID=Europe/Zurich:20260829T170000
DTSTAMP:20260423T132206
CREATED:20240829T004840Z
LAST-MODIFIED:20251117T005434Z
UID:130855-1788012000-1788022800@cevibasel.ch
SUMMARY:Jungschi Bubendorf
DESCRIPTION:
URL:https://cevibasel.ch/veranstaltung/jungschi-bubendorf-171/
END:VEVENT
BEGIN:VEVENT
DTSTART;TZID=Europe/Zurich:20260829T140000
DTEND;TZID=Europe/Zurich:20260829T170000
DTSTAMP:20260423T132206
CREATED:20240829T004840Z
LAST-MODIFIED:20241105T012946Z
UID:130856-1788012000-1788022800@cevibasel.ch
SUMMARY:Jungschi Muttenz
DESCRIPTION:
URL:https://cevibasel.ch/veranstaltung/jungschi-muttenz-171/
END:VEVENT
BEGIN:VEVENT
DTSTART;TZID=Europe/Zurich:20260829T140000
DTEND;TZID=Europe/Zurich:20260829T170000
DTSTAMP:20260423T132206
CREATED:20240829T004840Z
LAST-MODIFIED:20251117T005434Z
UID:130857-1788012000-1788022800@cevibasel.ch
SUMMARY:Jungschi Ettigen & Therwil
DESCRIPTION:
URL:https://cevibasel.ch/veranstaltung/jungschi-ettigen-therwil-171/
END:VEVENT
BEGIN:VEVENT
DTSTART;TZID=Europe/Zurich:20260829T140000
DTEND;TZID=Europe/Zurich:20260829T170000
DTSTAMP:20260423T132206
CREATED:20240829T004844Z
LAST-MODIFIED:20251117T005433Z
UID:130863-1788012000-1788022800@cevibasel.ch
SUMMARY:Jungschi Gotthelf-Neubad
DESCRIPTION:
URL:https://cevibasel.ch/veranstaltung/jungschi-gotthelf-neubad-171/
END:VEVENT
BEGIN:VEVENT
DTSTART;TZID=Europe/Zurich:20260829T140000
DTEND;TZID=Europe/Zurich:20260829T170000
DTSTAMP:20260423T132206
CREATED:20240829T004844Z
LAST-MODIFIED:20251117T005434Z
UID:130864-1788012000-1788022800@cevibasel.ch
SUMMARY:Jungschi Allschwil
DESCRIPTION:
URL:https://cevibasel.ch/veranstaltung/jungschi-allschwil-171/
END:VEVENT
BEGIN:VEVENT
DTSTART;TZID=Europe/Zurich:20260829T140000
DTEND;TZID=Europe/Zurich:20260829T170000
DTSTAMP:20260423T132206
CREATED:20240829T004844Z
LAST-MODIFIED:20251117T005433Z
UID:130861-1788012000-1788022800@cevibasel.ch
SUMMARY:Jungschi Thomas
DESCRIPTION:
URL:https://cevibasel.ch/veranstaltung/jungschi-thomas-171/
END:VEVENT
BEGIN:VEVENT
DTSTART;TZID=Europe/Zurich:20260829T140000
DTEND;TZID=Europe/Zurich:20260829T170000
DTSTAMP:20260423T132206
CREATED:20240829T004844Z
LAST-MODIFIED:20241105T012945Z
UID:130862-1788012000-1788022800@cevibasel.ch
SUMMARY:Jungschi Reinach
DESCRIPTION:
URL:https://cevibasel.ch/veranstaltung/jungschi-reinach-171/
END:VEVENT
BEGIN:VEVENT
DTSTART;TZID=Europe/Zurich:20260831T190000
DTEND;TZID=Europe/Zurich:20260831T203000
DTSTAMP:20260423T132206
CREATED:20240831T011854Z
LAST-MODIFIED:20260205T231346Z
UID:130930-1788202800-1788208200@cevibasel.ch
SUMMARY:Hattrick Men\, 19.00-20.30
DESCRIPTION:
URL:https://cevibasel.ch/veranstaltung/hattrick-men-19-00-20-30-206/
LOCATION:Fussballfelder Pfaffenholz
END:VEVENT
BEGIN:VEVENT
DTSTART;TZID=Europe/Zurich:20260831T203000
DTEND;TZID=Europe/Zurich:20260831T220000
DTSTAMP:20260423T132206
CREATED:20240831T011854Z
LAST-MODIFIED:20260205T231346Z
UID:130929-1788208200-1788213600@cevibasel.ch
SUMMARY:Hattrick Ladies\, 20.30-22.00
DESCRIPTION:
URL:https://cevibasel.ch/veranstaltung/hattrick-ladies-20-30-22-00-207/
LOCATION:Fussballfelder Pfaffenholz
END:VEVENT
BEGIN:VEVENT
DTSTART;TZID=Europe/Zurich:20260901T173000
DTEND;TZID=Europe/Zurich:20260901T190000
DTSTAMP:20260423T132206
CREATED:20240901T004913Z
LAST-MODIFIED:20260205T231349Z
UID:130957-1788283800-1788289200@cevibasel.ch
SUMMARY:Hattrick Riehen (1. bis 3. Klasse)
DESCRIPTION:
URL:https://cevibasel.ch/veranstaltung/hattrick-riehen-1-bis-3-klasse-172/
LOCATION:Fussballplatz Andreasmatte
END:VEVENT
BEGIN:VEVENT
DTSTART;TZID=Europe/Zurich:20260901T180000
DTEND;TZID=Europe/Zurich:20260901T193000
DTSTAMP:20260423T132206
CREATED:20240901T001941Z
LAST-MODIFIED:20260205T231349Z
UID:130955-1788285600-1788291000@cevibasel.ch
SUMMARY:Hattrick Gellert (7-12 Jahre)
DESCRIPTION:
URL:https://cevibasel.ch/veranstaltung/hattrick-gellert-7-12-jahre-172/
LOCATION:Fussballplatz Luftmatt
END:VEVENT
BEGIN:VEVENT
DTSTART;TZID=Europe/Zurich:20260901T190000
DTEND;TZID=Europe/Zurich:20260901T203000
DTSTAMP:20260423T132206
CREATED:20240901T004913Z
LAST-MODIFIED:20260205T231349Z
UID:130958-1788289200-1788294600@cevibasel.ch
SUMMARY:Hattrick Riehen (6. bis 7. Klasse)
DESCRIPTION:
URL:https://cevibasel.ch/veranstaltung/hattrick-riehen-6-bis-7-klasse-172/
LOCATION:Fussballplatz Andreasmatte
END:VEVENT
END:VCALENDAR