BEGIN:VCALENDAR
VERSION:2.0
PRODID:-//Cevi Region Basel - ECPv6.15.20//NONSGML v1.0//EN
CALSCALE:GREGORIAN
METHOD:PUBLISH
X-WR-CALNAME:Cevi Region Basel
X-ORIGINAL-URL:https://cevibasel.ch
X-WR-CALDESC:Events for Cevi Region Basel
REFRESH-INTERVAL;VALUE=DURATION:PT1H
X-Robots-Tag:noindex
X-PUBLISHED-TTL:PT1H
BEGIN:VTIMEZONE
TZID:Europe/Zurich
BEGIN:DAYLIGHT
TZOFFSETFROM:+0100
TZOFFSETTO:+0200
TZNAME:CEST
DTSTART:20260329T010000
END:DAYLIGHT
BEGIN:STANDARD
TZOFFSETFROM:+0200
TZOFFSETTO:+0100
TZNAME:CET
DTSTART:20261025T010000
END:STANDARD
BEGIN:DAYLIGHT
TZOFFSETFROM:+0100
TZOFFSETTO:+0200
TZNAME:CEST
DTSTART:20270328T010000
END:DAYLIGHT
BEGIN:STANDARD
TZOFFSETFROM:+0200
TZOFFSETTO:+0100
TZNAME:CET
DTSTART:20271031T010000
END:STANDARD
BEGIN:DAYLIGHT
TZOFFSETFROM:+0100
TZOFFSETTO:+0200
TZNAME:CEST
DTSTART:20280326T010000
END:DAYLIGHT
BEGIN:STANDARD
TZOFFSETFROM:+0200
TZOFFSETTO:+0100
TZNAME:CET
DTSTART:20281029T010000
END:STANDARD
END:VTIMEZONE
BEGIN:VEVENT
DTSTART;TZID=Europe/Zurich:20270301T190000
DTEND;TZID=Europe/Zurich:20270301T203000
DTSTAMP:20260426T025440
CREATED:20250303T071705Z
LAST-MODIFIED:20260205T063902Z
UID:151021-1803927600-1803933000@cevibasel.ch
SUMMARY:Hattrick Men\, 19.00-20.30
DESCRIPTION:
URL:https://cevibasel.ch/veranstaltung/hattrick-men-19-00-20-30-232/
LOCATION:Fussballfelder Pfaffenholz
END:VEVENT
BEGIN:VEVENT
DTSTART;TZID=Europe/Zurich:20270301T203000
DTEND;TZID=Europe/Zurich:20270301T220000
DTSTAMP:20260426T025440
CREATED:20250303T071705Z
LAST-MODIFIED:20260205T063902Z
UID:151020-1803933000-1803938400@cevibasel.ch
SUMMARY:Hattrick Ladies\, 20.30-22.00
DESCRIPTION:
URL:https://cevibasel.ch/veranstaltung/hattrick-ladies-20-30-22-00-233/
LOCATION:Fussballfelder Pfaffenholz
END:VEVENT
BEGIN:VEVENT
DTSTART;TZID=Europe/Zurich:20270302T173000
DTEND;TZID=Europe/Zurich:20270302T190000
DTSTAMP:20260426T025440
CREATED:20250303T071705Z
LAST-MODIFIED:20260205T063903Z
UID:151022-1804008600-1804014000@cevibasel.ch
SUMMARY:Hattrick Riehen (1. bis 3. Klasse)
DESCRIPTION:
URL:https://cevibasel.ch/veranstaltung/hattrick-riehen-1-bis-3-klasse-198/
LOCATION:Fussballplatz Andreasmatte
END:VEVENT
BEGIN:VEVENT
DTSTART;TZID=Europe/Zurich:20270302T180000
DTEND;TZID=Europe/Zurich:20270302T193000
DTSTAMP:20260426T025440
CREATED:20250303T071706Z
LAST-MODIFIED:20260205T063902Z
UID:151024-1804010400-1804015800@cevibasel.ch
SUMMARY:Hattrick Gellert (7-12 Jahre)
DESCRIPTION:
URL:https://cevibasel.ch/veranstaltung/hattrick-gellert-7-12-jahre-198/
LOCATION:Fussballplatz Luftmatt
END:VEVENT
BEGIN:VEVENT
DTSTART;TZID=Europe/Zurich:20270302T190000
DTEND;TZID=Europe/Zurich:20270302T203000
DTSTAMP:20260426T025440
CREATED:20250303T071706Z
LAST-MODIFIED:20260205T063902Z
UID:151023-1804014000-1804019400@cevibasel.ch
SUMMARY:Hattrick Riehen (6. bis 7. Klasse)
DESCRIPTION:
URL:https://cevibasel.ch/veranstaltung/hattrick-riehen-6-bis-7-klasse-198/
LOCATION:Fussballplatz Andreasmatte
END:VEVENT
BEGIN:VEVENT
DTSTART;TZID=Europe/Zurich:20270303T083000
DTEND;TZID=Europe/Zurich:20270303T110000
DTSTAMP:20260426T025440
CREATED:20250303T071706Z
LAST-MODIFIED:20260205T063903Z
UID:151025-1804062600-1804071600@cevibasel.ch
SUMMARY:Mütterngruppe
DESCRIPTION:
URL:https://cevibasel.ch/veranstaltung/mutterngruppe-576/
LOCATION:Cevi Seki
END:VEVENT
BEGIN:VEVENT
DTSTART;TZID=Europe/Zurich:20270303T183000
DTEND;TZID=Europe/Zurich:20270303T210000
DTSTAMP:20260426T025440
CREATED:20250303T071706Z
LAST-MODIFIED:20260205T063903Z
UID:151026-1804098600-1804107600@cevibasel.ch
SUMMARY:Ten Sing
DESCRIPTION:
URL:https://cevibasel.ch/veranstaltung/ten-sing-197/
LOCATION:CVJM Haus Kleinbasel
END:VEVENT
BEGIN:VEVENT
DTSTART;TZID=Europe/Zurich:20270305T173000
DTEND;TZID=Europe/Zurich:20270305T190000
DTSTAMP:20260426T025440
CREATED:20250529T103328Z
LAST-MODIFIED:20260205T063903Z
UID:159044-1804267800-1804273200@cevibasel.ch
SUMMARY:Hattrick Basel West (7-15 Jahre)
DESCRIPTION:
URL:https://cevibasel.ch/veranstaltung/hattrick-basel-west-7-15-jahre-198/
END:VEVENT
BEGIN:VEVENT
DTSTART;TZID=Europe/Zurich:20270305T173000
DTEND;TZID=Europe/Zurich:20270305T190000
DTSTAMP:20260426T025440
CREATED:20250529T103328Z
LAST-MODIFIED:20260205T063903Z
UID:159045-1804267800-1804273200@cevibasel.ch
SUMMARY:Hattrick Riehen (4. bis 5. Klasse)
DESCRIPTION:
URL:https://cevibasel.ch/veranstaltung/hattrick-riehen-4-bis-5-klasse-198/
LOCATION:Andreasmatte
END:VEVENT
BEGIN:VEVENT
DTSTART;TZID=Europe/Zurich:20270305T190000
DTEND;TZID=Europe/Zurich:20270305T203000
DTSTAMP:20260426T025440
CREATED:20250529T103329Z
LAST-MODIFIED:20260205T063903Z
UID:159046-1804273200-1804278600@cevibasel.ch
SUMMARY:Hattrick Basel West (16-18 Jahre)
DESCRIPTION:
URL:https://cevibasel.ch/veranstaltung/hattrick-basel-west-16-18-jahre-198/
LOCATION:Fussballfelder Pfaffenholz
END:VEVENT
BEGIN:VEVENT
DTSTART;VALUE=DATE:20270306
DTEND;VALUE=DATE:20270307
DTSTAMP:20260426T025440
CREATED:20251120T111747Z
LAST-MODIFIED:20260205T063903Z
UID:170003-1804291200-1804377599@cevibasel.ch
SUMMARY:Jungschar Angebote
DESCRIPTION:
URL:https://cevibasel.ch/veranstaltung/jungscharangebote-62/
END:VEVENT
BEGIN:VEVENT
DTSTART;TZID=Europe/Zurich:20270306T133000
DTEND;TZID=Europe/Zurich:20270306T153000
DTSTAMP:20260426T025440
CREATED:20250529T103330Z
LAST-MODIFIED:20251120T120957Z
UID:159051-1804339800-1804347000@cevibasel.ch
SUMMARY:Hattrick Gundeli (6-11 Jahre)
DESCRIPTION:
URL:https://cevibasel.ch/veranstaltung/hattrick-gundeli-6-11-jahre-198/
LOCATION:Margarethenpark
END:VEVENT
BEGIN:VEVENT
DTSTART;TZID=Europe/Zurich:20270306T140000
DTEND;TZID=Europe/Zurich:20270306T170000
DTSTAMP:20260426T025440
CREATED:20250529T103329Z
LAST-MODIFIED:20251117T005936Z
UID:159048-1804341600-1804352400@cevibasel.ch
SUMMARY:Jungschi Binningen
DESCRIPTION:
URL:https://cevibasel.ch/veranstaltung/jungschi-binningen-198/
END:VEVENT
BEGIN:VEVENT
DTSTART;TZID=Europe/Zurich:20270306T140000
DTEND;TZID=Europe/Zurich:20270306T170000
DTSTAMP:20260426T025440
CREATED:20250529T103329Z
LAST-MODIFIED:20251117T005928Z
UID:159049-1804341600-1804352400@cevibasel.ch
SUMMARY:Jungschi Bubendorf
DESCRIPTION:
URL:https://cevibasel.ch/veranstaltung/jungschi-bubendorf-198/
END:VEVENT
BEGIN:VEVENT
DTSTART;TZID=Europe/Zurich:20270306T140000
DTEND;TZID=Europe/Zurich:20270306T170000
DTSTAMP:20260426T025440
CREATED:20250529T103329Z
LAST-MODIFIED:20251117T005928Z
UID:159050-1804341600-1804352400@cevibasel.ch
SUMMARY:Jungschi Allschwil
DESCRIPTION:
URL:https://cevibasel.ch/veranstaltung/jungschi-allschwil-198/
END:VEVENT
BEGIN:VEVENT
DTSTART;TZID=Europe/Zurich:20270306T140000
DTEND;TZID=Europe/Zurich:20270306T170000
DTSTAMP:20260426T025440
CREATED:20250529T103329Z
LAST-MODIFIED:20251117T005928Z
UID:159047-1804341600-1804352400@cevibasel.ch
SUMMARY:Jungschi Thomas
DESCRIPTION:
URL:https://cevibasel.ch/veranstaltung/jungschi-thomas-198/
END:VEVENT
BEGIN:VEVENT
DTSTART;TZID=Europe/Zurich:20270306T140000
DTEND;TZID=Europe/Zurich:20270306T170000
DTSTAMP:20260426T025440
CREATED:20250529T103330Z
LAST-MODIFIED:20251117T005928Z
UID:159053-1804341600-1804352400@cevibasel.ch
SUMMARY:Jungschi Gotthelf-Neubad
DESCRIPTION:
URL:https://cevibasel.ch/veranstaltung/jungschi-gotthelf-neubad-198/
END:VEVENT
BEGIN:VEVENT
DTSTART;TZID=Europe/Zurich:20270306T140000
DTEND;TZID=Europe/Zurich:20270306T170000
DTSTAMP:20260426T025440
CREATED:20250529T103330Z
LAST-MODIFIED:20251117T005928Z
UID:159054-1804341600-1804352400@cevibasel.ch
SUMMARY:Jungschi Ettigen & Therwil
DESCRIPTION:
URL:https://cevibasel.ch/veranstaltung/jungschi-ettigen-therwil-198/
END:VEVENT
BEGIN:VEVENT
DTSTART;TZID=Europe/Zurich:20270306T140000
DTEND;TZID=Europe/Zurich:20270306T170000
DTSTAMP:20260426T025440
CREATED:20250529T103330Z
LAST-MODIFIED:20251117T005936Z
UID:159052-1804341600-1804352400@cevibasel.ch
SUMMARY:Jungschi Titus
DESCRIPTION:
URL:https://cevibasel.ch/veranstaltung/jungschi-titus-198/
END:VEVENT
BEGIN:VEVENT
DTSTART;TZID=Europe/Zurich:20270308T190000
DTEND;TZID=Europe/Zurich:20270308T203000
DTSTAMP:20260426T025440
CREATED:20250529T103330Z
LAST-MODIFIED:20260205T063904Z
UID:159055-1804532400-1804537800@cevibasel.ch
SUMMARY:Hattrick Men\, 19.00-20.30
DESCRIPTION:
URL:https://cevibasel.ch/veranstaltung/hattrick-men-19-00-20-30-233/
LOCATION:Fussballfelder Pfaffenholz
END:VEVENT
BEGIN:VEVENT
DTSTART;TZID=Europe/Zurich:20270308T203000
DTEND;TZID=Europe/Zurich:20270308T220000
DTSTAMP:20260426T025440
CREATED:20250529T103333Z
LAST-MODIFIED:20260205T063904Z
UID:159056-1804537800-1804543200@cevibasel.ch
SUMMARY:Hattrick Ladies\, 20.30-22.00
DESCRIPTION:
URL:https://cevibasel.ch/veranstaltung/hattrick-ladies-20-30-22-00-234/
LOCATION:Fussballfelder Pfaffenholz
END:VEVENT
BEGIN:VEVENT
DTSTART;TZID=Europe/Zurich:20270309T173000
DTEND;TZID=Europe/Zurich:20270309T190000
DTSTAMP:20260426T025440
CREATED:20250529T103334Z
LAST-MODIFIED:20260205T063904Z
UID:159059-1804613400-1804618800@cevibasel.ch
SUMMARY:Hattrick Riehen (1. bis 3. Klasse)
DESCRIPTION:
URL:https://cevibasel.ch/veranstaltung/hattrick-riehen-1-bis-3-klasse-199/
LOCATION:Fussballplatz Andreasmatte
END:VEVENT
BEGIN:VEVENT
DTSTART;TZID=Europe/Zurich:20270309T180000
DTEND;TZID=Europe/Zurich:20270309T193000
DTSTAMP:20260426T025440
CREATED:20250529T103333Z
LAST-MODIFIED:20260205T063904Z
UID:159057-1804615200-1804620600@cevibasel.ch
SUMMARY:Hattrick Gellert (7-12 Jahre)
DESCRIPTION:
URL:https://cevibasel.ch/veranstaltung/hattrick-gellert-7-12-jahre-199/
LOCATION:Fussballplatz Luftmatt
END:VEVENT
BEGIN:VEVENT
DTSTART;TZID=Europe/Zurich:20270309T190000
DTEND;TZID=Europe/Zurich:20270309T203000
DTSTAMP:20260426T025440
CREATED:20250529T103334Z
LAST-MODIFIED:20260205T063904Z
UID:159058-1804618800-1804624200@cevibasel.ch
SUMMARY:Hattrick Riehen (6. bis 7. Klasse)
DESCRIPTION:
URL:https://cevibasel.ch/veranstaltung/hattrick-riehen-6-bis-7-klasse-199/
LOCATION:Fussballplatz Andreasmatte
END:VEVENT
BEGIN:VEVENT
DTSTART;TZID=Europe/Zurich:20270310T183000
DTEND;TZID=Europe/Zurich:20270310T210000
DTSTAMP:20260426T025440
CREATED:20250529T103334Z
LAST-MODIFIED:20260205T063904Z
UID:159060-1804703400-1804712400@cevibasel.ch
SUMMARY:Ten Sing
DESCRIPTION:
URL:https://cevibasel.ch/veranstaltung/ten-sing-198/
LOCATION:CVJM Haus Kleinbasel
END:VEVENT
BEGIN:VEVENT
DTSTART;TZID=Europe/Zurich:20270311T083000
DTEND;TZID=Europe/Zurich:20270311T113000
DTSTAMP:20260426T025440
CREATED:20250529T103335Z
LAST-MODIFIED:20260205T063904Z
UID:159061-1804753800-1804764600@cevibasel.ch
SUMMARY:Mütterngruppe
DESCRIPTION:
URL:https://cevibasel.ch/veranstaltung/mutterngruppe-577/
LOCATION:Cevi Seki
END:VEVENT
BEGIN:VEVENT
DTSTART;TZID=Europe/Zurich:20270312T173000
DTEND;TZID=Europe/Zurich:20270312T190000
DTSTAMP:20260426T025440
CREATED:20250529T103335Z
LAST-MODIFIED:20260205T063904Z
UID:159064-1804872600-1804878000@cevibasel.ch
SUMMARY:Hattrick Riehen (4. bis 5. Klasse)
DESCRIPTION:
URL:https://cevibasel.ch/veranstaltung/hattrick-riehen-4-bis-5-klasse-199/
LOCATION:Andreasmatte
END:VEVENT
BEGIN:VEVENT
DTSTART;TZID=Europe/Zurich:20270312T173000
DTEND;TZID=Europe/Zurich:20270312T190000
DTSTAMP:20260426T025440
CREATED:20250529T103335Z
LAST-MODIFIED:20260205T063905Z
UID:159062-1804872600-1804878000@cevibasel.ch
SUMMARY:Hattrick Basel West (7-15 Jahre)
DESCRIPTION:
URL:https://cevibasel.ch/veranstaltung/hattrick-basel-west-7-15-jahre-199/
END:VEVENT
BEGIN:VEVENT
DTSTART;TZID=Europe/Zurich:20270312T190000
DTEND;TZID=Europe/Zurich:20270312T203000
DTSTAMP:20260426T025440
CREATED:20250529T103335Z
LAST-MODIFIED:20260205T063905Z
UID:159063-1804878000-1804883400@cevibasel.ch
SUMMARY:Hattrick Basel West (16-18 Jahre)
DESCRIPTION:
URL:https://cevibasel.ch/veranstaltung/hattrick-basel-west-16-18-jahre-199/
LOCATION:Fussballfelder Pfaffenholz
END:VEVENT
BEGIN:VEVENT
DTSTART;VALUE=DATE:20270313
DTEND;VALUE=DATE:20270314
DTSTAMP:20260426T025440
CREATED:20251120T111750Z
LAST-MODIFIED:20260205T063905Z
UID:170004-1804896000-1804982399@cevibasel.ch
SUMMARY:Jungschar Angebote
DESCRIPTION:
URL:https://cevibasel.ch/veranstaltung/jungscharangebote-63/
END:VEVENT
END:VCALENDAR