BEGIN:VCALENDAR
VERSION:2.0
PRODID:-//Cevi Region Basel - ECPv6.15.20//NONSGML v1.0//EN
CALSCALE:GREGORIAN
METHOD:PUBLISH
X-ORIGINAL-URL:https://cevibasel.ch
X-WR-CALDESC:Events for Cevi Region Basel
REFRESH-INTERVAL;VALUE=DURATION:PT1H
X-Robots-Tag:noindex
X-PUBLISHED-TTL:PT1H
BEGIN:VTIMEZONE
TZID:Europe/Zurich
BEGIN:DAYLIGHT
TZOFFSETFROM:+0100
TZOFFSETTO:+0200
TZNAME:CEST
DTSTART:20240331T010000
END:DAYLIGHT
BEGIN:STANDARD
TZOFFSETFROM:+0200
TZOFFSETTO:+0100
TZNAME:CET
DTSTART:20241027T010000
END:STANDARD
BEGIN:DAYLIGHT
TZOFFSETFROM:+0100
TZOFFSETTO:+0200
TZNAME:CEST
DTSTART:20250330T010000
END:DAYLIGHT
BEGIN:STANDARD
TZOFFSETFROM:+0200
TZOFFSETTO:+0100
TZNAME:CET
DTSTART:20251026T010000
END:STANDARD
BEGIN:DAYLIGHT
TZOFFSETFROM:+0100
TZOFFSETTO:+0200
TZNAME:CEST
DTSTART:20260329T010000
END:DAYLIGHT
BEGIN:STANDARD
TZOFFSETFROM:+0200
TZOFFSETTO:+0100
TZNAME:CET
DTSTART:20261025T010000
END:STANDARD
END:VTIMEZONE
BEGIN:VEVENT
DTSTART;TZID=Europe/Zurich:20250812T173000
DTEND;TZID=Europe/Zurich:20250812T190000
DTSTAMP:20260426T034120
CREATED:20240625T134612Z
LAST-MODIFIED:20250812T165025Z
UID:121644-1755019800-1755025200@cevibasel.ch
SUMMARY:Hattrick Riehen (1. bis 3. Klasse)
DESCRIPTION:
URL:https://cevibasel.ch/veranstaltung/hattrick-riehen-1-bis-3-klasse-117/
LOCATION:Fussballplatz Andreasmatte
END:VEVENT
BEGIN:VEVENT
DTSTART;TZID=Europe/Zurich:20250812T180000
DTEND;TZID=Europe/Zurich:20250812T193000
DTSTAMP:20260426T034120
CREATED:20240625T134616Z
LAST-MODIFIED:20250812T172113Z
UID:121646-1755021600-1755027000@cevibasel.ch
SUMMARY:Hattrick Gellert (7-12 Jahre)
DESCRIPTION:
URL:https://cevibasel.ch/veranstaltung/hattrick-gellert-7-12-jahre-117/
LOCATION:Fussballplatz Luftmatt
END:VEVENT
BEGIN:VEVENT
DTSTART;TZID=Europe/Zurich:20250812T190000
DTEND;TZID=Europe/Zurich:20250812T203000
DTSTAMP:20260426T034120
CREATED:20240625T134612Z
LAST-MODIFIED:20250812T182011Z
UID:121645-1755025200-1755030600@cevibasel.ch
SUMMARY:Hattrick Riehen (6. bis 7. Klasse)
DESCRIPTION:
URL:https://cevibasel.ch/veranstaltung/hattrick-riehen-6-bis-7-klasse-117/
LOCATION:Fussballplatz Andreasmatte
END:VEVENT
BEGIN:VEVENT
DTSTART;TZID=Europe/Zurich:20250813T183000
DTEND;TZID=Europe/Zurich:20250813T210000
DTSTAMP:20260426T034120
CREATED:20240625T134616Z
LAST-MODIFIED:20250813T185147Z
UID:121647-1755109800-1755118800@cevibasel.ch
SUMMARY:Ten Sing
DESCRIPTION:
URL:https://cevibasel.ch/veranstaltung/ten-sing-116/
LOCATION:CVJM Haus Kleinbasel
END:VEVENT
BEGIN:VEVENT
DTSTART;TZID=Europe/Zurich:20250814T083000
DTEND;TZID=Europe/Zurich:20250814T113000
DTSTAMP:20260426T034120
CREATED:20240812T101802Z
LAST-MODIFIED:20241227T021906Z
UID:127566-1755160200-1755171000@cevibasel.ch
SUMMARY:Mütterngruppe
DESCRIPTION:
URL:https://cevibasel.ch/veranstaltung/mutterngruppe-224/
LOCATION:Cevi Seki
END:VEVENT
BEGIN:VEVENT
DTSTART;TZID=Europe/Zurich:20250814T083000
DTEND;TZID=Europe/Zurich:20250814T113000
DTSTAMP:20260426T034120
CREATED:20240812T101802Z
LAST-MODIFIED:20241227T021905Z
UID:127567-1755160200-1755171000@cevibasel.ch
SUMMARY:Mütterngruppe
DESCRIPTION:
URL:https://cevibasel.ch/veranstaltung/mutterngruppe-225/
LOCATION:Cevi Seki
END:VEVENT
BEGIN:VEVENT
DTSTART;TZID=Europe/Zurich:20250814T083000
DTEND;TZID=Europe/Zurich:20250814T113000
DTSTAMP:20260426T034120
CREATED:20240812T101802Z
LAST-MODIFIED:20241227T021906Z
UID:127565-1755160200-1755171000@cevibasel.ch
SUMMARY:Mütterngruppe
DESCRIPTION:
URL:https://cevibasel.ch/veranstaltung/mutterngruppe-223/
LOCATION:Cevi Seki
END:VEVENT
BEGIN:VEVENT
DTSTART;TZID=Europe/Zurich:20250814T083000
DTEND;TZID=Europe/Zurich:20250814T113000
DTSTAMP:20260426T034120
CREATED:20240812T101806Z
LAST-MODIFIED:20250113T111821Z
UID:127572-1755160200-1755171000@cevibasel.ch
SUMMARY:Mütterngruppe
DESCRIPTION:
URL:https://cevibasel.ch/veranstaltung/mutterngruppe-230/
LOCATION:Cevi Seki
END:VEVENT
BEGIN:VEVENT
DTSTART;TZID=Europe/Zurich:20250814T083000
DTEND;TZID=Europe/Zurich:20250814T113000
DTSTAMP:20260426T034120
CREATED:20240812T101806Z
LAST-MODIFIED:20250814T091948Z
UID:127568-1755160200-1755171000@cevibasel.ch
SUMMARY:Mütterngruppe
DESCRIPTION:
URL:https://cevibasel.ch/veranstaltung/mutterngruppe-226/
LOCATION:Cevi Seki
END:VEVENT
BEGIN:VEVENT
DTSTART;TZID=Europe/Zurich:20250814T083000
DTEND;TZID=Europe/Zurich:20250814T113000
DTSTAMP:20260426T034120
CREATED:20240812T101806Z
LAST-MODIFIED:20241227T021905Z
UID:127569-1755160200-1755171000@cevibasel.ch
SUMMARY:Mütterngruppe
DESCRIPTION:
URL:https://cevibasel.ch/veranstaltung/mutterngruppe-227/
LOCATION:Cevi Seki
END:VEVENT
BEGIN:VEVENT
DTSTART;TZID=Europe/Zurich:20250814T083000
DTEND;TZID=Europe/Zurich:20250814T113000
DTSTAMP:20260426T034120
CREATED:20240812T101806Z
LAST-MODIFIED:20241227T021904Z
UID:127570-1755160200-1755171000@cevibasel.ch
SUMMARY:Mütterngruppe
DESCRIPTION:
URL:https://cevibasel.ch/veranstaltung/mutterngruppe-228/
LOCATION:Cevi Seki
END:VEVENT
BEGIN:VEVENT
DTSTART;TZID=Europe/Zurich:20250814T083000
DTEND;TZID=Europe/Zurich:20250814T113000
DTSTAMP:20260426T034120
CREATED:20240812T101806Z
LAST-MODIFIED:20250113T111821Z
UID:127571-1755160200-1755171000@cevibasel.ch
SUMMARY:Mütterngruppe
DESCRIPTION:
URL:https://cevibasel.ch/veranstaltung/mutterngruppe-229/
LOCATION:Cevi Seki
END:VEVENT
BEGIN:VEVENT
DTSTART;TZID=Europe/Zurich:20250814T083000
DTEND;TZID=Europe/Zurich:20250814T113000
DTSTAMP:20260426T034120
CREATED:20240812T101810Z
LAST-MODIFIED:20241227T021904Z
UID:127573-1755160200-1755171000@cevibasel.ch
SUMMARY:Mütterngruppe
DESCRIPTION:
URL:https://cevibasel.ch/veranstaltung/mutterngruppe-231/
LOCATION:Cevi Seki
END:VEVENT
BEGIN:VEVENT
DTSTART;TZID=Europe/Zurich:20250815T173000
DTEND;TZID=Europe/Zurich:20250815T190000
DTSTAMP:20260426T034120
CREATED:20240625T134616Z
LAST-MODIFIED:20250815T165334Z
UID:121649-1755279000-1755284400@cevibasel.ch
SUMMARY:Hattrick Riehen (4. bis 5. Klasse)
DESCRIPTION:
URL:https://cevibasel.ch/veranstaltung/hattrick-riehen-4-bis-5-klasse-117/
LOCATION:Andreasmatte
END:VEVENT
BEGIN:VEVENT
DTSTART;TZID=Europe/Zurich:20250815T173000
DTEND;TZID=Europe/Zurich:20250815T190000
DTSTAMP:20260426T034120
CREATED:20240625T134616Z
LAST-MODIFIED:20250815T165334Z
UID:121650-1755279000-1755284400@cevibasel.ch
SUMMARY:Hattrick Basel West (7-15 Jahre)
DESCRIPTION:
URL:https://cevibasel.ch/veranstaltung/hattrick-basel-west-7-15-jahre-117/
END:VEVENT
BEGIN:VEVENT
DTSTART;TZID=Europe/Zurich:20250815T190000
DTEND;TZID=Europe/Zurich:20250815T203000
DTSTAMP:20260426T034120
CREATED:20240625T134616Z
LAST-MODIFIED:20250815T182157Z
UID:121648-1755284400-1755289800@cevibasel.ch
SUMMARY:Hattrick Basel West (16-18 Jahre)
DESCRIPTION:
URL:https://cevibasel.ch/veranstaltung/hattrick-basel-west-16-18-jahre-117/
LOCATION:Fussballfelder Pfaffenholz
END:VEVENT
BEGIN:VEVENT
DTSTART;TZID=Europe/Zurich:20250816T133000
DTEND;TZID=Europe/Zurich:20250816T153000
DTSTAMP:20260426T034120
CREATED:20240625T134624Z
LAST-MODIFIED:20250816T132020Z
UID:121660-1755351000-1755358200@cevibasel.ch
SUMMARY:Hattrick Gundeli (6-11 Jahre)
DESCRIPTION:
URL:https://cevibasel.ch/veranstaltung/hattrick-gundeli-6-11-jahre-117/
LOCATION:Margarethenpark
END:VEVENT
BEGIN:VEVENT
DTSTART;TZID=Europe/Zurich:20250816T140000
DTEND;TZID=Europe/Zurich:20250816T170000
DTSTAMP:20260426T034120
CREATED:20240625T134620Z
LAST-MODIFIED:20241105T110001Z
UID:121655-1755352800-1755363600@cevibasel.ch
SUMMARY:Jungschi Reinach
DESCRIPTION:
URL:https://cevibasel.ch/veranstaltung/jungschi-reinach-117/
END:VEVENT
BEGIN:VEVENT
DTSTART;TZID=Europe/Zurich:20250816T140000
DTEND;TZID=Europe/Zurich:20250816T170000
DTSTAMP:20260426T034120
CREATED:20240625T134620Z
LAST-MODIFIED:20250816T145157Z
UID:121651-1755352800-1755363600@cevibasel.ch
SUMMARY:Jungschi Thomas
DESCRIPTION:
URL:https://cevibasel.ch/veranstaltung/jungschi-thomas-117/
END:VEVENT
BEGIN:VEVENT
DTSTART;TZID=Europe/Zurich:20250816T140000
DTEND;TZID=Europe/Zurich:20250816T170000
DTSTAMP:20260426T034120
CREATED:20240625T134620Z
LAST-MODIFIED:20241105T110000Z
UID:121652-1755352800-1755363600@cevibasel.ch
SUMMARY:Jungschi Muttenz
DESCRIPTION:
URL:https://cevibasel.ch/veranstaltung/jungschi-muttenz-117/
END:VEVENT
BEGIN:VEVENT
DTSTART;TZID=Europe/Zurich:20250816T140000
DTEND;TZID=Europe/Zurich:20250816T170000
DTSTAMP:20260426T034120
CREATED:20240625T134620Z
LAST-MODIFIED:20250816T145240Z
UID:121653-1755352800-1755363600@cevibasel.ch
SUMMARY:Jungschi Allschwil
DESCRIPTION:
URL:https://cevibasel.ch/veranstaltung/jungschi-allschwil-117/
END:VEVENT
BEGIN:VEVENT
DTSTART;TZID=Europe/Zurich:20250816T140000
DTEND;TZID=Europe/Zurich:20250816T170000
DTSTAMP:20260426T034120
CREATED:20240625T134620Z
LAST-MODIFIED:20250816T145240Z
UID:121654-1755352800-1755363600@cevibasel.ch
SUMMARY:Jungschi Gotthelf-Neubad
DESCRIPTION:
URL:https://cevibasel.ch/veranstaltung/jungschi-gotthelf-neubad-117/
END:VEVENT
BEGIN:VEVENT
DTSTART;TZID=Europe/Zurich:20250816T140000
DTEND;TZID=Europe/Zurich:20250816T170000
DTSTAMP:20260426T034120
CREATED:20240625T134623Z
LAST-MODIFIED:20250816T145157Z
UID:121656-1755352800-1755363600@cevibasel.ch
SUMMARY:Jungschi Bubendorf
DESCRIPTION:
URL:https://cevibasel.ch/veranstaltung/jungschi-bubendorf-117/
END:VEVENT
BEGIN:VEVENT
DTSTART;TZID=Europe/Zurich:20250816T140000
DTEND;TZID=Europe/Zurich:20250816T170000
DTSTAMP:20260426T034120
CREATED:20240625T134623Z
LAST-MODIFIED:20250816T145157Z
UID:121657-1755352800-1755363600@cevibasel.ch
SUMMARY:Jungschi Ettigen & Therwil
DESCRIPTION:
URL:https://cevibasel.ch/veranstaltung/jungschi-ettigen-therwil-117/
END:VEVENT
BEGIN:VEVENT
DTSTART;TZID=Europe/Zurich:20250816T140000
DTEND;TZID=Europe/Zurich:20250816T170000
DTSTAMP:20260426T034120
CREATED:20240625T134623Z
LAST-MODIFIED:20250816T145157Z
UID:121658-1755352800-1755363600@cevibasel.ch
SUMMARY:Jungschi Titus
DESCRIPTION:
URL:https://cevibasel.ch/veranstaltung/jungschi-titus-117/
END:VEVENT
BEGIN:VEVENT
DTSTART;TZID=Europe/Zurich:20250816T140000
DTEND;TZID=Europe/Zurich:20250816T170000
DTSTAMP:20260426T034120
CREATED:20240625T134624Z
LAST-MODIFIED:20250816T145157Z
UID:121659-1755352800-1755363600@cevibasel.ch
SUMMARY:Jungschi Binningen
DESCRIPTION:
URL:https://cevibasel.ch/veranstaltung/jungschi-binningen-117/
END:VEVENT
BEGIN:VEVENT
DTSTART;TZID=Europe/Zurich:20250818T190000
DTEND;TZID=Europe/Zurich:20250818T203000
DTSTAMP:20260426T034120
CREATED:20240625T134625Z
LAST-MODIFIED:20250818T182159Z
UID:121661-1755543600-1755549000@cevibasel.ch
SUMMARY:Hattrick Men\, 19.00-20.30
DESCRIPTION:
URL:https://cevibasel.ch/veranstaltung/hattrick-men-19-00-20-30-152/
LOCATION:Fussballfelder Pfaffenholz
END:VEVENT
BEGIN:VEVENT
DTSTART;TZID=Europe/Zurich:20250818T203000
DTEND;TZID=Europe/Zurich:20250818T220000
DTSTAMP:20260426T034120
CREATED:20240625T134625Z
LAST-MODIFIED:20250818T194958Z
UID:121662-1755549000-1755554400@cevibasel.ch
SUMMARY:Hattrick Ladies\, 20.30-22.00
DESCRIPTION:
URL:https://cevibasel.ch/veranstaltung/hattrick-ladies-20-30-22-00-153/
LOCATION:Fussballfelder Pfaffenholz
END:VEVENT
BEGIN:VEVENT
DTSTART;TZID=Europe/Zurich:20250819T173000
DTEND;TZID=Europe/Zurich:20250819T190000
DTSTAMP:20260426T034120
CREATED:20240625T134626Z
LAST-MODIFIED:20250819T164947Z
UID:121663-1755624600-1755630000@cevibasel.ch
SUMMARY:Hattrick Riehen (1. bis 3. Klasse)
DESCRIPTION:
URL:https://cevibasel.ch/veranstaltung/hattrick-riehen-1-bis-3-klasse-118/
LOCATION:Fussballplatz Andreasmatte
END:VEVENT
BEGIN:VEVENT
DTSTART;TZID=Europe/Zurich:20250819T180000
DTEND;TZID=Europe/Zurich:20250819T193000
DTSTAMP:20260426T034120
CREATED:20240625T134626Z
LAST-MODIFIED:20250819T172112Z
UID:121665-1755626400-1755631800@cevibasel.ch
SUMMARY:Hattrick Gellert (7-12 Jahre)
DESCRIPTION:
URL:https://cevibasel.ch/veranstaltung/hattrick-gellert-7-12-jahre-118/
LOCATION:Fussballplatz Luftmatt
END:VEVENT
END:VCALENDAR